| Back to Multiple platform build/check report for BioC 3.12 |
|
This page was generated on 2021-05-06 12:34:00 -0400 (Thu, 06 May 2021).
|
To the developers/maintainers of the tomoda package: Please make sure to use the following settings in order to reproduce any error or warning you see on this page. |
| Package 1875/1974 | Hostname | OS / Arch | INSTALL | BUILD | CHECK | BUILD BIN | ||||||||
| tomoda 1.0.0 (landing page) Wendao Liu
| malbec1 | Linux (Ubuntu 18.04.5 LTS) / x86_64 | OK | OK | OK | |||||||||
| tokay1 | Windows Server 2012 R2 Standard / x64 | OK | OK | OK | OK | |||||||||
| merida1 | macOS 10.14.6 Mojave / x86_64 | OK | OK | OK | OK | |||||||||
| Package: tomoda |
| Version: 1.0.0 |
| Command: rm -rf tomoda.buildbin-libdir && mkdir tomoda.buildbin-libdir && C:\Users\biocbuild\bbs-3.12-bioc\R\bin\R.exe CMD INSTALL --merge-multiarch --build --library=tomoda.buildbin-libdir tomoda_1.0.0.tar.gz |
| StartedAt: 2021-05-06 10:17:04 -0400 (Thu, 06 May 2021) |
| EndedAt: 2021-05-06 10:17:42 -0400 (Thu, 06 May 2021) |
| EllapsedTime: 38.5 seconds |
| RetCode: 0 |
| Status: OK |
| PackageFile: tomoda_1.0.0.zip |
| PackageFileSize: 1.981 MiB |
##############################################################################
##############################################################################
###
### Running command:
###
### rm -rf tomoda.buildbin-libdir && mkdir tomoda.buildbin-libdir && C:\Users\biocbuild\bbs-3.12-bioc\R\bin\R.exe CMD INSTALL --merge-multiarch --build --library=tomoda.buildbin-libdir tomoda_1.0.0.tar.gz
###
##############################################################################
##############################################################################
install for i386
* installing *source* package 'tomoda' ...
** using staged installation
** R
** data
** inst
** byte-compile and prepare package for lazy loading
** help
*** installing help indices
converting help for package 'tomoda'
finding HTML links ... done
corHeatmap html
createTomo html
embedPlot html
expHeatmap html
findPeak html
findPeakGene html
geneCorHeatmap html
geneEmbedPlot html
hierarchClust html
kmeansClust html
linePlot html
normalizeTomo html
runPCA html
runTSNE html
runUMAP html
scaleTomo html
tomoMatrix html
tomoSummarizedExperiment html
zh.data html
** building package indices
** installing vignettes
** testing if installed package can be loaded from temporary location
** testing if installed package can be loaded from final location
** testing if installed package keeps a record of temporary installation path
install for x64
* installing *source* package 'tomoda' ...
** testing if installed package can be loaded
* MD5 sums
packaged installation of 'tomoda' as tomoda_1.0.0.zip
* DONE (tomoda)