| Back to Multiple platform build/check report for BioC 3.12 |
|
This page was generated on 2021-05-06 12:36:47 -0400 (Thu, 06 May 2021).
|
To the developers/maintainers of the shinyTANDEM package: Please make sure to use the following settings in order to reproduce any error or warning you see on this page. |
| Package 1696/1974 | Hostname | OS / Arch | INSTALL | BUILD | CHECK | BUILD BIN | ||||||||
Frederic Fournier
| malbec1 | Linux (Ubuntu 18.04.5 LTS) / x86_64 | OK | OK | WARNINGS | |||||||||
| tokay1 | Windows Server 2012 R2 Standard / x64 | OK | OK | WARNINGS | OK | |||||||||
| merida1 | macOS 10.14.6 Mojave / x86_64 | ERROR | ERROR | skipped | skipped | |||||||||
| Package: shinyTANDEM |
| Version: 1.28.0 |
| Command: /Library/Frameworks/R.framework/Versions/Current/Resources/bin/R CMD build --keep-empty-dirs --no-resave-data shinyTANDEM |
| StartedAt: 2021-05-05 22:11:39 -0400 (Wed, 05 May 2021) |
| EndedAt: 2021-05-05 22:11:54 -0400 (Wed, 05 May 2021) |
| EllapsedTime: 15.0 seconds |
| RetCode: 1 |
| Status: ERROR |
| PackageFile: None |
| PackageFileSize: NA |
##############################################################################
##############################################################################
###
### Running command:
###
### /Library/Frameworks/R.framework/Versions/Current/Resources/bin/R CMD build --keep-empty-dirs --no-resave-data shinyTANDEM
###
##############################################################################
##############################################################################
* checking for file ‘shinyTANDEM/DESCRIPTION’ ... OK
* preparing ‘shinyTANDEM’:
* checking DESCRIPTION meta-information ... OK
* installing the package to build vignettes
-----------------------------------
ERROR: dependency ‘rTANDEM’ is not available for package ‘shinyTANDEM’
* removing ‘/private/tmp/RtmpXpiT2Q/Rinst185325470884b/shinyTANDEM’
-----------------------------------
ERROR: package installation failed