| Back to Multiple platform build/check report for BioC 3.12 |
|
This page was generated on 2021-05-06 12:29:06 -0400 (Thu, 06 May 2021).
|
To the developers/maintainers of the shinyTANDEM package: Please make sure to use the following settings in order to reproduce any error or warning you see on this page. |
| Package 1696/1974 | Hostname | OS / Arch | INSTALL | BUILD | CHECK | BUILD BIN | ||||||||
Frederic Fournier
| malbec1 | Linux (Ubuntu 18.04.5 LTS) / x86_64 | OK | OK | WARNINGS | |||||||||
| tokay1 | Windows Server 2012 R2 Standard / x64 | OK | OK | WARNINGS | OK | |||||||||
| merida1 | macOS 10.14.6 Mojave / x86_64 | ERROR | ERROR | skipped | skipped | |||||||||
| Package: shinyTANDEM |
| Version: 1.28.0 |
| Command: /home/biocbuild/bbs-3.12-bioc/R/bin/R CMD build --keep-empty-dirs --no-resave-data shinyTANDEM |
| StartedAt: 2021-05-05 21:57:59 -0400 (Wed, 05 May 2021) |
| EndedAt: 2021-05-05 21:58:15 -0400 (Wed, 05 May 2021) |
| EllapsedTime: 16.5 seconds |
| RetCode: 0 |
| Status: OK |
| PackageFile: shinyTANDEM_1.28.0.tar.gz |
| PackageFileSize: 593.7 KiB |
##############################################################################
##############################################################################
###
### Running command:
###
### /home/biocbuild/bbs-3.12-bioc/R/bin/R CMD build --keep-empty-dirs --no-resave-data shinyTANDEM
###
##############################################################################
##############################################################################
* checking for file ‘shinyTANDEM/DESCRIPTION’ ... OK
* preparing ‘shinyTANDEM’:
* checking DESCRIPTION meta-information ... OK
* installing the package to build vignettes
* creating vignettes ... OK
Warning: ‘inst/doc’ file
‘shinyTANDEM.Rnw’
ignored as vignettes have been rebuilt.
Run R CMD build with --no-build-vignettes to prevent rebuilding.
* checking for LF line-endings in source and make files and shell scripts
* checking for empty or unneeded directories
* building ‘shinyTANDEM_1.28.0.tar.gz’