| Back to Multiple platform build/check report for BioC 3.12 | 
  | 
This page was generated on 2021-05-06 12:29:00 -0400 (Thu, 06 May 2021).
| 
To the developers/maintainers of the scater package: Please make sure to use the following settings in order to reproduce any error or warning you see on this page.  | 
| Package 1629/1974 | Hostname | OS / Arch | INSTALL | BUILD | CHECK | BUILD BIN | ||||||||
| scater 1.18.6  (landing page) Alan O'Callaghan 
  | malbec1 | Linux (Ubuntu 18.04.5 LTS) / x86_64 | OK | OK | OK | |||||||||
| tokay1 | Windows Server 2012 R2 Standard / x64 | OK | OK | WARNINGS | OK | |||||||||
| merida1 | macOS 10.14.6 Mojave / x86_64 | OK | OK | OK | OK | |||||||||
| Package: scater | 
| Version: 1.18.6 | 
| Command: /home/biocbuild/bbs-3.12-bioc/R/bin/R CMD check --install=check:scater.install-out.txt --library=/home/biocbuild/bbs-3.12-bioc/R/library --no-vignettes --timings scater_1.18.6.tar.gz | 
| StartedAt: 2021-05-06 05:40:08 -0400 (Thu, 06 May 2021) | 
| EndedAt: 2021-05-06 05:50:49 -0400 (Thu, 06 May 2021) | 
| EllapsedTime: 640.8 seconds | 
| RetCode: 0 | 
| Status: OK | 
| CheckDir: scater.Rcheck | 
| Warnings: 0 | 
##############################################################################
##############################################################################
###
### Running command:
###
###   /home/biocbuild/bbs-3.12-bioc/R/bin/R CMD check --install=check:scater.install-out.txt --library=/home/biocbuild/bbs-3.12-bioc/R/library --no-vignettes --timings scater_1.18.6.tar.gz
###
##############################################################################
##############################################################################
* using log directory ‘/home/biocbuild/bbs-3.12-bioc/meat/scater.Rcheck’
* using R version 4.0.5 (2021-03-31)
* using platform: x86_64-pc-linux-gnu (64-bit)
* using session charset: UTF-8
* using option ‘--no-vignettes’
* checking for file ‘scater/DESCRIPTION’ ... OK
* checking extension type ... Package
* this is package ‘scater’ version ‘1.18.6’
* package encoding: UTF-8
* checking package namespace information ... OK
* checking package dependencies ... OK
* checking if this is a source package ... OK
* checking if there is a namespace ... OK
* checking for hidden files and directories ... OK
* checking for portable file names ... OK
* checking for sufficient/correct file permissions ... OK
* checking whether package ‘scater’ can be installed ... OK
* checking installed package size ... OK
* checking package directory ... OK
* checking ‘build’ directory ... OK
* checking DESCRIPTION meta-information ... OK
* checking top-level files ... OK
* checking for left-over files ... OK
* checking index information ... OK
* checking package subdirectories ... OK
* checking R files for non-ASCII characters ... OK
* checking R files for syntax errors ... OK
* checking whether the package can be loaded ... OK
* checking whether the package can be loaded with stated dependencies ... OK
* checking whether the package can be unloaded cleanly ... OK
* checking whether the namespace can be loaded with stated dependencies ... OK
* checking whether the namespace can be unloaded cleanly ... OK
* checking dependencies in R code ... NOTE
'library' or 'require' call to ‘NMF’ in package code.
  Please use :: or requireNamespace() instead.
  See section 'Suggested packages' in the 'Writing R Extensions' manual.
* checking S3 generic/method consistency ... OK
* checking replacement functions ... OK
* checking foreign function calls ... OK
* checking R code for possible problems ... OK
* checking Rd files ... OK
* checking Rd metadata ... OK
* checking Rd cross-references ... OK
* checking for missing documentation entries ... OK
* checking for code/documentation mismatches ... OK
* checking Rd \usage sections ... OK
* checking Rd contents ... OK
* checking for unstated dependencies in examples ... OK
* checking files in ‘vignettes’ ... OK
* checking examples ... OK
Examples with CPU (user + system) or elapsed time > 5s
               user system elapsed
runNMF       16.896  0.320  17.374
plotRLE       8.844  0.528   9.602
runMultiUMAP  6.952  0.004   6.987
plot_reddim   5.896  0.028   6.140
runUMAP       5.044  0.000   5.255
* checking for unstated dependencies in ‘tests’ ... OK
* checking tests ...
  Running ‘testthat.R’
 OK
* checking for unstated dependencies in vignettes ... OK
* checking package vignettes in ‘inst/doc’ ... OK
* checking running R code from vignettes ... SKIPPED
* checking re-building of vignette outputs ... SKIPPED
* checking PDF version of manual ... OK
* DONE
Status: 1 NOTE
See
  ‘/home/biocbuild/bbs-3.12-bioc/meat/scater.Rcheck/00check.log’
for details.
scater.Rcheck/00install.out
############################################################################## ############################################################################## ### ### Running command: ### ### /home/biocbuild/bbs-3.12-bioc/R/bin/R CMD INSTALL scater ### ############################################################################## ############################################################################## * installing to library ‘/home/biocbuild/bbs-3.12-bioc/R/library’ * installing *source* package ‘scater’ ... ** using staged installation ** R ** inst ** byte-compile and prepare package for lazy loading ** help *** installing help indices ** building package indices ** installing vignettes ** testing if installed package can be loaded from temporary location ** testing if installed package can be loaded from final location ** testing if installed package keeps a record of temporary installation path * DONE (scater)
scater.Rcheck/tests/testthat.Rout
R version 4.0.5 (2021-03-31) -- "Shake and Throw"
Copyright (C) 2021 The R Foundation for Statistical Computing
Platform: x86_64-pc-linux-gnu (64-bit)
R is free software and comes with ABSOLUTELY NO WARRANTY.
You are welcome to redistribute it under certain conditions.
Type 'license()' or 'licence()' for distribution details.
R is a collaborative project with many contributors.
Type 'contributors()' for more information and
'citation()' on how to cite R or R packages in publications.
Type 'demo()' for some demos, 'help()' for on-line help, or
'help.start()' for an HTML browser interface to help.
Type 'q()' to quit R.
> Sys.setenv("R_TESTS" = "")
> library(testthat)
> library(scater)
Loading required package: SingleCellExperiment
Loading required package: SummarizedExperiment
Loading required package: MatrixGenerics
Loading required package: matrixStats
Attaching package: 'MatrixGenerics'
The following objects are masked from 'package:matrixStats':
    colAlls, colAnyNAs, colAnys, colAvgsPerRowSet, colCollapse,
    colCounts, colCummaxs, colCummins, colCumprods, colCumsums,
    colDiffs, colIQRDiffs, colIQRs, colLogSumExps, colMadDiffs,
    colMads, colMaxs, colMeans2, colMedians, colMins, colOrderStats,
    colProds, colQuantiles, colRanges, colRanks, colSdDiffs, colSds,
    colSums2, colTabulates, colVarDiffs, colVars, colWeightedMads,
    colWeightedMeans, colWeightedMedians, colWeightedSds,
    colWeightedVars, rowAlls, rowAnyNAs, rowAnys, rowAvgsPerColSet,
    rowCollapse, rowCounts, rowCummaxs, rowCummins, rowCumprods,
    rowCumsums, rowDiffs, rowIQRDiffs, rowIQRs, rowLogSumExps,
    rowMadDiffs, rowMads, rowMaxs, rowMeans2, rowMedians, rowMins,
    rowOrderStats, rowProds, rowQuantiles, rowRanges, rowRanks,
    rowSdDiffs, rowSds, rowSums2, rowTabulates, rowVarDiffs, rowVars,
    rowWeightedMads, rowWeightedMeans, rowWeightedMedians,
    rowWeightedSds, rowWeightedVars
Loading required package: GenomicRanges
Loading required package: stats4
Loading required package: BiocGenerics
Loading required package: parallel
Attaching package: 'BiocGenerics'
The following objects are masked from 'package:parallel':
    clusterApply, clusterApplyLB, clusterCall, clusterEvalQ,
    clusterExport, clusterMap, parApply, parCapply, parLapply,
    parLapplyLB, parRapply, parSapply, parSapplyLB
The following objects are masked from 'package:stats':
    IQR, mad, sd, var, xtabs
The following objects are masked from 'package:base':
    Filter, Find, Map, Position, Reduce, anyDuplicated, append,
    as.data.frame, basename, cbind, colnames, dirname, do.call,
    duplicated, eval, evalq, get, grep, grepl, intersect, is.unsorted,
    lapply, mapply, match, mget, order, paste, pmax, pmax.int, pmin,
    pmin.int, rank, rbind, rownames, sapply, setdiff, sort, table,
    tapply, union, unique, unsplit, which.max, which.min
Loading required package: S4Vectors
Attaching package: 'S4Vectors'
The following object is masked from 'package:base':
    expand.grid
Loading required package: IRanges
Loading required package: GenomeInfoDb
Loading required package: Biobase
Welcome to Bioconductor
    Vignettes contain introductory material; view with
    'browseVignettes()'. To cite Bioconductor, see
    'citation("Biobase")', and for packages 'citation("pkgname")'.
Attaching package: 'Biobase'
The following object is masked from 'package:MatrixGenerics':
    rowMedians
The following objects are masked from 'package:matrixStats':
    anyMissing, rowMedians
Loading required package: ggplot2
> 
> test_check("scater")
Loading required package: Matrix
Attaching package: 'Matrix'
The following object is masked from 'package:S4Vectors':
    expand
Attaching package: 'DelayedArray'
The following objects are masked from 'package:base':
    aperm, apply, rowsum
[ FAIL 0 | WARN 0 | SKIP 0 | PASS 542 ]
> 
> proc.time()
   user  system elapsed 
340.864   3.304 346.809 
scater.Rcheck/scater-Ex.timings
| name | user | system | elapsed | |
| accessors | 1.884 | 0.024 | 1.908 | |
| annotateBMFeatures | 0 | 0 | 0 | |
| batchCorrectedAverages | 0.136 | 0.004 | 0.278 | |
| bootstraps | 0.348 | 0.000 | 0.349 | |
| defunct | 0 | 0 | 0 | |
| getExplanatoryPCs | 1.032 | 0.008 | 1.042 | |
| getVarianceExplained | 0.432 | 0.000 | 0.434 | |
| ggsce | 2.680 | 0.056 | 2.742 | |
| multiplot | 0.032 | 0.000 | 0.032 | |
| nexprs | 0.420 | 0.012 | 0.430 | |
| plotColData | 2.684 | 0.032 | 2.732 | |
| plotDots | 1.284 | 0.012 | 1.298 | |
| plotExplanatoryPCs | 1.596 | 0.000 | 1.598 | |
| plotExplanatoryVariables | 0.892 | 0.004 | 0.899 | |
| plotExpression | 3.836 | 0.008 | 3.850 | |
| plotGroupedHeatmap | 0.852 | 0.008 | 0.860 | |
| plotHeatmap | 0.948 | 0.004 | 0.952 | |
| plotHighestExprs | 2.004 | 0.004 | 2.009 | |
| plotPlatePosition | 1.596 | 0.012 | 1.610 | |
| plotRLE | 8.844 | 0.528 | 9.602 | |
| plotReducedDim | 3.740 | 0.012 | 3.761 | |
| plotRowData | 0.684 | 0.000 | 0.683 | |
| plotScater | 4.168 | 0.020 | 4.213 | |
| plot_reddim | 5.896 | 0.028 | 6.140 | |
| retrieveCellInfo | 0.404 | 0.000 | 0.406 | |
| retrieveFeatureInfo | 0.428 | 0.000 | 0.428 | |
| runColDataPCA | 0.880 | 0.000 | 0.883 | |
| runDiffusionMap | 0.972 | 0.000 | 0.973 | |
| runMDS | 0.876 | 0.000 | 0.875 | |
| runMultiUMAP | 6.952 | 0.004 | 6.987 | |
| runNMF | 16.896 | 0.320 | 17.374 | |
| runPCA | 1.14 | 0.00 | 1.17 | |
| runTSNE | 1.848 | 0.004 | 1.853 | |
| runUMAP | 5.044 | 0.000 | 5.255 | |
| toSingleCellExperiment | 0.004 | 0.000 | 0.001 | |