| Back to Multiple platform build/check report for BioC 3.12 |
|
This page was generated on 2021-05-06 12:33:20 -0400 (Thu, 06 May 2021).
|
To the developers/maintainers of the ropls package: Please make sure to use the following settings in order to reproduce any error or warning you see on this page. |
| Package 1568/1974 | Hostname | OS / Arch | INSTALL | BUILD | CHECK | BUILD BIN | ||||||||
| ropls 1.22.0 (landing page) Etienne A. Thevenot
| malbec1 | Linux (Ubuntu 18.04.5 LTS) / x86_64 | OK | OK | OK | |||||||||
| tokay1 | Windows Server 2012 R2 Standard / x64 | OK | OK | OK | OK | |||||||||
| merida1 | macOS 10.14.6 Mojave / x86_64 | OK | OK | OK | OK | |||||||||
| Package: ropls |
| Version: 1.22.0 |
| Command: C:\Users\biocbuild\bbs-3.12-bioc\R\bin\R.exe CMD check --force-multiarch --install=check:ropls.install-out.txt --library=C:\Users\biocbuild\bbs-3.12-bioc\R\library --no-vignettes --timings ropls_1.22.0.tar.gz |
| StartedAt: 2021-05-06 06:24:49 -0400 (Thu, 06 May 2021) |
| EndedAt: 2021-05-06 06:26:38 -0400 (Thu, 06 May 2021) |
| EllapsedTime: 109.5 seconds |
| RetCode: 0 |
| Status: OK |
| CheckDir: ropls.Rcheck |
| Warnings: 0 |
##############################################################################
##############################################################################
###
### Running command:
###
### C:\Users\biocbuild\bbs-3.12-bioc\R\bin\R.exe CMD check --force-multiarch --install=check:ropls.install-out.txt --library=C:\Users\biocbuild\bbs-3.12-bioc\R\library --no-vignettes --timings ropls_1.22.0.tar.gz
###
##############################################################################
##############################################################################
* using log directory 'C:/Users/biocbuild/bbs-3.12-bioc/meat/ropls.Rcheck'
* using R version 4.0.5 (2021-03-31)
* using platform: x86_64-w64-mingw32 (64-bit)
* using session charset: ISO8859-1
* using option '--no-vignettes'
* checking for file 'ropls/DESCRIPTION' ... OK
* checking extension type ... Package
* this is package 'ropls' version '1.22.0'
* package encoding: UTF-8
* checking package namespace information ... OK
* checking package dependencies ... OK
* checking if this is a source package ... OK
* checking if there is a namespace ... OK
* checking for hidden files and directories ... OK
* checking for portable file names ... OK
* checking whether package 'ropls' can be installed ... OK
* checking installed package size ... OK
* checking package directory ... OK
* checking 'build' directory ... OK
* checking DESCRIPTION meta-information ... OK
* checking top-level files ... OK
* checking for left-over files ... OK
* checking index information ... OK
* checking package subdirectories ... OK
* checking R files for non-ASCII characters ... OK
* checking R files for syntax errors ... OK
* loading checks for arch 'i386'
** checking whether the package can be loaded ... OK
** checking whether the package can be loaded with stated dependencies ... OK
** checking whether the package can be unloaded cleanly ... OK
** checking whether the namespace can be loaded with stated dependencies ... OK
** checking whether the namespace can be unloaded cleanly ... OK
* loading checks for arch 'x64'
** checking whether the package can be loaded ... OK
** checking whether the package can be loaded with stated dependencies ... OK
** checking whether the package can be unloaded cleanly ... OK
** checking whether the namespace can be loaded with stated dependencies ... OK
** checking whether the namespace can be unloaded cleanly ... OK
* checking dependencies in R code ... NOTE
Namespace in Imports field not imported from: 'MultiDataSet'
All declared Imports should be used.
* checking S3 generic/method consistency ... OK
* checking replacement functions ... OK
* checking foreign function calls ... OK
* checking R code for possible problems ... OK
* checking Rd files ... OK
* checking Rd metadata ... OK
* checking Rd cross-references ... OK
* checking for missing documentation entries ... OK
* checking for code/documentation mismatches ... OK
* checking Rd \usage sections ... OK
* checking Rd contents ... OK
* checking for unstated dependencies in examples ... OK
* checking contents of 'data' directory ... OK
* checking data for non-ASCII characters ... OK
* checking data for ASCII and uncompressed saves ... OK
* checking files in 'vignettes' ... OK
* checking examples ...
** running examples for arch 'i386' ... OK
Examples with CPU (user + system) or elapsed time > 5s
user system elapsed
getMset 5.09 0.35 5.44
** running examples for arch 'x64' ... OK
Examples with CPU (user + system) or elapsed time > 5s
user system elapsed
getMset 5.77 0.27 6.03
* checking for unstated dependencies in vignettes ... OK
* checking package vignettes in 'inst/doc' ... OK
* checking running R code from vignettes ... SKIPPED
* checking re-building of vignette outputs ... SKIPPED
* checking PDF version of manual ... OK
* DONE
Status: 1 NOTE
See
'C:/Users/biocbuild/bbs-3.12-bioc/meat/ropls.Rcheck/00check.log'
for details.
ropls.Rcheck/00install.out
##############################################################################
##############################################################################
###
### Running command:
###
### C:\cygwin\bin\curl.exe -O http://172.29.0.3/BBS/3.12/bioc/src/contrib/ropls_1.22.0.tar.gz && rm -rf ropls.buildbin-libdir && mkdir ropls.buildbin-libdir && C:\Users\biocbuild\bbs-3.12-bioc\R\bin\R.exe CMD INSTALL --merge-multiarch --build --library=ropls.buildbin-libdir ropls_1.22.0.tar.gz && C:\Users\biocbuild\bbs-3.12-bioc\R\bin\R.exe CMD INSTALL ropls_1.22.0.zip && rm ropls_1.22.0.tar.gz ropls_1.22.0.zip
###
##############################################################################
##############################################################################
% Total % Received % Xferd Average Speed Time Time Time Current
Dload Upload Total Spent Left Speed
0 0 0 0 0 0 0 0 --:--:-- --:--:-- --:--:-- 0
100 1313k 100 1313k 0 0 44.5M 0 --:--:-- --:--:-- --:--:-- 45.8M
install for i386
* installing *source* package 'ropls' ...
** using staged installation
** R
** data
** inst
** byte-compile and prepare package for lazy loading
in method for 'opls' with signature 'x="MultiDataSet"': no definition for class "MultiDataSet"
** help
*** installing help indices
converting help for package 'ropls'
finding HTML links ... done
aminoacids html
cellulose html
checkW4M html
coef html
cornell html
fitted html
foods html
fromW4M html
getEset html
getLoadingMN html
getMset html
getPcaVarVn html
getScoreMN html
getSubsetVi html
getSummaryDF html
getVipVn html
getWeightMN html
linnerud html
lowarp html
mark html
opls-class html
opls html
oplsMultiDataSet-class html
plot html
predict html
print html
residuals html
ropls-package html
sacurine html
show html
tested html
toW4M html
view html
** building package indices
** installing vignettes
** testing if installed package can be loaded from temporary location
** testing if installed package can be loaded from final location
** testing if installed package keeps a record of temporary installation path
install for x64
* installing *source* package 'ropls' ...
** testing if installed package can be loaded
* MD5 sums
packaged installation of 'ropls' as ropls_1.22.0.zip
* DONE (ropls)
* installing to library 'C:/Users/biocbuild/bbs-3.12-bioc/R/library'
package 'ropls' successfully unpacked and MD5 sums checked
|
ropls.Rcheck/examples_i386/ropls-Ex.timings
|
ropls.Rcheck/examples_x64/ropls-Ex.timings
|