| Back to Multiple platform build/check report for BioC 3.12 |
|
This page was generated on 2021-05-06 12:36:17 -0400 (Thu, 06 May 2021).
|
To the developers/maintainers of the qvalue package: Please make sure to use the following settings in order to reproduce any error or warning you see on this page. |
| Package 1440/1974 | Hostname | OS / Arch | INSTALL | BUILD | CHECK | BUILD BIN | ||||||||
| qvalue 2.22.0 (landing page) John D. Storey
| malbec1 | Linux (Ubuntu 18.04.5 LTS) / x86_64 | OK | OK | OK | |||||||||
| tokay1 | Windows Server 2012 R2 Standard / x64 | OK | OK | OK | OK | |||||||||
| merida1 | macOS 10.14.6 Mojave / x86_64 | OK | OK | OK | OK | |||||||||
| Package: qvalue |
| Version: 2.22.0 |
| Command: /Library/Frameworks/R.framework/Versions/Current/Resources/bin/R CMD check --install=check:qvalue.install-out.txt --library=/Library/Frameworks/R.framework/Versions/Current/Resources/library --no-vignettes --timings qvalue_2.22.0.tar.gz |
| StartedAt: 2021-05-06 05:08:04 -0400 (Thu, 06 May 2021) |
| EndedAt: 2021-05-06 05:08:59 -0400 (Thu, 06 May 2021) |
| EllapsedTime: 54.4 seconds |
| RetCode: 0 |
| Status: OK |
| CheckDir: qvalue.Rcheck |
| Warnings: 0 |
##############################################################################
##############################################################################
###
### Running command:
###
### /Library/Frameworks/R.framework/Versions/Current/Resources/bin/R CMD check --install=check:qvalue.install-out.txt --library=/Library/Frameworks/R.framework/Versions/Current/Resources/library --no-vignettes --timings qvalue_2.22.0.tar.gz
###
##############################################################################
##############################################################################
* using log directory ‘/Users/biocbuild/bbs-3.12-bioc/meat/qvalue.Rcheck’
* using R version 4.0.5 (2021-03-31)
* using platform: x86_64-apple-darwin17.0 (64-bit)
* using session charset: UTF-8
* using option ‘--no-vignettes’
* checking for file ‘qvalue/DESCRIPTION’ ... OK
* checking extension type ... Package
* this is package ‘qvalue’ version ‘2.22.0’
* checking package namespace information ... OK
* checking package dependencies ... OK
* checking if this is a source package ... OK
* checking if there is a namespace ... OK
* checking for hidden files and directories ... OK
* checking for portable file names ... OK
* checking for sufficient/correct file permissions ... OK
* checking whether package ‘qvalue’ can be installed ... OK
* checking installed package size ... OK
* checking package directory ... OK
* checking ‘build’ directory ... OK
* checking DESCRIPTION meta-information ... OK
* checking top-level files ... OK
* checking for left-over files ... OK
* checking index information ... OK
* checking package subdirectories ... OK
* checking R files for non-ASCII characters ... OK
* checking R files for syntax errors ... OK
* checking whether the package can be loaded ... OK
* checking whether the package can be loaded with stated dependencies ... OK
* checking whether the package can be unloaded cleanly ... OK
* checking whether the namespace can be loaded with stated dependencies ... OK
* checking whether the namespace can be unloaded cleanly ... OK
* checking dependencies in R code ... OK
* checking S3 generic/method consistency ... OK
* checking replacement functions ... OK
* checking foreign function calls ... OK
* checking R code for possible problems ... NOTE
lfdr: no visible global function definition for ‘qnorm’
lfdr: no visible global function definition for ‘density’
lfdr: no visible global function definition for ‘smooth.spline’
lfdr: no visible global function definition for ‘predict’
lfdr: no visible global function definition for ‘dnorm’
pi0est: no visible global function definition for ‘smooth.spline’
pi0est: no visible global function definition for ‘predict’
pi0est: no visible global function definition for ‘quantile’
plot.qvalue: no visible global function definition for ‘quantile’
write.qvalue: no visible global function definition for ‘write.table’
Undefined global functions or variables:
density dnorm predict qnorm quantile smooth.spline write.table
Consider adding
importFrom("stats", "density", "dnorm", "predict", "qnorm", "quantile",
"smooth.spline")
importFrom("utils", "write.table")
to your NAMESPACE file.
* checking Rd files ... OK
* checking Rd metadata ... OK
* checking Rd cross-references ... OK
* checking for missing documentation entries ... OK
* checking for code/documentation mismatches ... OK
* checking Rd \usage sections ... OK
* checking Rd contents ... OK
* checking for unstated dependencies in examples ... OK
* checking contents of ‘data’ directory ... OK
* checking data for non-ASCII characters ... OK
* checking data for ASCII and uncompressed saves ... OK
* checking sizes of PDF files under ‘inst/doc’ ... OK
* checking installed files from ‘inst/doc’ ... OK
* checking files in ‘vignettes’ ... OK
* checking examples ... OK
* checking for unstated dependencies in vignettes ... OK
* checking package vignettes in ‘inst/doc’ ... OK
* checking running R code from vignettes ... SKIPPED
* checking re-building of vignette outputs ... SKIPPED
* checking PDF version of manual ... OK
* DONE
Status: 1 NOTE
See
‘/Users/biocbuild/bbs-3.12-bioc/meat/qvalue.Rcheck/00check.log’
for details.
qvalue.Rcheck/00install.out
############################################################################## ############################################################################## ### ### Running command: ### ### /Library/Frameworks/R.framework/Versions/Current/Resources/bin/R CMD INSTALL qvalue ### ############################################################################## ############################################################################## * installing to library ‘/Library/Frameworks/R.framework/Versions/4.0/Resources/library’ * installing *source* package ‘qvalue’ ... ** using staged installation ** R ** data ** inst ** byte-compile and prepare package for lazy loading ** help *** installing help indices ** building package indices ** installing vignettes ** testing if installed package can be loaded from temporary location ** testing if installed package can be loaded from final location ** testing if installed package keeps a record of temporary installation path * DONE (qvalue)
qvalue.Rcheck/qvalue-Ex.timings
| name | user | system | elapsed | |
| empPvals | 0.097 | 0.019 | 0.115 | |
| hedenfalk | 1.313 | 0.044 | 1.362 | |
| hist.qvalue | 0.525 | 0.017 | 0.542 | |
| lfdr | 0.438 | 0.016 | 0.455 | |
| pi0est | 0.909 | 0.012 | 0.922 | |
| plot.qvalue | 0.536 | 0.006 | 0.542 | |
| qvalue | 0.992 | 0.028 | 1.022 | |
| summary.qvalue | 0.034 | 0.003 | 0.038 | |
| write.qvalue | 0.060 | 0.004 | 0.065 | |