| Back to Multiple platform build/check report for BioC 3.12 |
|
This page was generated on 2021-05-06 12:28:43 -0400 (Thu, 06 May 2021).
|
To the developers/maintainers of the qvalue package: Please make sure to use the following settings in order to reproduce any error or warning you see on this page. |
| Package 1440/1974 | Hostname | OS / Arch | INSTALL | BUILD | CHECK | BUILD BIN | ||||||||
| qvalue 2.22.0 (landing page) John D. Storey
| malbec1 | Linux (Ubuntu 18.04.5 LTS) / x86_64 | OK | OK | OK | |||||||||
| tokay1 | Windows Server 2012 R2 Standard / x64 | OK | OK | OK | OK | |||||||||
| merida1 | macOS 10.14.6 Mojave / x86_64 | OK | OK | OK | OK | |||||||||
| Package: qvalue |
| Version: 2.22.0 |
| Command: /home/biocbuild/bbs-3.12-bioc/R/bin/R CMD build --keep-empty-dirs --no-resave-data qvalue |
| StartedAt: 2021-05-05 21:13:32 -0400 (Wed, 05 May 2021) |
| EndedAt: 2021-05-05 21:13:45 -0400 (Wed, 05 May 2021) |
| EllapsedTime: 12.8 seconds |
| RetCode: 0 |
| Status: OK |
| PackageFile: qvalue_2.22.0.tar.gz |
| PackageFileSize: 2.631 MiB |
##############################################################################
##############################################################################
###
### Running command:
###
### /home/biocbuild/bbs-3.12-bioc/R/bin/R CMD build --keep-empty-dirs --no-resave-data qvalue
###
##############################################################################
##############################################################################
* checking for file ‘qvalue/DESCRIPTION’ ... OK
* preparing ‘qvalue’:
* checking DESCRIPTION meta-information ... OK
* installing the package to build vignettes
* creating vignettes ... OK
Warning: ‘inst/doc’ files
‘qvalue.Rnw’, ‘qvalue.pdf’, ‘qvalue.R’
ignored as vignettes have been rebuilt.
Run R CMD build with --no-build-vignettes to prevent rebuilding.
* checking for LF line-endings in source and make files and shell scripts
* checking for empty or unneeded directories
* looking to see if a ‘data/datalist’ file should be added
* building ‘qvalue_2.22.0.tar.gz’