| Back to Multiple platform build/check report for BioC 3.12 |
|
This page was generated on 2021-05-06 12:32:49 -0400 (Thu, 06 May 2021).
|
To the developers/maintainers of the proActiv package: Please make sure to use the following settings in order to reproduce any error or warning you see on this page. |
| Package 1386/1974 | Hostname | OS / Arch | INSTALL | BUILD | CHECK | BUILD BIN | ||||||||
| proActiv 1.0.0 (landing page) Joseph Lee
| malbec1 | Linux (Ubuntu 18.04.5 LTS) / x86_64 | OK | OK | OK | |||||||||
| tokay1 | Windows Server 2012 R2 Standard / x64 | OK | OK | OK | OK | |||||||||
| merida1 | macOS 10.14.6 Mojave / x86_64 | OK | OK | OK | OK | |||||||||
| Package: proActiv |
| Version: 1.0.0 |
| Command: C:\Users\biocbuild\bbs-3.12-bioc\R\bin\R.exe CMD check --force-multiarch --install=check:proActiv.install-out.txt --library=C:\Users\biocbuild\bbs-3.12-bioc\R\library --no-vignettes --timings proActiv_1.0.0.tar.gz |
| StartedAt: 2021-05-06 05:42:09 -0400 (Thu, 06 May 2021) |
| EndedAt: 2021-05-06 05:57:57 -0400 (Thu, 06 May 2021) |
| EllapsedTime: 948.5 seconds |
| RetCode: 0 |
| Status: OK |
| CheckDir: proActiv.Rcheck |
| Warnings: 0 |
##############################################################################
##############################################################################
###
### Running command:
###
### C:\Users\biocbuild\bbs-3.12-bioc\R\bin\R.exe CMD check --force-multiarch --install=check:proActiv.install-out.txt --library=C:\Users\biocbuild\bbs-3.12-bioc\R\library --no-vignettes --timings proActiv_1.0.0.tar.gz
###
##############################################################################
##############################################################################
* using log directory 'C:/Users/biocbuild/bbs-3.12-bioc/meat/proActiv.Rcheck'
* using R version 4.0.5 (2021-03-31)
* using platform: x86_64-w64-mingw32 (64-bit)
* using session charset: ISO8859-1
* using option '--no-vignettes'
* checking for file 'proActiv/DESCRIPTION' ... OK
* this is package 'proActiv' version '1.0.0'
* package encoding: UTF-8
* checking package namespace information ... OK
* checking package dependencies ... OK
* checking if this is a source package ... OK
* checking if there is a namespace ... OK
* checking for hidden files and directories ... OK
* checking for portable file names ... OK
* checking whether package 'proActiv' can be installed ... OK
* checking installed package size ... OK
* checking package directory ... OK
* checking 'build' directory ... OK
* checking DESCRIPTION meta-information ... OK
* checking top-level files ... OK
* checking for left-over files ... OK
* checking index information ... OK
* checking package subdirectories ... OK
* checking R files for non-ASCII characters ... OK
* checking R files for syntax errors ... OK
* loading checks for arch 'i386'
** checking whether the package can be loaded ... OK
** checking whether the package can be loaded with stated dependencies ... OK
** checking whether the package can be unloaded cleanly ... OK
** checking whether the namespace can be loaded with stated dependencies ... OK
** checking whether the namespace can be unloaded cleanly ... OK
* loading checks for arch 'x64'
** checking whether the package can be loaded ... OK
** checking whether the package can be loaded with stated dependencies ... OK
** checking whether the package can be unloaded cleanly ... OK
** checking whether the namespace can be loaded with stated dependencies ... OK
** checking whether the namespace can be unloaded cleanly ... OK
* checking dependencies in R code ... OK
* checking S3 generic/method consistency ... OK
* checking replacement functions ... OK
* checking foreign function calls ... OK
* checking R code for possible problems ... OK
* checking Rd files ... OK
* checking Rd metadata ... OK
* checking Rd cross-references ... OK
* checking for missing documentation entries ... OK
* checking for code/documentation mismatches ... OK
* checking Rd \usage sections ... OK
* checking Rd contents ... OK
* checking for unstated dependencies in examples ... OK
* checking contents of 'data' directory ... OK
* checking data for non-ASCII characters ... OK
* checking data for ASCII and uncompressed saves ... OK
* checking files in 'vignettes' ... OK
* checking examples ...
** running examples for arch 'i386' ... OK
Examples with CPU (user + system) or elapsed time > 5s
user system elapsed
plotPromoters 8.99 0.64 9.63
** running examples for arch 'x64' ... OK
Examples with CPU (user + system) or elapsed time > 5s
user system elapsed
plotPromoters 10.7 0.18 10.87
* checking for unstated dependencies in 'tests' ... OK
* checking tests ...
** running tests for arch 'i386' ...
Running 'testthat.R'
OK
** running tests for arch 'x64' ...
Running 'testthat.R'
OK
* checking for unstated dependencies in vignettes ... OK
* checking package vignettes in 'inst/doc' ... OK
* checking running R code from vignettes ... SKIPPED
* checking re-building of vignette outputs ... SKIPPED
* checking PDF version of manual ... OK
* DONE
Status: OK
proActiv.Rcheck/00install.out
##############################################################################
##############################################################################
###
### Running command:
###
### C:\cygwin\bin\curl.exe -O http://172.29.0.3/BBS/3.12/bioc/src/contrib/proActiv_1.0.0.tar.gz && rm -rf proActiv.buildbin-libdir && mkdir proActiv.buildbin-libdir && C:\Users\biocbuild\bbs-3.12-bioc\R\bin\R.exe CMD INSTALL --merge-multiarch --build --library=proActiv.buildbin-libdir proActiv_1.0.0.tar.gz && C:\Users\biocbuild\bbs-3.12-bioc\R\bin\R.exe CMD INSTALL proActiv_1.0.0.zip && rm proActiv_1.0.0.tar.gz proActiv_1.0.0.zip
###
##############################################################################
##############################################################################
% Total % Received % Xferd Average Speed Time Time Time Current
Dload Upload Total Spent Left Speed
0 0 0 0 0 0 0 0 --:--:-- --:--:-- --:--:-- 0
100 3294k 100 3294k 0 0 40.4M 0 --:--:-- --:--:-- --:--:-- 41.2M
install for i386
* installing *source* package 'proActiv' ...
** using staged installation
** R
** data
*** moving datasets to lazyload DB
** inst
** byte-compile and prepare package for lazy loading
** help
*** installing help indices
converting help for package 'proActiv'
finding HTML links ... done
PromoterAnnotation-class html
calculateJunctionReadCounts html
calculatePromoterReadCounts html
getAbsolutePromoterActivity html
getGeneExpression html
getRelativePromoterActivity html
normalizePromoterReadCounts html
plotPromoters html
preparePromoterAnnotation html
proActiv html
promoterAnnotation.gencode.v34.subset html
reexports html
*** copying figures
** building package indices
** installing vignettes
** testing if installed package can be loaded from temporary location
** testing if installed package can be loaded from final location
** testing if installed package keeps a record of temporary installation path
install for x64
* installing *source* package 'proActiv' ...
** testing if installed package can be loaded
* MD5 sums
packaged installation of 'proActiv' as proActiv_1.0.0.zip
* DONE (proActiv)
* installing to library 'C:/Users/biocbuild/bbs-3.12-bioc/R/library'
package 'proActiv' successfully unpacked and MD5 sums checked
|
proActiv.Rcheck/tests_i386/testthat.Rout
R version 4.0.5 (2021-03-31) -- "Shake and Throw"
Copyright (C) 2021 The R Foundation for Statistical Computing
Platform: i386-w64-mingw32/i386 (32-bit)
R is free software and comes with ABSOLUTELY NO WARRANTY.
You are welcome to redistribute it under certain conditions.
Type 'license()' or 'licence()' for distribution details.
R is a collaborative project with many contributors.
Type 'contributors()' for more information and
'citation()' on how to cite R or R packages in publications.
Type 'demo()' for some demos, 'help()' for on-line help, or
'help.start()' for an HTML browser interface to help.
Type 'q()' to quit R.
> library(testthat)
> library(proActiv)
Attaching package: 'proActiv'
The following object is masked from 'package:stats':
filter
>
> test_check("proActiv")
$chr1
GeneRegionTrack 'chr1'
| genome: NA
| active chromosome: chr1
| annotation features: 234
$A549
DataTrack 'A549'
| genome: NA
| active chromosome: chr1
| positions: 5
| samples:1
| strand: -
$HepG2
DataTrack 'HepG2'
| genome: NA
| active chromosome: chr1
| positions: 5
| samples:1
| strand: -
[[4]]
AnnotationTrack ''
| genome: NA
| active chromosome: chr1
| annotation features: 5
$Axis
Genome axis 'Axis'
$titles
An object of class "ImageMap"
Slot "coords":
x1 y1 x2 y2
chr1 6 62.4000 45.49369 287.7093
A549 6 287.7093 45.49369 374.3667
HepG2 6 374.3667 45.49369 461.0241
NA 6 461.0241 45.49369 530.3500
Axis 6 530.3500 45.49369 570.0000
Slot "tags":
$title
chr1 A549 HepG2 NA Axis
"chr1" "A549" "HepG2" "NA" "Axis"
$chr1
GeneRegionTrack 'chr1'
| genome: NA
| active chromosome: chr1
| annotation features: 234
$A549
DataTrack 'A549'
| genome: NA
| active chromosome: chr1
| positions: 5
| samples:1
| strand: -
$HepG2
DataTrack 'HepG2'
| genome: NA
| active chromosome: chr1
| positions: 5
| samples:1
| strand: -
[[4]]
AnnotationTrack ''
| genome: NA
| active chromosome: chr1
| annotation features: 5
$Axis
Genome axis 'Axis'
$titles
An object of class "ImageMap"
Slot "coords":
x1 y1 x2 y2
chr1 6 62.4000 45.49369 287.7093
A549 6 287.7093 45.49369 374.3667
HepG2 6 374.3667 45.49369 461.0241
NA 6 461.0241 45.49369 530.3500
Axis 6 530.3500 45.49369 570.0000
Slot "tags":
$title
chr1 A549 HepG2 NA Axis
"chr1" "A549" "HepG2" "NA" "Axis"
== Skipped tests ===============================================================
* Skipping on CRAN (2)
[ FAIL 0 | WARN 0 | SKIP 2 | PASS 31 ]
>
> proc.time()
user system elapsed
122.79 8.90 176.79
|
proActiv.Rcheck/tests_x64/testthat.Rout
R version 4.0.5 (2021-03-31) -- "Shake and Throw"
Copyright (C) 2021 The R Foundation for Statistical Computing
Platform: x86_64-w64-mingw32/x64 (64-bit)
R is free software and comes with ABSOLUTELY NO WARRANTY.
You are welcome to redistribute it under certain conditions.
Type 'license()' or 'licence()' for distribution details.
R is a collaborative project with many contributors.
Type 'contributors()' for more information and
'citation()' on how to cite R or R packages in publications.
Type 'demo()' for some demos, 'help()' for on-line help, or
'help.start()' for an HTML browser interface to help.
Type 'q()' to quit R.
> library(testthat)
> library(proActiv)
Attaching package: 'proActiv'
The following object is masked from 'package:stats':
filter
>
> test_check("proActiv")
$chr1
GeneRegionTrack 'chr1'
| genome: NA
| active chromosome: chr1
| annotation features: 234
$A549
DataTrack 'A549'
| genome: NA
| active chromosome: chr1
| positions: 5
| samples:1
| strand: -
$HepG2
DataTrack 'HepG2'
| genome: NA
| active chromosome: chr1
| positions: 5
| samples:1
| strand: -
[[4]]
AnnotationTrack ''
| genome: NA
| active chromosome: chr1
| annotation features: 5
$Axis
Genome axis 'Axis'
$titles
An object of class "ImageMap"
Slot "coords":
x1 y1 x2 y2
chr1 6 62.4000 45.49369 287.7093
A549 6 287.7093 45.49369 374.3667
HepG2 6 374.3667 45.49369 461.0241
NA 6 461.0241 45.49369 530.3500
Axis 6 530.3500 45.49369 570.0000
Slot "tags":
$title
chr1 A549 HepG2 NA Axis
"chr1" "A549" "HepG2" "NA" "Axis"
$chr1
GeneRegionTrack 'chr1'
| genome: NA
| active chromosome: chr1
| annotation features: 234
$A549
DataTrack 'A549'
| genome: NA
| active chromosome: chr1
| positions: 5
| samples:1
| strand: -
$HepG2
DataTrack 'HepG2'
| genome: NA
| active chromosome: chr1
| positions: 5
| samples:1
| strand: -
[[4]]
AnnotationTrack ''
| genome: NA
| active chromosome: chr1
| annotation features: 5
$Axis
Genome axis 'Axis'
$titles
An object of class "ImageMap"
Slot "coords":
x1 y1 x2 y2
chr1 6 62.4000 45.49369 287.7093
A549 6 287.7093 45.49369 374.3667
HepG2 6 374.3667 45.49369 461.0241
NA 6 461.0241 45.49369 530.3500
Axis 6 530.3500 45.49369 570.0000
Slot "tags":
$title
chr1 A549 HepG2 NA Axis
"chr1" "A549" "HepG2" "NA" "Axis"
== Skipped tests ===============================================================
* Skipping on CRAN (2)
[ FAIL 0 | WARN 0 | SKIP 2 | PASS 31 ]
>
> proc.time()
user system elapsed
139.43 2.62 192.79
|
|
proActiv.Rcheck/examples_i386/proActiv-Ex.timings
|
proActiv.Rcheck/examples_x64/proActiv-Ex.timings
|