| Back to Multiple platform build/check report for BioC 3.12 |
|
This page was generated on 2021-05-06 12:28:39 -0400 (Thu, 06 May 2021).
|
To the developers/maintainers of the proActiv package: Please make sure to use the following settings in order to reproduce any error or warning you see on this page. |
| Package 1386/1974 | Hostname | OS / Arch | INSTALL | BUILD | CHECK | BUILD BIN | ||||||||
| proActiv 1.0.0 (landing page) Joseph Lee
| malbec1 | Linux (Ubuntu 18.04.5 LTS) / x86_64 | OK | OK | OK | |||||||||
| tokay1 | Windows Server 2012 R2 Standard / x64 | OK | OK | OK | OK | |||||||||
| merida1 | macOS 10.14.6 Mojave / x86_64 | OK | OK | OK | OK | |||||||||
| Package: proActiv |
| Version: 1.0.0 |
| Command: /home/biocbuild/bbs-3.12-bioc/R/bin/R CMD check --install=check:proActiv.install-out.txt --library=/home/biocbuild/bbs-3.12-bioc/R/library --no-vignettes --timings proActiv_1.0.0.tar.gz |
| StartedAt: 2021-05-06 04:40:52 -0400 (Thu, 06 May 2021) |
| EndedAt: 2021-05-06 04:49:34 -0400 (Thu, 06 May 2021) |
| EllapsedTime: 521.6 seconds |
| RetCode: 0 |
| Status: OK |
| CheckDir: proActiv.Rcheck |
| Warnings: 0 |
##############################################################################
##############################################################################
###
### Running command:
###
### /home/biocbuild/bbs-3.12-bioc/R/bin/R CMD check --install=check:proActiv.install-out.txt --library=/home/biocbuild/bbs-3.12-bioc/R/library --no-vignettes --timings proActiv_1.0.0.tar.gz
###
##############################################################################
##############################################################################
* using log directory ‘/home/biocbuild/bbs-3.12-bioc/meat/proActiv.Rcheck’
* using R version 4.0.5 (2021-03-31)
* using platform: x86_64-pc-linux-gnu (64-bit)
* using session charset: UTF-8
* using option ‘--no-vignettes’
* checking for file ‘proActiv/DESCRIPTION’ ... OK
* this is package ‘proActiv’ version ‘1.0.0’
* package encoding: UTF-8
* checking package namespace information ... OK
* checking package dependencies ... OK
* checking if this is a source package ... OK
* checking if there is a namespace ... OK
* checking for hidden files and directories ... OK
* checking for portable file names ... OK
* checking for sufficient/correct file permissions ... OK
* checking whether package ‘proActiv’ can be installed ... OK
* checking installed package size ... OK
* checking package directory ... OK
* checking ‘build’ directory ... OK
* checking DESCRIPTION meta-information ... OK
* checking top-level files ... OK
* checking for left-over files ... OK
* checking index information ... OK
* checking package subdirectories ... OK
* checking R files for non-ASCII characters ... OK
* checking R files for syntax errors ... OK
* checking whether the package can be loaded ... OK
* checking whether the package can be loaded with stated dependencies ... OK
* checking whether the package can be unloaded cleanly ... OK
* checking whether the namespace can be loaded with stated dependencies ... OK
* checking whether the namespace can be unloaded cleanly ... OK
* checking dependencies in R code ... OK
* checking S3 generic/method consistency ... OK
* checking replacement functions ... OK
* checking foreign function calls ... OK
* checking R code for possible problems ... OK
* checking Rd files ... OK
* checking Rd metadata ... OK
* checking Rd cross-references ... OK
* checking for missing documentation entries ... OK
* checking for code/documentation mismatches ... OK
* checking Rd \usage sections ... OK
* checking Rd contents ... OK
* checking for unstated dependencies in examples ... OK
* checking contents of ‘data’ directory ... OK
* checking data for non-ASCII characters ... OK
* checking data for ASCII and uncompressed saves ... OK
* checking files in ‘vignettes’ ... OK
* checking examples ... OK
Examples with CPU (user + system) or elapsed time > 5s
user system elapsed
plotPromoters 11.488 0.136 11.815
* checking for unstated dependencies in ‘tests’ ... OK
* checking tests ...
Running ‘testthat.R’
OK
* checking for unstated dependencies in vignettes ... OK
* checking package vignettes in ‘inst/doc’ ... OK
* checking running R code from vignettes ... SKIPPED
* checking re-building of vignette outputs ... SKIPPED
* checking PDF version of manual ... OK
* DONE
Status: OK
proActiv.Rcheck/00install.out
############################################################################## ############################################################################## ### ### Running command: ### ### /home/biocbuild/bbs-3.12-bioc/R/bin/R CMD INSTALL proActiv ### ############################################################################## ############################################################################## * installing to library ‘/home/biocbuild/bbs-3.12-bioc/R/library’ * installing *source* package ‘proActiv’ ... ** using staged installation ** R ** data *** moving datasets to lazyload DB ** inst ** byte-compile and prepare package for lazy loading ** help *** installing help indices *** copying figures ** building package indices ** installing vignettes ** testing if installed package can be loaded from temporary location ** testing if installed package can be loaded from final location ** testing if installed package keeps a record of temporary installation path * DONE (proActiv)
proActiv.Rcheck/tests/testthat.Rout
R version 4.0.5 (2021-03-31) -- "Shake and Throw"
Copyright (C) 2021 The R Foundation for Statistical Computing
Platform: x86_64-pc-linux-gnu (64-bit)
R is free software and comes with ABSOLUTELY NO WARRANTY.
You are welcome to redistribute it under certain conditions.
Type 'license()' or 'licence()' for distribution details.
R is a collaborative project with many contributors.
Type 'contributors()' for more information and
'citation()' on how to cite R or R packages in publications.
Type 'demo()' for some demos, 'help()' for on-line help, or
'help.start()' for an HTML browser interface to help.
Type 'q()' to quit R.
> library(testthat)
> library(proActiv)
Attaching package: 'proActiv'
The following object is masked from 'package:stats':
filter
>
> test_check("proActiv")
$chr1
GeneRegionTrack 'chr1'
| genome: NA
| active chromosome: chr1
| annotation features: 234
$A549
DataTrack 'A549'
| genome: NA
| active chromosome: chr1
| positions: 5
| samples:1
| strand: -
$HepG2
DataTrack 'HepG2'
| genome: NA
| active chromosome: chr1
| positions: 5
| samples:1
| strand: -
[[4]]
AnnotationTrack ''
| genome: NA
| active chromosome: chr1
| annotation features: 5
$Axis
Genome axis 'Axis'
$titles
An object of class "ImageMap"
Slot "coords":
x1 y1 x2 y2
chr1 6 62.4000 45.49369 287.7093
A549 6 287.7093 45.49369 374.3667
HepG2 6 374.3667 45.49369 461.0241
NA 6 461.0241 45.49369 530.3500
Axis 6 530.3500 45.49369 570.0000
Slot "tags":
$title
chr1 A549 HepG2 NA Axis
"chr1" "A549" "HepG2" "NA" "Axis"
$chr1
GeneRegionTrack 'chr1'
| genome: NA
| active chromosome: chr1
| annotation features: 234
$A549
DataTrack 'A549'
| genome: NA
| active chromosome: chr1
| positions: 5
| samples:1
| strand: -
$HepG2
DataTrack 'HepG2'
| genome: NA
| active chromosome: chr1
| positions: 5
| samples:1
| strand: -
[[4]]
AnnotationTrack ''
| genome: NA
| active chromosome: chr1
| annotation features: 5
$Axis
Genome axis 'Axis'
$titles
An object of class "ImageMap"
Slot "coords":
x1 y1 x2 y2
chr1 6 62.4000 45.49369 287.7093
A549 6 287.7093 45.49369 374.3667
HepG2 6 374.3667 45.49369 461.0241
NA 6 461.0241 45.49369 530.3500
Axis 6 530.3500 45.49369 570.0000
Slot "tags":
$title
chr1 A549 HepG2 NA Axis
"chr1" "A549" "HepG2" "NA" "Axis"
══ Skipped tests ═══════════════════════════════════════════════════════════════
• Skipping on CRAN (2)
[ FAIL 0 | WARN 0 | SKIP 2 | PASS 31 ]
>
> proc.time()
user system elapsed
121.264 2.376 125.461
proActiv.Rcheck/proActiv-Ex.timings
| name | user | system | elapsed | |
| PromoterAnnotation-class | 0.052 | 0.000 | 0.053 | |
| plotPromoters | 11.488 | 0.136 | 11.815 | |
| preparePromoterAnnotation | 4.080 | 0.040 | 4.166 | |
| proActiv | 1.568 | 0.000 | 1.571 | |