| Back to Multiple platform build/check report for BioC 3.12 |
|
This page was generated on 2021-05-06 12:32:17 -0400 (Thu, 06 May 2021).
|
To the developers/maintainers of the miRcomp package: Please make sure to use the following settings in order to reproduce any error or warning you see on this page. |
| Package 1109/1974 | Hostname | OS / Arch | INSTALL | BUILD | CHECK | BUILD BIN | ||||||||
| miRcomp 1.20.0 (landing page) Matthew N. McCall
| malbec1 | Linux (Ubuntu 18.04.5 LTS) / x86_64 | OK | OK | WARNINGS | |||||||||
| tokay1 | Windows Server 2012 R2 Standard / x64 | OK | OK | WARNINGS | OK | |||||||||
| merida1 | macOS 10.14.6 Mojave / x86_64 | OK | OK | WARNINGS | OK | |||||||||
| Package: miRcomp |
| Version: 1.20.0 |
| Command: chmod a+r miRcomp -R && C:\Users\biocbuild\bbs-3.12-bioc\R\bin\R.exe CMD build --keep-empty-dirs --no-resave-data miRcomp |
| StartedAt: 2021-05-05 22:04:09 -0400 (Wed, 05 May 2021) |
| EndedAt: 2021-05-05 22:04:52 -0400 (Wed, 05 May 2021) |
| EllapsedTime: 43.2 seconds |
| RetCode: 0 |
| Status: OK |
| PackageFile: miRcomp_1.20.0.tar.gz |
| PackageFileSize: 2.538 MiB |
############################################################################## ############################################################################## ### ### Running command: ### ### chmod a+r miRcomp -R && C:\Users\biocbuild\bbs-3.12-bioc\R\bin\R.exe CMD build --keep-empty-dirs --no-resave-data miRcomp ### ############################################################################## ############################################################################## * checking for file 'miRcomp/DESCRIPTION' ... OK * preparing 'miRcomp': * checking DESCRIPTION meta-information ... OK * installing the package to build vignettes * creating vignettes ... OK * checking for LF line-endings in source and make files and shell scripts * checking for empty or unneeded directories * looking to see if a 'data/datalist' file should be added * building 'miRcomp_1.20.0.tar.gz'