| Back to Multiple platform build/check report for BioC 3.12 |
|
This page was generated on 2021-05-06 12:32:17 -0400 (Thu, 06 May 2021).
|
To the developers/maintainers of the miRcomp package: Please make sure to use the following settings in order to reproduce any error or warning you see on this page. |
| Package 1109/1974 | Hostname | OS / Arch | INSTALL | BUILD | CHECK | BUILD BIN | ||||||||
| miRcomp 1.20.0 (landing page) Matthew N. McCall
| malbec1 | Linux (Ubuntu 18.04.5 LTS) / x86_64 | OK | OK | WARNINGS | |||||||||
| tokay1 | Windows Server 2012 R2 Standard / x64 | OK | OK | WARNINGS | OK | |||||||||
| merida1 | macOS 10.14.6 Mojave / x86_64 | OK | OK | WARNINGS | OK | |||||||||
| Package: miRcomp |
| Version: 1.20.0 |
| Command: rm -rf miRcomp.buildbin-libdir && mkdir miRcomp.buildbin-libdir && C:\Users\biocbuild\bbs-3.12-bioc\R\bin\R.exe CMD INSTALL --merge-multiarch --build --library=miRcomp.buildbin-libdir miRcomp_1.20.0.tar.gz |
| StartedAt: 2021-05-06 09:32:30 -0400 (Thu, 06 May 2021) |
| EndedAt: 2021-05-06 09:33:04 -0400 (Thu, 06 May 2021) |
| EllapsedTime: 34.0 seconds |
| RetCode: 0 |
| Status: OK |
| PackageFile: miRcomp_1.20.0.zip |
| PackageFileSize: 2.581 MiB |
##############################################################################
##############################################################################
###
### Running command:
###
### rm -rf miRcomp.buildbin-libdir && mkdir miRcomp.buildbin-libdir && C:\Users\biocbuild\bbs-3.12-bioc\R\bin\R.exe CMD INSTALL --merge-multiarch --build --library=miRcomp.buildbin-libdir miRcomp_1.20.0.tar.gz
###
##############################################################################
##############################################################################
install for i386
* installing *source* package 'miRcomp' ...
** using staged installation
** R
** data
** inst
** byte-compile and prepare package for lazy loading
** help
*** installing help indices
converting help for package 'miRcomp'
finding HTML links ... done
accuracy html
completeFeatures html
expressionComp html
lifetech html
limitOfDetection html
miRcompShinyApp html
precision html
qpcRb4 html
qpcRb5 html
qpcRdefault html
qpcRl5 html
qpcRlinexp html
qualityAssessment html
titrationResponse html
** building package indices
** installing vignettes
** testing if installed package can be loaded from temporary location
** testing if installed package can be loaded from final location
** testing if installed package keeps a record of temporary installation path
install for x64
* installing *source* package 'miRcomp' ...
** testing if installed package can be loaded
* MD5 sums
packaged installation of 'miRcomp' as miRcomp_1.20.0.zip
* DONE (miRcomp)