| Back to Multiple platform build/check report for BioC 3.12 |
|
This page was generated on 2021-05-06 12:35:40 -0400 (Thu, 06 May 2021).
|
To the developers/maintainers of the metagenomeSeq package: Please make sure to use the following settings in order to reproduce any error or warning you see on this page. |
| Package 1054/1974 | Hostname | OS / Arch | INSTALL | BUILD | CHECK | BUILD BIN | ||||||||
| metagenomeSeq 1.32.0 (landing page) Joseph N. Paulson
| malbec1 | Linux (Ubuntu 18.04.5 LTS) / x86_64 | OK | OK | OK | |||||||||
| tokay1 | Windows Server 2012 R2 Standard / x64 | OK | OK | OK | OK | |||||||||
| merida1 | macOS 10.14.6 Mojave / x86_64 | OK | OK | OK | OK | |||||||||
| Package: metagenomeSeq |
| Version: 1.32.0 |
| Command: /Library/Frameworks/R.framework/Versions/Current/Resources/bin/R CMD check --install=check:metagenomeSeq.install-out.txt --library=/Library/Frameworks/R.framework/Versions/Current/Resources/library --no-vignettes --timings metagenomeSeq_1.32.0.tar.gz |
| StartedAt: 2021-05-06 03:28:14 -0400 (Thu, 06 May 2021) |
| EndedAt: 2021-05-06 03:33:19 -0400 (Thu, 06 May 2021) |
| EllapsedTime: 305.5 seconds |
| RetCode: 0 |
| Status: OK |
| CheckDir: metagenomeSeq.Rcheck |
| Warnings: 0 |
##############################################################################
##############################################################################
###
### Running command:
###
### /Library/Frameworks/R.framework/Versions/Current/Resources/bin/R CMD check --install=check:metagenomeSeq.install-out.txt --library=/Library/Frameworks/R.framework/Versions/Current/Resources/library --no-vignettes --timings metagenomeSeq_1.32.0.tar.gz
###
##############################################################################
##############################################################################
* using log directory ‘/Users/biocbuild/bbs-3.12-bioc/meat/metagenomeSeq.Rcheck’
* using R version 4.0.5 (2021-03-31)
* using platform: x86_64-apple-darwin17.0 (64-bit)
* using session charset: UTF-8
* using option ‘--no-vignettes’
* checking for file ‘metagenomeSeq/DESCRIPTION’ ... OK
* this is package ‘metagenomeSeq’ version ‘1.32.0’
* checking package namespace information ... OK
* checking package dependencies ... OK
* checking if this is a source package ... OK
* checking if there is a namespace ... OK
* checking for hidden files and directories ... OK
* checking for portable file names ... OK
* checking for sufficient/correct file permissions ... OK
* checking whether package ‘metagenomeSeq’ can be installed ... OK
* checking installed package size ... OK
* checking package directory ... OK
* checking ‘build’ directory ... OK
* checking DESCRIPTION meta-information ... OK
* checking top-level files ... OK
* checking for left-over files ... OK
* checking index information ... OK
* checking package subdirectories ... OK
* checking R files for non-ASCII characters ... OK
* checking R files for syntax errors ... OK
* checking whether the package can be loaded ... OK
* checking whether the package can be loaded with stated dependencies ... OK
* checking whether the package can be unloaded cleanly ... OK
* checking whether the namespace can be loaded with stated dependencies ... OK
* checking whether the namespace can be unloaded cleanly ... OK
* checking dependencies in R code ... OK
* checking S3 generic/method consistency ... OK
* checking replacement functions ... OK
* checking foreign function calls ... OK
* checking R code for possible problems ... OK
* checking Rd files ... OK
* checking Rd metadata ... OK
* checking Rd cross-references ... OK
* checking for missing documentation entries ... OK
* checking for code/documentation mismatches ... OK
* checking Rd \usage sections ... OK
* checking Rd contents ... OK
* checking for unstated dependencies in examples ... OK
* checking contents of ‘data’ directory ... OK
* checking data for non-ASCII characters ... OK
* checking data for ASCII and uncompressed saves ... OK
* checking sizes of PDF files under ‘inst/doc’ ... OK
* checking files in ‘vignettes’ ... OK
* checking examples ... OK
Examples with CPU (user + system) or elapsed time > 5s
user system elapsed
wrenchNorm 19.020 1.316 20.361
exportMat 1.771 3.380 5.418
MRfulltable 1.464 0.054 7.208
* checking for unstated dependencies in ‘tests’ ... OK
* checking tests ...
Running ‘testthat.R’
OK
* checking for unstated dependencies in vignettes ... OK
* checking package vignettes in ‘inst/doc’ ... OK
* checking running R code from vignettes ... SKIPPED
* checking re-building of vignette outputs ... SKIPPED
* checking PDF version of manual ... OK
* DONE
Status: OK
metagenomeSeq.Rcheck/00install.out
############################################################################## ############################################################################## ### ### Running command: ### ### /Library/Frameworks/R.framework/Versions/Current/Resources/bin/R CMD INSTALL metagenomeSeq ### ############################################################################## ############################################################################## * installing to library ‘/Library/Frameworks/R.framework/Versions/4.0/Resources/library’ * installing *source* package ‘metagenomeSeq’ ... ** using staged installation ** R ** data ** inst ** byte-compile and prepare package for lazy loading in method for ‘MRihw’ with signature ‘"fitFeatureModelResults"’: no definition for class “fitFeatureModelResults” in method for ‘MRihw’ with signature ‘"fitZigResults"’: no definition for class “fitZigResults” ** help *** installing help indices ** building package indices ** installing vignettes ** testing if installed package can be loaded from temporary location ** testing if installed package can be loaded from final location ** testing if installed package keeps a record of temporary installation path * DONE (metagenomeSeq)
metagenomeSeq.Rcheck/tests/testthat.Rout
R version 4.0.5 (2021-03-31) -- "Shake and Throw"
Copyright (C) 2021 The R Foundation for Statistical Computing
Platform: x86_64-apple-darwin17.0 (64-bit)
R is free software and comes with ABSOLUTELY NO WARRANTY.
You are welcome to redistribute it under certain conditions.
Type 'license()' or 'licence()' for distribution details.
R is a collaborative project with many contributors.
Type 'contributors()' for more information and
'citation()' on how to cite R or R packages in publications.
Type 'demo()' for some demos, 'help()' for on-line help, or
'help.start()' for an HTML browser interface to help.
Type 'q()' to quit R.
> library("testthat")
> packageVersion("metagenomeSeq")
[1] '1.32.0'
> # As suggested for opt-out option on testing by users,
> # recommended by CRAN: http://adv-r.had.co.nz/Testing.html
> # Previously, best practice was to put all test files in inst/tests
> # and ensure that R CMD check ran them by putting the following code in tests/test-all.R:
> # >library(testthat)
> # >library(yourpackage)
> # >test_package("yourpackage")
> # Now, recommended practice is to put your tests in tests/testthat,
> # and ensure R CMD check runs them by putting the following code in tests/test-all.R:
> # >library(testthat)
> # >test_check("yourpackage")
> # The advantage of this new structure is that the user has control over whether or not tests are installed using the –install-tests parameter to
> # R CMD install, or INSTALL_opts = c(“–install-tests”) argument to install.packages(). I’m not sure why you wouldn’t want to install the tests,
> # but now you have the flexibility as requested by CRAN maintainers.
> test_check("metagenomeSeq")
Loading required package: metagenomeSeq
Loading required package: Biobase
Loading required package: BiocGenerics
Loading required package: parallel
Attaching package: 'BiocGenerics'
The following objects are masked from 'package:parallel':
clusterApply, clusterApplyLB, clusterCall, clusterEvalQ,
clusterExport, clusterMap, parApply, parCapply, parLapply,
parLapplyLB, parRapply, parSapply, parSapplyLB
The following objects are masked from 'package:stats':
IQR, mad, sd, var, xtabs
The following objects are masked from 'package:base':
Filter, Find, Map, Position, Reduce, anyDuplicated, append,
as.data.frame, basename, cbind, colnames, dirname, do.call,
duplicated, eval, evalq, get, grep, grepl, intersect, is.unsorted,
lapply, mapply, match, mget, order, paste, pmax, pmax.int, pmin,
pmin.int, rank, rbind, rownames, sapply, setdiff, sort, table,
tapply, union, unique, unsplit, which.max, which.min
Welcome to Bioconductor
Vignettes contain introductory material; view with
'browseVignettes()'. To cite Bioconductor, see
'citation("Biobase")', and for packages 'citation("pkgname")'.
Loading required package: limma
Attaching package: 'limma'
The following object is masked from 'package:BiocGenerics':
plotMA
Loading required package: glmnet
Loading required package: Matrix
Loaded glmnet 4.1-1
Loading required package: RColorBrewer
[ FAIL 0 | WARN 6 | SKIP 0 | PASS 15 ]
>
> proc.time()
user system elapsed
121.422 6.477 128.031
metagenomeSeq.Rcheck/metagenomeSeq-Ex.timings
| name | user | system | elapsed | |
| MRcoefs | 1.729 | 0.096 | 1.827 | |
| MRcounts | 0.644 | 0.014 | 0.660 | |
| MRexperiment-class | 0 | 0 | 0 | |
| MRfulltable | 1.464 | 0.054 | 7.208 | |
| MRtable | 1.388 | 0.021 | 1.412 | |
| aggregateBySample | 0.251 | 0.013 | 0.264 | |
| aggregateByTaxonomy | 0.246 | 0.010 | 0.256 | |
| biom2MRexperiment | 0.421 | 0.013 | 0.434 | |
| calcNormFactors | 0.818 | 0.096 | 0.917 | |
| correctIndices | 0.184 | 0.012 | 0.197 | |
| correlationTest | 0.346 | 0.020 | 0.367 | |
| cumNorm | 0.505 | 0.103 | 0.608 | |
| cumNormMat | 0.648 | 0.098 | 0.747 | |
| cumNormStat | 0.654 | 0.035 | 0.689 | |
| cumNormStatFast | 0.399 | 0.041 | 0.444 | |
| expSummary | 0.154 | 0.010 | 0.165 | |
| exportMat | 1.771 | 3.380 | 5.418 | |
| exportStats | 0.491 | 0.016 | 0.509 | |
| extractMR | 2.610 | 1.600 | 4.267 | |
| filterData | 0.242 | 0.017 | 0.261 | |
| fitDO | 0.618 | 0.017 | 4.378 | |
| fitFeatureModel | 1.545 | 0.043 | 1.588 | |
| fitLogNormal | 2.001 | 0.124 | 2.126 | |
| fitMultipleTimeSeries | 2.296 | 0.140 | 2.439 | |
| fitPA | 0.558 | 0.023 | 3.852 | |
| fitSSTimeSeries | 0.561 | 0.022 | 0.585 | |
| fitTimeSeries | 0.538 | 0.045 | 0.584 | |
| fitZig | 2.078 | 0.105 | 2.184 | |
| libSize-set | 0.573 | 0.031 | 0.605 | |
| libSize | 0.521 | 0.022 | 0.544 | |
| loadBiom | 0.054 | 0.001 | 0.055 | |
| loadMeta | 0.022 | 0.002 | 0.024 | |
| loadMetaQ | 0 | 0 | 0 | |
| loadPhenoData | 0.017 | 0.001 | 0.017 | |
| makeLabels | 0.001 | 0.000 | 0.001 | |
| mergeMRexperiments | 1.945 | 0.180 | 2.129 | |
| newMRexperiment | 0.044 | 0.000 | 0.045 | |
| normFactors-set | 0.718 | 0.039 | 0.758 | |
| normFactors | 0.497 | 0.008 | 0.505 | |
| plotBubble | 0.367 | 0.016 | 3.718 | |
| plotClassTimeSeries | 1.345 | 0.177 | 1.523 | |
| plotCorr | 0.607 | 0.024 | 0.632 | |
| plotFeature | 0.220 | 0.015 | 0.235 | |
| plotGenus | 0.229 | 0.017 | 0.246 | |
| plotMRheatmap | 3.246 | 0.102 | 3.354 | |
| plotOTU | 0.183 | 0.012 | 0.196 | |
| plotOrd | 0.308 | 0.010 | 0.319 | |
| plotRare | 0.177 | 0.011 | 0.188 | |
| plotTimeSeries | 1.246 | 0.097 | 1.345 | |
| posteriorProbs | 1.909 | 0.156 | 2.067 | |
| returnAppropriateObj | 0.453 | 0.020 | 0.475 | |
| ssFit | 0 | 0 | 0 | |
| ssIntervalCandidate | 0.000 | 0.000 | 0.001 | |
| ssPerm | 0 | 0 | 0 | |
| ssPermAnalysis | 0.000 | 0.000 | 0.001 | |
| trapz | 0.001 | 0.001 | 0.001 | |
| ts2MRexperiment | 2.024 | 0.161 | 2.187 | |
| uniqueFeatures | 0.151 | 0.007 | 0.159 | |
| wrenchNorm | 19.020 | 1.316 | 20.361 | |
| zigControl | 0.000 | 0.000 | 0.001 | |