| Back to Multiple platform build/check report for BioC 3.12 |
|
This page was generated on 2021-05-06 12:28:11 -0400 (Thu, 06 May 2021).
|
To the developers/maintainers of the metagenomeSeq package: Please make sure to use the following settings in order to reproduce any error or warning you see on this page. |
| Package 1054/1974 | Hostname | OS / Arch | INSTALL | BUILD | CHECK | BUILD BIN | ||||||||
| metagenomeSeq 1.32.0 (landing page) Joseph N. Paulson
| malbec1 | Linux (Ubuntu 18.04.5 LTS) / x86_64 | OK | OK | OK | |||||||||
| tokay1 | Windows Server 2012 R2 Standard / x64 | OK | OK | OK | OK | |||||||||
| merida1 | macOS 10.14.6 Mojave / x86_64 | OK | OK | OK | OK | |||||||||
| Package: metagenomeSeq |
| Version: 1.32.0 |
| Command: /home/biocbuild/bbs-3.12-bioc/R/bin/R CMD check --install=check:metagenomeSeq.install-out.txt --library=/home/biocbuild/bbs-3.12-bioc/R/library --no-vignettes --timings metagenomeSeq_1.32.0.tar.gz |
| StartedAt: 2021-05-06 03:15:30 -0400 (Thu, 06 May 2021) |
| EndedAt: 2021-05-06 03:20:08 -0400 (Thu, 06 May 2021) |
| EllapsedTime: 277.4 seconds |
| RetCode: 0 |
| Status: OK |
| CheckDir: metagenomeSeq.Rcheck |
| Warnings: 0 |
##############################################################################
##############################################################################
###
### Running command:
###
### /home/biocbuild/bbs-3.12-bioc/R/bin/R CMD check --install=check:metagenomeSeq.install-out.txt --library=/home/biocbuild/bbs-3.12-bioc/R/library --no-vignettes --timings metagenomeSeq_1.32.0.tar.gz
###
##############################################################################
##############################################################################
* using log directory ‘/home/biocbuild/bbs-3.12-bioc/meat/metagenomeSeq.Rcheck’
* using R version 4.0.5 (2021-03-31)
* using platform: x86_64-pc-linux-gnu (64-bit)
* using session charset: UTF-8
* using option ‘--no-vignettes’
* checking for file ‘metagenomeSeq/DESCRIPTION’ ... OK
* this is package ‘metagenomeSeq’ version ‘1.32.0’
* checking package namespace information ... OK
* checking package dependencies ... OK
* checking if this is a source package ... OK
* checking if there is a namespace ... OK
* checking for hidden files and directories ... OK
* checking for portable file names ... OK
* checking for sufficient/correct file permissions ... OK
* checking whether package ‘metagenomeSeq’ can be installed ... OK
* checking installed package size ... OK
* checking package directory ... OK
* checking ‘build’ directory ... OK
* checking DESCRIPTION meta-information ... OK
* checking top-level files ... OK
* checking for left-over files ... OK
* checking index information ... OK
* checking package subdirectories ... OK
* checking R files for non-ASCII characters ... OK
* checking R files for syntax errors ... OK
* checking whether the package can be loaded ... OK
* checking whether the package can be loaded with stated dependencies ... OK
* checking whether the package can be unloaded cleanly ... OK
* checking whether the namespace can be loaded with stated dependencies ... OK
* checking whether the namespace can be unloaded cleanly ... OK
* checking dependencies in R code ... OK
* checking S3 generic/method consistency ... OK
* checking replacement functions ... OK
* checking foreign function calls ... OK
* checking R code for possible problems ... OK
* checking Rd files ... OK
* checking Rd metadata ... OK
* checking Rd cross-references ... OK
* checking for missing documentation entries ... OK
* checking for code/documentation mismatches ... OK
* checking Rd \usage sections ... OK
* checking Rd contents ... OK
* checking for unstated dependencies in examples ... OK
* checking contents of ‘data’ directory ... OK
* checking data for non-ASCII characters ... OK
* checking data for ASCII and uncompressed saves ... OK
* checking files in ‘vignettes’ ... OK
* checking examples ... OK
Examples with CPU (user + system) or elapsed time > 5s
user system elapsed
wrenchNorm 20.704 0.136 20.865
MRfulltable 1.196 0.088 6.719
* checking for unstated dependencies in ‘tests’ ... OK
* checking tests ...
Running ‘testthat.R’
OK
* checking for unstated dependencies in vignettes ... OK
* checking package vignettes in ‘inst/doc’ ... OK
* checking running R code from vignettes ... SKIPPED
* checking re-building of vignette outputs ... SKIPPED
* checking PDF version of manual ... OK
* DONE
Status: OK
metagenomeSeq.Rcheck/00install.out
############################################################################## ############################################################################## ### ### Running command: ### ### /home/biocbuild/bbs-3.12-bioc/R/bin/R CMD INSTALL metagenomeSeq ### ############################################################################## ############################################################################## * installing to library ‘/home/biocbuild/bbs-3.12-bioc/R/library’ * installing *source* package ‘metagenomeSeq’ ... ** using staged installation ** R ** data ** inst ** byte-compile and prepare package for lazy loading in method for ‘MRihw’ with signature ‘"fitFeatureModelResults"’: no definition for class “fitFeatureModelResults” in method for ‘MRihw’ with signature ‘"fitZigResults"’: no definition for class “fitZigResults” ** help *** installing help indices ** building package indices ** installing vignettes ** testing if installed package can be loaded from temporary location ** testing if installed package can be loaded from final location ** testing if installed package keeps a record of temporary installation path * DONE (metagenomeSeq)
metagenomeSeq.Rcheck/tests/testthat.Rout
R version 4.0.5 (2021-03-31) -- "Shake and Throw"
Copyright (C) 2021 The R Foundation for Statistical Computing
Platform: x86_64-pc-linux-gnu (64-bit)
R is free software and comes with ABSOLUTELY NO WARRANTY.
You are welcome to redistribute it under certain conditions.
Type 'license()' or 'licence()' for distribution details.
R is a collaborative project with many contributors.
Type 'contributors()' for more information and
'citation()' on how to cite R or R packages in publications.
Type 'demo()' for some demos, 'help()' for on-line help, or
'help.start()' for an HTML browser interface to help.
Type 'q()' to quit R.
> library("testthat")
> packageVersion("metagenomeSeq")
[1] '1.32.0'
> # As suggested for opt-out option on testing by users,
> # recommended by CRAN: http://adv-r.had.co.nz/Testing.html
> # Previously, best practice was to put all test files in inst/tests
> # and ensure that R CMD check ran them by putting the following code in tests/test-all.R:
> # >library(testthat)
> # >library(yourpackage)
> # >test_package("yourpackage")
> # Now, recommended practice is to put your tests in tests/testthat,
> # and ensure R CMD check runs them by putting the following code in tests/test-all.R:
> # >library(testthat)
> # >test_check("yourpackage")
> # The advantage of this new structure is that the user has control over whether or not tests are installed using the –install-tests parameter to
> # R CMD install, or INSTALL_opts = c(“–install-tests”) argument to install.packages(). I’m not sure why you wouldn’t want to install the tests,
> # but now you have the flexibility as requested by CRAN maintainers.
> test_check("metagenomeSeq")
Loading required package: metagenomeSeq
Loading required package: Biobase
Loading required package: BiocGenerics
Loading required package: parallel
Attaching package: 'BiocGenerics'
The following objects are masked from 'package:parallel':
clusterApply, clusterApplyLB, clusterCall, clusterEvalQ,
clusterExport, clusterMap, parApply, parCapply, parLapply,
parLapplyLB, parRapply, parSapply, parSapplyLB
The following objects are masked from 'package:stats':
IQR, mad, sd, var, xtabs
The following objects are masked from 'package:base':
Filter, Find, Map, Position, Reduce, anyDuplicated, append,
as.data.frame, basename, cbind, colnames, dirname, do.call,
duplicated, eval, evalq, get, grep, grepl, intersect, is.unsorted,
lapply, mapply, match, mget, order, paste, pmax, pmax.int, pmin,
pmin.int, rank, rbind, rownames, sapply, setdiff, sort, table,
tapply, union, unique, unsplit, which.max, which.min
Welcome to Bioconductor
Vignettes contain introductory material; view with
'browseVignettes()'. To cite Bioconductor, see
'citation("Biobase")', and for packages 'citation("pkgname")'.
Loading required package: limma
Attaching package: 'limma'
The following object is masked from 'package:BiocGenerics':
plotMA
Loading required package: glmnet
Loading required package: Matrix
Loaded glmnet 4.1-1
Loading required package: RColorBrewer
[ FAIL 0 | WARN 6 | SKIP 0 | PASS 15 ]
>
> proc.time()
user system elapsed
117.124 1.064 118.412
metagenomeSeq.Rcheck/metagenomeSeq-Ex.timings
| name | user | system | elapsed | |
| MRcoefs | 1.328 | 0.072 | 1.400 | |
| MRcounts | 0.476 | 0.024 | 0.501 | |
| MRexperiment-class | 0 | 0 | 0 | |
| MRfulltable | 1.196 | 0.088 | 6.719 | |
| MRtable | 1.180 | 0.096 | 1.276 | |
| aggregateBySample | 0.268 | 0.008 | 0.274 | |
| aggregateByTaxonomy | 0.272 | 0.016 | 0.290 | |
| biom2MRexperiment | 0.344 | 0.004 | 0.356 | |
| calcNormFactors | 0.72 | 0.02 | 0.74 | |
| correctIndices | 0.088 | 0.024 | 0.110 | |
| correlationTest | 0.228 | 0.008 | 0.236 | |
| cumNorm | 0.436 | 0.008 | 0.446 | |
| cumNormMat | 0.504 | 0.020 | 0.524 | |
| cumNormStat | 0.488 | 0.000 | 0.491 | |
| cumNormStatFast | 0.336 | 0.004 | 0.342 | |
| expSummary | 0.100 | 0.008 | 0.109 | |
| exportMat | 0.968 | 0.892 | 1.871 | |
| exportStats | 0.440 | 0.020 | 0.458 | |
| extractMR | 1.292 | 0.392 | 1.689 | |
| filterData | 0.240 | 0.008 | 0.250 | |
| fitDO | 0.740 | 0.056 | 4.559 | |
| fitFeatureModel | 1.236 | 0.096 | 1.336 | |
| fitLogNormal | 2.800 | 0.080 | 2.891 | |
| fitMultipleTimeSeries | 1.788 | 0.012 | 1.807 | |
| fitPA | 0.620 | 0.028 | 4.171 | |
| fitSSTimeSeries | 0.600 | 0.032 | 0.649 | |
| fitTimeSeries | 0.580 | 0.000 | 0.577 | |
| fitZig | 2.156 | 0.060 | 2.221 | |
| libSize-set | 0.404 | 0.012 | 0.419 | |
| libSize | 0.408 | 0.028 | 0.437 | |
| loadBiom | 0.052 | 0.000 | 0.054 | |
| loadMeta | 0.048 | 0.000 | 0.172 | |
| loadMetaQ | 0.000 | 0.000 | 0.001 | |
| loadPhenoData | 0.016 | 0.000 | 0.035 | |
| makeLabels | 0 | 0 | 0 | |
| mergeMRexperiments | 2.016 | 0.132 | 2.153 | |
| newMRexperiment | 0.056 | 0.000 | 0.055 | |
| normFactors-set | 0.468 | 0.020 | 0.487 | |
| normFactors | 0.392 | 0.024 | 0.416 | |
| plotBubble | 0.488 | 0.064 | 3.844 | |
| plotClassTimeSeries | 1.256 | 0.032 | 1.291 | |
| plotCorr | 0.804 | 0.016 | 0.823 | |
| plotFeature | 0.260 | 0.004 | 0.267 | |
| plotGenus | 0.176 | 0.008 | 0.185 | |
| plotMRheatmap | 3.628 | 0.040 | 3.681 | |
| plotOTU | 0.236 | 0.016 | 0.254 | |
| plotOrd | 0.364 | 0.016 | 0.378 | |
| plotRare | 0.232 | 0.024 | 0.255 | |
| plotTimeSeries | 1.332 | 0.008 | 1.341 | |
| posteriorProbs | 2.884 | 0.088 | 2.980 | |
| returnAppropriateObj | 0.328 | 0.016 | 0.348 | |
| ssFit | 0 | 0 | 0 | |
| ssIntervalCandidate | 0 | 0 | 0 | |
| ssPerm | 0 | 0 | 0 | |
| ssPermAnalysis | 0.000 | 0.000 | 0.001 | |
| trapz | 0 | 0 | 0 | |
| ts2MRexperiment | 1.944 | 0.000 | 1.947 | |
| uniqueFeatures | 0.212 | 0.000 | 0.212 | |
| wrenchNorm | 20.704 | 0.136 | 20.865 | |
| zigControl | 0 | 0 | 0 | |