| Back to Multiple platform build/check report for BioC 3.12 |
|
This page was generated on 2021-05-06 12:31:48 -0400 (Thu, 06 May 2021).
|
To the developers/maintainers of the idpr package: Please make sure to use the following settings in order to reproduce any error or warning you see on this page. |
| Package 874/1974 | Hostname | OS / Arch | INSTALL | BUILD | CHECK | BUILD BIN | ||||||||
| idpr 1.0.007 (landing page) William M. McFadden
| malbec1 | Linux (Ubuntu 18.04.5 LTS) / x86_64 | OK | OK | OK | |||||||||
| tokay1 | Windows Server 2012 R2 Standard / x64 | OK | OK | OK | OK | |||||||||
| merida1 | macOS 10.14.6 Mojave / x86_64 | OK | OK | OK | OK | |||||||||
| Package: idpr |
| Version: 1.0.007 |
| Command: rm -rf idpr.buildbin-libdir && mkdir idpr.buildbin-libdir && C:\Users\biocbuild\bbs-3.12-bioc\R\bin\R.exe CMD INSTALL --merge-multiarch --build --library=idpr.buildbin-libdir idpr_1.0.007.tar.gz |
| StartedAt: 2021-05-06 09:19:07 -0400 (Thu, 06 May 2021) |
| EndedAt: 2021-05-06 09:19:49 -0400 (Thu, 06 May 2021) |
| EllapsedTime: 41.8 seconds |
| RetCode: 0 |
| Status: OK |
| PackageFile: idpr_1.0.007.zip |
| PackageFileSize: 1.075 MiB |
##############################################################################
##############################################################################
###
### Running command:
###
### rm -rf idpr.buildbin-libdir && mkdir idpr.buildbin-libdir && C:\Users\biocbuild\bbs-3.12-bioc\R\bin\R.exe CMD INSTALL --merge-multiarch --build --library=idpr.buildbin-libdir idpr_1.0.007.tar.gz
###
##############################################################################
##############################################################################
install for i386
* installing *source* package 'idpr' ...
** using staged installation
** R
** data
*** moving datasets to lazyload DB
** inst
** byte-compile and prepare package for lazy loading
** help
*** installing help indices
converting help for package 'idpr'
finding HTML links ... done
DUNMat html
DisorderMat html
EDSSMat html
KDNorm html
TP53Sequences html
chargeCalculationGlobal html
chargeCalculationLocal html
chargeHydropathyPlot html
hendersonHasselbalch html
idprofile html
iupred html
meanScaledHydropathy html
netCharge html
pKaData html
scaledHydropathyGlobal html
scaledHydropathyLocal html
sequenceCheck html
sequenceMap html
sequenceMapCoordinates html
sequencePlot html
structuralTendency html
structuralTendencyPlot html
*** copying figures
** building package indices
** installing vignettes
** testing if installed package can be loaded from temporary location
** testing if installed package can be loaded from final location
** testing if installed package keeps a record of temporary installation path
install for x64
* installing *source* package 'idpr' ...
** testing if installed package can be loaded
* MD5 sums
packaged installation of 'idpr' as idpr_1.0.007.zip
* DONE (idpr)