| Back to Multiple platform build/check report for BioC 3.12 |
|
This page was generated on 2021-05-06 12:35:21 -0400 (Thu, 06 May 2021).
|
To the developers/maintainers of the idpr package: Please make sure to use the following settings in order to reproduce any error or warning you see on this page. |
| Package 874/1974 | Hostname | OS / Arch | INSTALL | BUILD | CHECK | BUILD BIN | ||||||||
| idpr 1.0.007 (landing page) William M. McFadden
| malbec1 | Linux (Ubuntu 18.04.5 LTS) / x86_64 | OK | OK | OK | |||||||||
| tokay1 | Windows Server 2012 R2 Standard / x64 | OK | OK | OK | OK | |||||||||
| merida1 | macOS 10.14.6 Mojave / x86_64 | OK | OK | OK | OK | |||||||||
| Package: idpr |
| Version: 1.0.007 |
| Command: /Library/Frameworks/R.framework/Versions/Current/Resources/bin/R CMD build --keep-empty-dirs --no-resave-data idpr |
| StartedAt: 2021-05-05 20:06:13 -0400 (Wed, 05 May 2021) |
| EndedAt: 2021-05-05 20:07:34 -0400 (Wed, 05 May 2021) |
| EllapsedTime: 81.2 seconds |
| RetCode: 0 |
| Status: OK |
| PackageFile: idpr_1.0.007.tar.gz |
| PackageFileSize: 2.331 MiB |
############################################################################## ############################################################################## ### ### Running command: ### ### /Library/Frameworks/R.framework/Versions/Current/Resources/bin/R CMD build --keep-empty-dirs --no-resave-data idpr ### ############################################################################## ############################################################################## * checking for file ‘idpr/DESCRIPTION’ ... OK * preparing ‘idpr’: * checking DESCRIPTION meta-information ... OK * installing the package to build vignettes * creating vignettes ... OK * checking for LF line-endings in source and make files and shell scripts * checking for empty or unneeded directories * building ‘idpr_1.0.007.tar.gz’