| Back to Multiple platform build/check report for BioC 3.12 |
|
This page was generated on 2021-05-06 12:35:16 -0400 (Thu, 06 May 2021).
|
To the developers/maintainers of the hicrep package: Please make sure to use the following settings in order to reproduce any error or warning you see on this page. |
| Package 831/1974 | Hostname | OS / Arch | INSTALL | BUILD | CHECK | BUILD BIN | ||||||||
Tao Yang
| malbec1 | Linux (Ubuntu 18.04.5 LTS) / x86_64 | ERROR | ERROR | skipped | |||||||||
| tokay1 | Windows Server 2012 R2 Standard / x64 | ERROR | ERROR | skipped | skipped | |||||||||
| merida1 | macOS 10.14.6 Mojave / x86_64 | ERROR | ERROR | skipped | skipped | |||||||||
| Package: hicrep |
| Version: 1.14.0 |
| Command: /Library/Frameworks/R.framework/Versions/Current/Resources/bin/R CMD build --keep-empty-dirs --no-resave-data hicrep |
| StartedAt: 2021-05-05 19:59:42 -0400 (Wed, 05 May 2021) |
| EndedAt: 2021-05-05 19:59:43 -0400 (Wed, 05 May 2021) |
| EllapsedTime: 1.3 seconds |
| RetCode: 1 |
| Status: ERROR |
| PackageFile: None |
| PackageFileSize: NA |
##############################################################################
##############################################################################
###
### Running command:
###
### /Library/Frameworks/R.framework/Versions/Current/Resources/bin/R CMD build --keep-empty-dirs --no-resave-data hicrep
###
##############################################################################
##############################################################################
* checking for file ‘hicrep/DESCRIPTION’ ... OK
* preparing ‘hicrep’:
* checking DESCRIPTION meta-information ... OK
* cleaning src
* installing the package to build vignettes
-----------------------------------
ERROR: dependency ‘strawr’ is not available for package ‘hicrep’
* removing ‘/private/tmp/RtmpCQ23ye/Rinste4fa6ff4deee/hicrep’
-----------------------------------
ERROR: package installation failed