| Back to Multiple platform build/check report for BioC 3.12 |
|
This page was generated on 2021-05-06 12:27:52 -0400 (Thu, 06 May 2021).
|
To the developers/maintainers of the hicrep package: Please make sure to use the following settings in order to reproduce any error or warning you see on this page. |
| Package 831/1974 | Hostname | OS / Arch | INSTALL | BUILD | CHECK | BUILD BIN | ||||||||
Tao Yang
| malbec1 | Linux (Ubuntu 18.04.5 LTS) / x86_64 | ERROR | ERROR | skipped | |||||||||
| tokay1 | Windows Server 2012 R2 Standard / x64 | ERROR | ERROR | skipped | skipped | |||||||||
| merida1 | macOS 10.14.6 Mojave / x86_64 | ERROR | ERROR | skipped | skipped | |||||||||
| Package: hicrep |
| Version: 1.14.0 |
| Command: /home/biocbuild/bbs-3.12-bioc/R/bin/R CMD build --keep-empty-dirs --no-resave-data hicrep |
| StartedAt: 2021-05-05 19:36:09 -0400 (Wed, 05 May 2021) |
| EndedAt: 2021-05-05 19:36:11 -0400 (Wed, 05 May 2021) |
| EllapsedTime: 1.6 seconds |
| RetCode: 1 |
| Status: ERROR |
| PackageFile: None |
| PackageFileSize: NA |
##############################################################################
##############################################################################
###
### Running command:
###
### /home/biocbuild/bbs-3.12-bioc/R/bin/R CMD build --keep-empty-dirs --no-resave-data hicrep
###
##############################################################################
##############################################################################
* checking for file ‘hicrep/DESCRIPTION’ ... OK
* preparing ‘hicrep’:
* checking DESCRIPTION meta-information ... OK
* cleaning src
* installing the package to build vignettes
-----------------------------------
ERROR: dependency ‘strawr’ is not available for package ‘hicrep’
* removing ‘/tmp/RtmpC6j2di/Rinst2f56d6f22b0/hicrep’
-----------------------------------
ERROR: package installation failed