| Back to Multiple platform build/check report for BioC 3.12 |
|
This page was generated on 2021-05-06 12:27:39 -0400 (Thu, 06 May 2021).
|
To the developers/maintainers of the funtooNorm package: Please make sure to use the following settings in order to reproduce any error or warning you see on this page. |
| Package 655/1974 | Hostname | OS / Arch | INSTALL | BUILD | CHECK | BUILD BIN | ||||||||
| funtooNorm 1.14.0 (landing page) Kathleen Klein
| malbec1 | Linux (Ubuntu 18.04.5 LTS) / x86_64 | OK | OK | WARNINGS | |||||||||
| tokay1 | Windows Server 2012 R2 Standard / x64 | OK | OK | WARNINGS | OK | |||||||||
| merida1 | macOS 10.14.6 Mojave / x86_64 | OK | OK | WARNINGS | OK | |||||||||
| Package: funtooNorm |
| Version: 1.14.0 |
| Command: /home/biocbuild/bbs-3.12-bioc/R/bin/R CMD build --keep-empty-dirs --no-resave-data funtooNorm |
| StartedAt: 2021-05-05 19:07:38 -0400 (Wed, 05 May 2021) |
| EndedAt: 2021-05-05 19:09:32 -0400 (Wed, 05 May 2021) |
| EllapsedTime: 113.8 seconds |
| RetCode: 0 |
| Status: OK |
| PackageFile: funtooNorm_1.14.0.tar.gz |
| PackageFileSize: 3.37 MiB |
############################################################################## ############################################################################## ### ### Running command: ### ### /home/biocbuild/bbs-3.12-bioc/R/bin/R CMD build --keep-empty-dirs --no-resave-data funtooNorm ### ############################################################################## ############################################################################## * checking for file ‘funtooNorm/DESCRIPTION’ ... OK * preparing ‘funtooNorm’: * checking DESCRIPTION meta-information ... OK * installing the package to build vignettes * creating vignettes ... OK * checking for LF line-endings in source and make files and shell scripts * checking for empty or unneeded directories * building ‘funtooNorm_1.14.0.tar.gz’