| Back to Multiple platform build/check report for BioC 3.12 |
|
This page was generated on 2021-05-06 12:31:20 -0400 (Thu, 06 May 2021).
|
To the developers/maintainers of the flowSpy package: Please make sure to use the following settings in order to reproduce any error or warning you see on this page. |
| Package 633/1974 | Hostname | OS / Arch | INSTALL | BUILD | CHECK | BUILD BIN | ||||||||
Yuting Dai
| malbec1 | Linux (Ubuntu 18.04.5 LTS) / x86_64 | OK | OK | WARNINGS | |||||||||
| tokay1 | Windows Server 2012 R2 Standard / x64 | OK | OK | WARNINGS | OK | |||||||||
| merida1 | macOS 10.14.6 Mojave / x86_64 | OK | OK | WARNINGS | OK | |||||||||
| Package: flowSpy |
| Version: 1.4.0 |
| Command: rm -rf flowSpy.buildbin-libdir && mkdir flowSpy.buildbin-libdir && C:\Users\biocbuild\bbs-3.12-bioc\R\bin\R.exe CMD INSTALL --merge-multiarch --build --library=flowSpy.buildbin-libdir flowSpy_1.4.0.tar.gz |
| StartedAt: 2021-05-06 09:05:46 -0400 (Thu, 06 May 2021) |
| EndedAt: 2021-05-06 09:07:11 -0400 (Thu, 06 May 2021) |
| EllapsedTime: 85.1 seconds |
| RetCode: 0 |
| Status: OK |
| PackageFile: flowSpy_1.4.0.zip |
| PackageFileSize: 4.413 MiB |
##############################################################################
##############################################################################
###
### Running command:
###
### rm -rf flowSpy.buildbin-libdir && mkdir flowSpy.buildbin-libdir && C:\Users\biocbuild\bbs-3.12-bioc\R\bin\R.exe CMD INSTALL --merge-multiarch --build --library=flowSpy.buildbin-libdir flowSpy_1.4.0.tar.gz
###
##############################################################################
##############################################################################
install for i386
* installing *source* package 'flowSpy' ...
** using staged installation
** libs
"C:/rtools40/mingw32/bin/"g++ -std=gnu++11 -I"C:/Users/BIOCBU~1/BBS-3~1.12-/R/include" -DNDEBUG -I'C:/Users/biocbuild/bbs-3.12-bioc/R/library/Rcpp/include' -I"C:/extsoft/include" -O2 -Wall -mfpmath=sse -msse2 -mstackrealign -c RcppExports.cpp -o RcppExports.o
"C:/rtools40/mingw32/bin/"g++ -std=gnu++11 -I"C:/Users/BIOCBU~1/BBS-3~1.12-/R/include" -DNDEBUG -I'C:/Users/biocbuild/bbs-3.12-bioc/R/library/Rcpp/include' -I"C:/extsoft/include" -O2 -Wall -mfpmath=sse -msse2 -mstackrealign -c jaccard_coeff.cpp -o jaccard_coeff.o
C:/rtools40/mingw32/bin/g++ -std=gnu++11 -shared -s -static-libgcc -o flowSpy.dll tmp.def RcppExports.o jaccard_coeff.o -LC:/extsoft/lib/i386 -LC:/extsoft/lib -LC:/Users/BIOCBU~1/BBS-3~1.12-/R/bin/i386 -lR
installing to C:/Users/biocbuild/bbs-3.12-bioc/meat/flowSpy.buildbin-libdir/00LOCK-flowSpy/00new/flowSpy/libs/i386
** R
** inst
** byte-compile and prepare package for lazy loading
No methods found in package 'flowCore' for requests: 'action', 'assign', 'Data', 'gate', 'tree' when loading 'flowUtils'
** help
*** installing help indices
converting help for package 'flowSpy'
finding HTML links ... done
FSPY-class html
Rphenograph html
buildTree html
constraintMatrix html
correctBatchFSPY html
createFSPY html
defLeafCells html
defRootCells html
fetchCell html
fetchClustMeta html
fetchPlotMeta html
find_neighbors html
flowSpy-package html
gatingMatrix html
plot2D html
plot3D html
plotBranchHeatmap html
plotCluster html
plotClusterHeatmap html
plotHeatmap html
plotMarkerDensity html
plotPieCluster html
plotPieTree html
plotPseudotimeDensity html
plotPseudotimeTraj html
plotTrajHeatmap html
plotTree html
plotViolin html
processingCluster html
runClara html
runCluster html
runDiff html
runDiffusionMap html
runExprsExtract html
runExprsMerge html
runFastPCA html
runHclust html
runKNN html
runKmeans html
runMclust html
runPhenograph html
runPseudotime html
runSOM html
finding level-2 HTML links ... done
runTSNE html
runUMAP html
runWalk html
show-FSPY-method html
subsetFSPY html
updateClustMeta html
updatePlotMeta html
** building package indices
** installing vignettes
** testing if installed package can be loaded from temporary location
No methods found in package 'flowCore' for requests: 'action', 'assign', 'Data', 'gate', 'tree' when loading 'flowUtils'
Warning: Package 'flowSpy' is deprecated and will be removed from Bioconductor
version 3.13
** testing if installed package can be loaded from final location
No methods found in package 'flowCore' for requests: 'action', 'assign', 'Data', 'gate', 'tree' when loading 'flowUtils'
Warning: Package 'flowSpy' is deprecated and will be removed from Bioconductor
version 3.13
** testing if installed package keeps a record of temporary installation path
install for x64
* installing *source* package 'flowSpy' ...
** libs
"C:/rtools40/mingw64/bin/"g++ -std=gnu++11 -I"C:/Users/BIOCBU~1/BBS-3~1.12-/R/include" -DNDEBUG -I'C:/Users/biocbuild/bbs-3.12-bioc/R/library/Rcpp/include' -I"C:/extsoft/include" -O2 -Wall -mfpmath=sse -msse2 -mstackrealign -c RcppExports.cpp -o RcppExports.o
"C:/rtools40/mingw64/bin/"g++ -std=gnu++11 -I"C:/Users/BIOCBU~1/BBS-3~1.12-/R/include" -DNDEBUG -I'C:/Users/biocbuild/bbs-3.12-bioc/R/library/Rcpp/include' -I"C:/extsoft/include" -O2 -Wall -mfpmath=sse -msse2 -mstackrealign -c jaccard_coeff.cpp -o jaccard_coeff.o
C:/rtools40/mingw64/bin/g++ -std=gnu++11 -shared -s -static-libgcc -o flowSpy.dll tmp.def RcppExports.o jaccard_coeff.o -LC:/extsoft/lib/x64 -LC:/extsoft/lib -LC:/Users/BIOCBU~1/BBS-3~1.12-/R/bin/x64 -lR
installing to C:/Users/biocbuild/bbs-3.12-bioc/meat/flowSpy.buildbin-libdir/flowSpy/libs/x64
** testing if installed package can be loaded
No methods found in package 'flowCore' for requests: 'action', 'assign', 'Data', 'gate', 'tree' when loading 'flowUtils'
Warning: Package 'flowSpy' is deprecated and will be removed from Bioconductor
version 3.13
* MD5 sums
packaged installation of 'flowSpy' as flowSpy_1.4.0.zip
* DONE (flowSpy)