| Back to Multiple platform build/check report for BioC 3.12 |
|
This page was generated on 2021-05-06 12:31:19 -0400 (Thu, 06 May 2021).
|
To the developers/maintainers of the flowCut package: Please make sure to use the following settings in order to reproduce any error or warning you see on this page. |
| Package 618/1974 | Hostname | OS / Arch | INSTALL | BUILD | CHECK | BUILD BIN | ||||||||
| flowCut 1.0.0 (landing page) Justin Meskas
| malbec1 | Linux (Ubuntu 18.04.5 LTS) / x86_64 | OK | OK | OK | |||||||||
| tokay1 | Windows Server 2012 R2 Standard / x64 | OK | OK | OK | OK | |||||||||
| merida1 | macOS 10.14.6 Mojave / x86_64 | OK | OK | OK | OK | |||||||||
| Package: flowCut |
| Version: 1.0.0 |
| Command: C:\Users\biocbuild\bbs-3.12-bioc\R\bin\R.exe CMD check --force-multiarch --install=check:flowCut.install-out.txt --library=C:\Users\biocbuild\bbs-3.12-bioc\R\library --no-vignettes --timings flowCut_1.0.0.tar.gz |
| StartedAt: 2021-05-06 02:50:39 -0400 (Thu, 06 May 2021) |
| EndedAt: 2021-05-06 02:54:23 -0400 (Thu, 06 May 2021) |
| EllapsedTime: 223.7 seconds |
| RetCode: 0 |
| Status: OK |
| CheckDir: flowCut.Rcheck |
| Warnings: 0 |
##############################################################################
##############################################################################
###
### Running command:
###
### C:\Users\biocbuild\bbs-3.12-bioc\R\bin\R.exe CMD check --force-multiarch --install=check:flowCut.install-out.txt --library=C:\Users\biocbuild\bbs-3.12-bioc\R\library --no-vignettes --timings flowCut_1.0.0.tar.gz
###
##############################################################################
##############################################################################
* using log directory 'C:/Users/biocbuild/bbs-3.12-bioc/meat/flowCut.Rcheck'
* using R version 4.0.5 (2021-03-31)
* using platform: x86_64-w64-mingw32 (64-bit)
* using session charset: ISO8859-1
* using option '--no-vignettes'
* checking for file 'flowCut/DESCRIPTION' ... OK
* checking extension type ... Package
* this is package 'flowCut' version '1.0.0'
* checking package namespace information ... OK
* checking package dependencies ... OK
* checking if this is a source package ... OK
* checking if there is a namespace ... OK
* checking for hidden files and directories ... OK
* checking for portable file names ... OK
* checking whether package 'flowCut' can be installed ... OK
* checking installed package size ... OK
* checking package directory ... OK
* checking 'build' directory ... OK
* checking DESCRIPTION meta-information ... OK
* checking top-level files ... OK
* checking for left-over files ... OK
* checking index information ... OK
* checking package subdirectories ... OK
* checking R files for non-ASCII characters ... OK
* checking R files for syntax errors ... OK
* loading checks for arch 'i386'
** checking whether the package can be loaded ... OK
** checking whether the package can be loaded with stated dependencies ... OK
** checking whether the package can be unloaded cleanly ... OK
** checking whether the namespace can be loaded with stated dependencies ... OK
** checking whether the namespace can be unloaded cleanly ... OK
* loading checks for arch 'x64'
** checking whether the package can be loaded ... OK
** checking whether the package can be loaded with stated dependencies ... OK
** checking whether the package can be unloaded cleanly ... OK
** checking whether the namespace can be loaded with stated dependencies ... OK
** checking whether the namespace can be unloaded cleanly ... OK
* checking dependencies in R code ... OK
* checking S3 generic/method consistency ... OK
* checking replacement functions ... OK
* checking foreign function calls ... OK
* checking R code for possible problems ... OK
* checking Rd files ... OK
* checking Rd metadata ... OK
* checking Rd cross-references ... OK
* checking for missing documentation entries ... OK
* checking for code/documentation mismatches ... OK
* checking Rd \usage sections ... OK
* checking Rd contents ... OK
* checking for unstated dependencies in examples ... OK
* checking contents of 'data' directory ... OK
* checking data for non-ASCII characters ... OK
* checking data for ASCII and uncompressed saves ... OK
* checking files in 'vignettes' ... OK
* checking examples ...
** running examples for arch 'i386' ... OK
Examples with CPU (user + system) or elapsed time > 5s
user system elapsed
flowCutData 12.41 2.48 14.90
flowCut 12.39 2.21 14.62
** running examples for arch 'x64' ... OK
Examples with CPU (user + system) or elapsed time > 5s
user system elapsed
flowCut 9.29 1.95 11.25
flowCutData 8.93 2.22 11.14
* checking for unstated dependencies in vignettes ... OK
* checking package vignettes in 'inst/doc' ... OK
* checking running R code from vignettes ... SKIPPED
* checking re-building of vignette outputs ... SKIPPED
* checking PDF version of manual ... OK
* DONE
Status: OK
flowCut.Rcheck/00install.out
##############################################################################
##############################################################################
###
### Running command:
###
### C:\cygwin\bin\curl.exe -O http://172.29.0.3/BBS/3.12/bioc/src/contrib/flowCut_1.0.0.tar.gz && rm -rf flowCut.buildbin-libdir && mkdir flowCut.buildbin-libdir && C:\Users\biocbuild\bbs-3.12-bioc\R\bin\R.exe CMD INSTALL --merge-multiarch --build --library=flowCut.buildbin-libdir flowCut_1.0.0.tar.gz && C:\Users\biocbuild\bbs-3.12-bioc\R\bin\R.exe CMD INSTALL flowCut_1.0.0.zip && rm flowCut_1.0.0.tar.gz flowCut_1.0.0.zip
###
##############################################################################
##############################################################################
% Total % Received % Xferd Average Speed Time Time Time Current
Dload Upload Total Spent Left Speed
0 0 0 0 0 0 0 0 --:--:-- --:--:-- --:--:-- 0
0 0 0 0 0 0 0 0 --:--:-- 0:00:01 --:--:-- 0
100 3544k 100 3544k 0 0 2067k 0 0:00:01 0:00:01 --:--:-- 2068k
install for i386
* installing *source* package 'flowCut' ...
** using staged installation
** R
** data
** byte-compile and prepare package for lazy loading
Warning: replacing previous import 'flowCore::plot' by 'graphics::plot' when loading 'flowDensity'
** help
*** installing help indices
converting help for package 'flowCut'
finding HTML links ... done
flowCut html
flowCutData html
removeLowDensSections html
** building package indices
** installing vignettes
** testing if installed package can be loaded from temporary location
Warning: replacing previous import 'flowCore::plot' by 'graphics::plot' when loading 'flowDensity'
** testing if installed package can be loaded from final location
Warning: replacing previous import 'flowCore::plot' by 'graphics::plot' when loading 'flowDensity'
** testing if installed package keeps a record of temporary installation path
install for x64
* installing *source* package 'flowCut' ...
** testing if installed package can be loaded
Warning: replacing previous import 'flowCore::plot' by 'graphics::plot' when loading 'flowDensity'
* MD5 sums
packaged installation of 'flowCut' as flowCut_1.0.0.zip
* DONE (flowCut)
* installing to library 'C:/Users/biocbuild/bbs-3.12-bioc/R/library'
package 'flowCut' successfully unpacked and MD5 sums checked
|
flowCut.Rcheck/examples_i386/flowCut-Ex.timings
|
flowCut.Rcheck/examples_x64/flowCut-Ex.timings
|