| Back to Multiple platform build/check report for BioC 3.12 |
|
This page was generated on 2021-05-06 12:31:19 -0400 (Thu, 06 May 2021).
|
To the developers/maintainers of the flowCut package: Please make sure to use the following settings in order to reproduce any error or warning you see on this page. |
| Package 618/1974 | Hostname | OS / Arch | INSTALL | BUILD | CHECK | BUILD BIN | ||||||||
| flowCut 1.0.0 (landing page) Justin Meskas
| malbec1 | Linux (Ubuntu 18.04.5 LTS) / x86_64 | OK | OK | OK | |||||||||
| tokay1 | Windows Server 2012 R2 Standard / x64 | OK | OK | OK | OK | |||||||||
| merida1 | macOS 10.14.6 Mojave / x86_64 | OK | OK | OK | OK | |||||||||
| Package: flowCut |
| Version: 1.0.0 |
| Command: rm -rf flowCut.buildbin-libdir && mkdir flowCut.buildbin-libdir && C:\Users\biocbuild\bbs-3.12-bioc\R\bin\R.exe CMD INSTALL --merge-multiarch --build --library=flowCut.buildbin-libdir flowCut_1.0.0.tar.gz |
| StartedAt: 2021-05-06 09:04:59 -0400 (Thu, 06 May 2021) |
| EndedAt: 2021-05-06 09:05:46 -0400 (Thu, 06 May 2021) |
| EllapsedTime: 46.4 seconds |
| RetCode: 0 |
| Status: OK |
| PackageFile: flowCut_1.0.0.zip |
| PackageFileSize: 6.369 MiB |
##############################################################################
##############################################################################
###
### Running command:
###
### rm -rf flowCut.buildbin-libdir && mkdir flowCut.buildbin-libdir && C:\Users\biocbuild\bbs-3.12-bioc\R\bin\R.exe CMD INSTALL --merge-multiarch --build --library=flowCut.buildbin-libdir flowCut_1.0.0.tar.gz
###
##############################################################################
##############################################################################
install for i386
* installing *source* package 'flowCut' ...
** using staged installation
** R
** data
** inst
** byte-compile and prepare package for lazy loading
Warning: replacing previous import 'flowCore::plot' by 'graphics::plot' when loading 'flowDensity'
** help
*** installing help indices
converting help for package 'flowCut'
finding HTML links ... done
flowCut html
flowCutData html
removeLowDensSections html
** building package indices
** installing vignettes
** testing if installed package can be loaded from temporary location
Warning: replacing previous import 'flowCore::plot' by 'graphics::plot' when loading 'flowDensity'
** testing if installed package can be loaded from final location
Warning: replacing previous import 'flowCore::plot' by 'graphics::plot' when loading 'flowDensity'
** testing if installed package keeps a record of temporary installation path
install for x64
* installing *source* package 'flowCut' ...
** testing if installed package can be loaded
Warning: replacing previous import 'flowCore::plot' by 'graphics::plot' when loading 'flowDensity'
* MD5 sums
packaged installation of 'flowCut' as flowCut_1.0.0.zip
* DONE (flowCut)