| Back to Multiple platform build/check report for BioC 3.12 |
|
This page was generated on 2021-05-06 12:31:18 -0400 (Thu, 06 May 2021).
|
To the developers/maintainers of the flowCHIC package: Please make sure to use the following settings in order to reproduce any error or warning you see on this page. |
| Package 613/1974 | Hostname | OS / Arch | INSTALL | BUILD | CHECK | BUILD BIN | ||||||||
| flowCHIC 1.24.0 (landing page) Author: Joachim Schumann
| malbec1 | Linux (Ubuntu 18.04.5 LTS) / x86_64 | OK | OK | OK | |||||||||
| tokay1 | Windows Server 2012 R2 Standard / x64 | OK | OK | OK | OK | |||||||||
| merida1 | macOS 10.14.6 Mojave / x86_64 | OK | OK | OK | OK | |||||||||
| Package: flowCHIC |
| Version: 1.24.0 |
| Command: rm -rf flowCHIC.buildbin-libdir && mkdir flowCHIC.buildbin-libdir && C:\Users\biocbuild\bbs-3.12-bioc\R\bin\R.exe CMD INSTALL --merge-multiarch --build --library=flowCHIC.buildbin-libdir flowCHIC_1.24.0.tar.gz |
| StartedAt: 2021-05-06 09:04:42 -0400 (Thu, 06 May 2021) |
| EndedAt: 2021-05-06 09:05:21 -0400 (Thu, 06 May 2021) |
| EllapsedTime: 39.1 seconds |
| RetCode: 0 |
| Status: OK |
| PackageFile: flowCHIC_1.24.0.zip |
| PackageFileSize: 3.203 MiB |
##############################################################################
##############################################################################
###
### Running command:
###
### rm -rf flowCHIC.buildbin-libdir && mkdir flowCHIC.buildbin-libdir && C:\Users\biocbuild\bbs-3.12-bioc\R\bin\R.exe CMD INSTALL --merge-multiarch --build --library=flowCHIC.buildbin-libdir flowCHIC_1.24.0.tar.gz
###
##############################################################################
##############################################################################
install for i386
* installing *source* package 'flowCHIC' ...
** using staged installation
** R
** data
** inst
** byte-compile and prepare package for lazy loading
** help
*** installing help indices
converting help for package 'flowCHIC'
finding HTML links ... done
Results_overlaps html
Results_overlaps_incol html
Results_overlaps_mix html
Results_xor html
Results_xor_incol html
Results_xor_mix html
abiotic_incol html
calculate_overlaps_xor html
fcs_to_img html
flowCHIC_package html
img_sub html
plot_nmds html
** building package indices
** installing vignettes
** testing if installed package can be loaded from temporary location
** testing if installed package can be loaded from final location
** testing if installed package keeps a record of temporary installation path
install for x64
* installing *source* package 'flowCHIC' ...
** testing if installed package can be loaded
* MD5 sums
packaged installation of 'flowCHIC' as flowCHIC_1.24.0.zip
* DONE (flowCHIC)