| Back to Multiple platform build/check report for BioC 3.12 |
|
This page was generated on 2021-05-06 12:34:58 -0400 (Thu, 06 May 2021).
|
To the developers/maintainers of the flowCHIC package: Please make sure to use the following settings in order to reproduce any error or warning you see on this page. |
| Package 613/1974 | Hostname | OS / Arch | INSTALL | BUILD | CHECK | BUILD BIN | ||||||||
| flowCHIC 1.24.0 (landing page) Author: Joachim Schumann
| malbec1 | Linux (Ubuntu 18.04.5 LTS) / x86_64 | OK | OK | OK | |||||||||
| tokay1 | Windows Server 2012 R2 Standard / x64 | OK | OK | OK | OK | |||||||||
| merida1 | macOS 10.14.6 Mojave / x86_64 | OK | OK | OK | OK | |||||||||
| Package: flowCHIC |
| Version: 1.24.0 |
| Command: /Library/Frameworks/R.framework/Versions/Current/Resources/bin/R CMD check --install=check:flowCHIC.install-out.txt --library=/Library/Frameworks/R.framework/Versions/Current/Resources/library --no-vignettes --timings flowCHIC_1.24.0.tar.gz |
| StartedAt: 2021-05-06 01:47:58 -0400 (Thu, 06 May 2021) |
| EndedAt: 2021-05-06 01:50:19 -0400 (Thu, 06 May 2021) |
| EllapsedTime: 141.1 seconds |
| RetCode: 0 |
| Status: OK |
| CheckDir: flowCHIC.Rcheck |
| Warnings: 0 |
##############################################################################
##############################################################################
###
### Running command:
###
### /Library/Frameworks/R.framework/Versions/Current/Resources/bin/R CMD check --install=check:flowCHIC.install-out.txt --library=/Library/Frameworks/R.framework/Versions/Current/Resources/library --no-vignettes --timings flowCHIC_1.24.0.tar.gz
###
##############################################################################
##############################################################################
* using log directory ‘/Users/biocbuild/bbs-3.12-bioc/meat/flowCHIC.Rcheck’
* using R version 4.0.5 (2021-03-31)
* using platform: x86_64-apple-darwin17.0 (64-bit)
* using session charset: UTF-8
* using option ‘--no-vignettes’
* checking for file ‘flowCHIC/DESCRIPTION’ ... OK
* checking extension type ... Package
* this is package ‘flowCHIC’ version ‘1.24.0’
* package encoding: UTF-8
* checking package namespace information ... OK
* checking package dependencies ... OK
* checking if this is a source package ... OK
* checking if there is a namespace ... OK
* checking for hidden files and directories ... OK
* checking for portable file names ... OK
* checking for sufficient/correct file permissions ... OK
* checking whether package ‘flowCHIC’ can be installed ... OK
* checking installed package size ... NOTE
installed size is 5.9Mb
sub-directories of 1Mb or more:
extdata 5.7Mb
* checking package directory ... OK
* checking ‘build’ directory ... OK
* checking DESCRIPTION meta-information ... NOTE
Malformed Description field: should contain one or more complete sentences.
* checking top-level files ... OK
* checking for left-over files ... OK
* checking index information ... OK
* checking package subdirectories ... OK
* checking R files for non-ASCII characters ... OK
* checking R files for syntax errors ... OK
* checking whether the package can be loaded ... OK
* checking whether the package can be loaded with stated dependencies ... OK
* checking whether the package can be unloaded cleanly ... OK
* checking whether the namespace can be loaded with stated dependencies ... OK
* checking whether the namespace can be unloaded cleanly ... OK
* checking dependencies in R code ... OK
* checking S3 generic/method consistency ... OK
* checking replacement functions ... OK
* checking foreign function calls ... OK
* checking R code for possible problems ... NOTE
fcs_to_img,character: warning in hexbin(x, y, xbin = 128): partial
argument match of 'xbin' to 'xbins'
img_sub,character: warning in hexbin(x, y, xbin = xbin): partial
argument match of 'xbin' to 'xbins'
fcs_to_img,character: no visible global function definition for ‘png’
fcs_to_img,character: no visible binding for global variable ‘count’
fcs_to_img,character: no visible global function definition for
‘dev.off’
img_sub,character: no visible global function definition for ‘png’
img_sub,character: no visible binding for global variable ‘count’
img_sub,character: no visible global function definition for ‘dev.off’
plot_nmds,data.frame-data.frame: no visible global function definition
for ‘as.dist’
plot_nmds,data.frame-data.frame: no visible global function definition
for ‘par’
plot_nmds,data.frame-data.frame: no visible global function definition
for ‘hclust’
plot_nmds,data.frame-data.frame: no visible global function definition
for ‘points’
plot_nmds,data.frame-data.frame: no visible global function definition
for ‘text’
plot_nmds,data.frame-data.frame: no visible global function definition
for ‘legend’
Undefined global functions or variables:
as.dist count dev.off hclust legend par png points text
Consider adding
importFrom("grDevices", "dev.off", "png")
importFrom("graphics", "legend", "par", "points", "text")
importFrom("stats", "as.dist", "hclust")
to your NAMESPACE file.
* checking Rd files ... OK
* checking Rd metadata ... OK
* checking Rd cross-references ... OK
* checking for missing documentation entries ... OK
* checking for code/documentation mismatches ... OK
* checking Rd \usage sections ... OK
* checking Rd contents ... OK
* checking for unstated dependencies in examples ... OK
* checking contents of ‘data’ directory ... OK
* checking data for non-ASCII characters ... OK
* checking data for ASCII and uncompressed saves ... OK
* checking sizes of PDF files under ‘inst/doc’ ... OK
* checking files in ‘vignettes’ ... OK
* checking examples ... OK
Examples with CPU (user + system) or elapsed time > 5s
user system elapsed
calculate_overlaps_xor 10.961 0.463 11.596
plot_nmds 7.137 0.256 7.443
* checking for unstated dependencies in vignettes ... OK
* checking package vignettes in ‘inst/doc’ ... OK
* checking running R code from vignettes ... SKIPPED
* checking re-building of vignette outputs ... SKIPPED
* checking PDF version of manual ... OK
* DONE
Status: 3 NOTEs
See
‘/Users/biocbuild/bbs-3.12-bioc/meat/flowCHIC.Rcheck/00check.log’
for details.
flowCHIC.Rcheck/00install.out
############################################################################## ############################################################################## ### ### Running command: ### ### /Library/Frameworks/R.framework/Versions/Current/Resources/bin/R CMD INSTALL flowCHIC ### ############################################################################## ############################################################################## * installing to library ‘/Library/Frameworks/R.framework/Versions/4.0/Resources/library’ * installing *source* package ‘flowCHIC’ ... ** using staged installation ** R ** data ** inst ** byte-compile and prepare package for lazy loading ** help *** installing help indices ** building package indices ** installing vignettes ** testing if installed package can be loaded from temporary location ** testing if installed package can be loaded from final location ** testing if installed package keeps a record of temporary installation path * DONE (flowCHIC)
flowCHIC.Rcheck/flowCHIC-Ex.timings
| name | user | system | elapsed | |
| calculate_overlaps_xor | 10.961 | 0.463 | 11.596 | |
| fcs_to_img | 1.347 | 0.055 | 1.403 | |
| img_sub | 3.714 | 0.101 | 3.820 | |
| plot_nmds | 7.137 | 0.256 | 7.443 | |