| Back to Multiple platform build/check report for BioC 3.12 |
|
This page was generated on 2021-05-06 12:31:04 -0400 (Thu, 06 May 2021).
|
To the developers/maintainers of the exomePeak2 package: Please make sure to use the following settings in order to reproduce any error or warning you see on this page. |
| Package 577/1974 | Hostname | OS / Arch | INSTALL | BUILD | CHECK | BUILD BIN | ||||||||
| exomePeak2 1.2.0 (landing page) Zhen Wei
| malbec1 | Linux (Ubuntu 18.04.5 LTS) / x86_64 | OK | OK | OK | |||||||||
| tokay1 | Windows Server 2012 R2 Standard / x64 | OK | OK | OK | OK | |||||||||
| merida1 | macOS 10.14.6 Mojave / x86_64 | OK | OK | OK | OK | |||||||||
| Package: exomePeak2 |
| Version: 1.2.0 |
| Command: rm -rf exomePeak2.buildbin-libdir && mkdir exomePeak2.buildbin-libdir && C:\Users\biocbuild\bbs-3.12-bioc\R\bin\R.exe CMD INSTALL --merge-multiarch --build --library=exomePeak2.buildbin-libdir exomePeak2_1.2.0.tar.gz |
| StartedAt: 2021-05-06 09:02:21 -0400 (Thu, 06 May 2021) |
| EndedAt: 2021-05-06 09:03:46 -0400 (Thu, 06 May 2021) |
| EllapsedTime: 85.4 seconds |
| RetCode: 0 |
| Status: OK |
| PackageFile: exomePeak2_1.2.0.zip |
| PackageFileSize: 2.777 MiB |
##############################################################################
##############################################################################
###
### Running command:
###
### rm -rf exomePeak2.buildbin-libdir && mkdir exomePeak2.buildbin-libdir && C:\Users\biocbuild\bbs-3.12-bioc\R\bin\R.exe CMD INSTALL --merge-multiarch --build --library=exomePeak2.buildbin-libdir exomePeak2_1.2.0.tar.gz
###
##############################################################################
##############################################################################
install for i386
* installing *source* package 'exomePeak2' ...
** using staged installation
** R
** inst
** byte-compile and prepare package for lazy loading
Warning message:
In .recacheSubclasses(def@className, def, env) :
undefined subclass "numericVector" of class "Mnumeric"; definition not updated
** help
*** installing help indices
converting help for package 'exomePeak2'
finding HTML links ... done
ExonPlot html
GC_content_over_grl html
GCsizeFactors-methods html
GLM_inference html
LibraryType-methods html
MeripBamFileList-class html
finding level-2 HTML links ... done
Parameter-methods html
Results-methods html
SummarizedExomePeak-class html
call_peaks_with_GLM html
consDESeq2_DM html
consDESeq2_M html
convertTxDb html
ctest html
decision_deseq2 html
disj_background html
estimateSeqDepth-methods html
exomePeak2 html
exomePeak2Results-methods html
exomePeakCalling-methods html
exome_bins_from_txdb html
exons_by_unique_gene html
exportResults-methods html
flank_on_exons html
glmDM-methods html
glmM-methods html
mclust_bg html
normalizeGC-methods html
plotExonLength-methods html
plotLfcGC-methods html
plotReadsGC-methods html
plotSizeFactors-methods html
quiet html
reads_five_POS html
reads_five_POS_rev html
reduce_peaks html
remove_introns html
replace_bg html
scanMeripBAM html
split_by_name html
** building package indices
** installing vignettes
** testing if installed package can be loaded from temporary location
Warning in .recacheSubclasses(def@className, def, env) :
undefined subclass "numericVector" of class "Mnumeric"; definition not updated
** testing if installed package can be loaded from final location
Warning in .recacheSubclasses(def@className, def, env) :
undefined subclass "numericVector" of class "Mnumeric"; definition not updated
** testing if installed package keeps a record of temporary installation path
install for x64
* installing *source* package 'exomePeak2' ...
** testing if installed package can be loaded
Warning in .recacheSubclasses(def@className, def, env) :
undefined subclass "numericVector" of class "Mnumeric"; definition not updated
* MD5 sums
packaged installation of 'exomePeak2' as exomePeak2_1.2.0.zip
* DONE (exomePeak2)