| Back to Multiple platform build/check report for BioC 3.12 |
|
This page was generated on 2021-05-06 12:27:30 -0400 (Thu, 06 May 2021).
|
To the developers/maintainers of the exomePeak2 package: Please make sure to use the following settings in order to reproduce any error or warning you see on this page. |
| Package 577/1974 | Hostname | OS / Arch | INSTALL | BUILD | CHECK | BUILD BIN | ||||||||
| exomePeak2 1.2.0 (landing page) Zhen Wei
| malbec1 | Linux (Ubuntu 18.04.5 LTS) / x86_64 | OK | OK | OK | |||||||||
| tokay1 | Windows Server 2012 R2 Standard / x64 | OK | OK | OK | OK | |||||||||
| merida1 | macOS 10.14.6 Mojave / x86_64 | OK | OK | OK | OK | |||||||||
| Package: exomePeak2 |
| Version: 1.2.0 |
| Command: /home/biocbuild/bbs-3.12-bioc/R/bin/R CMD check --install=check:exomePeak2.install-out.txt --library=/home/biocbuild/bbs-3.12-bioc/R/library --no-vignettes --timings exomePeak2_1.2.0.tar.gz |
| StartedAt: 2021-05-06 01:27:10 -0400 (Thu, 06 May 2021) |
| EndedAt: 2021-05-06 01:36:04 -0400 (Thu, 06 May 2021) |
| EllapsedTime: 533.5 seconds |
| RetCode: 0 |
| Status: OK |
| CheckDir: exomePeak2.Rcheck |
| Warnings: 0 |
##############################################################################
##############################################################################
###
### Running command:
###
### /home/biocbuild/bbs-3.12-bioc/R/bin/R CMD check --install=check:exomePeak2.install-out.txt --library=/home/biocbuild/bbs-3.12-bioc/R/library --no-vignettes --timings exomePeak2_1.2.0.tar.gz
###
##############################################################################
##############################################################################
* using log directory ‘/home/biocbuild/bbs-3.12-bioc/meat/exomePeak2.Rcheck’
* using R version 4.0.5 (2021-03-31)
* using platform: x86_64-pc-linux-gnu (64-bit)
* using session charset: UTF-8
* using option ‘--no-vignettes’
* checking for file ‘exomePeak2/DESCRIPTION’ ... OK
* checking extension type ... Package
* this is package ‘exomePeak2’ version ‘1.2.0’
* package encoding: UTF-8
* checking package namespace information ... OK
* checking package dependencies ... OK
* checking if this is a source package ... OK
* checking if there is a namespace ... OK
* checking for hidden files and directories ... OK
* checking for portable file names ... OK
* checking for sufficient/correct file permissions ... OK
* checking whether package ‘exomePeak2’ can be installed ... OK
* checking installed package size ... OK
* checking package directory ... OK
* checking ‘build’ directory ... OK
* checking DESCRIPTION meta-information ... OK
* checking top-level files ... OK
* checking for left-over files ... OK
* checking index information ... OK
* checking package subdirectories ... OK
* checking R files for non-ASCII characters ... OK
* checking R files for syntax errors ... OK
* checking whether the package can be loaded ... OK
* checking whether the package can be loaded with stated dependencies ... OK
* checking whether the package can be unloaded cleanly ... OK
* checking whether the namespace can be loaded with stated dependencies ... OK
* checking whether the namespace can be unloaded cleanly ... OK
* checking dependencies in R code ... OK
* checking S3 generic/method consistency ... OK
* checking replacement functions ... OK
* checking foreign function calls ... OK
* checking R code for possible problems ... NOTE
Results,SummarizedExomePeak: no visible global function definition for
‘glm_M’
exomePeakCalling,MeripBamFileList: no visible global function
definition for ‘metadata’
exomePeakCalling,MeripBamFileList: no visible global function
definition for ‘%over%’
plotLfcGC,SummarizedExomePeak: no visible binding for global variable
‘GC_idx’
plotLfcGC,SummarizedExomePeak: no visible binding for global variable
‘Log2FC’
plotLfcGC,SummarizedExomePeak: no visible binding for global variable
‘Label’
plotReadsGC,SummarizedExomePeak: no visible binding for global variable
‘GC_cont’
plotReadsGC,SummarizedExomePeak: no visible binding for global variable
‘value’
plotSizeFactors,SummarizedExomePeak: no visible binding for global
variable ‘samples’
plotSizeFactors,SummarizedExomePeak: no visible binding for global
variable ‘size_factors’
plotSizeFactors,SummarizedExomePeak: no visible binding for global
variable ‘Estimation_Methods’
Undefined global functions or variables:
%over% Estimation_Methods GC_cont GC_idx Label Log2FC glm_M metadata
samples size_factors value
* checking Rd files ... OK
* checking Rd metadata ... OK
* checking Rd cross-references ... OK
* checking for missing documentation entries ... OK
* checking for code/documentation mismatches ... OK
* checking Rd \usage sections ... OK
* checking Rd contents ... OK
* checking for unstated dependencies in examples ... OK
* checking files in ‘vignettes’ ... OK
* checking examples ... OK
Examples with CPU (user + system) or elapsed time > 5s
user system elapsed
exomePeak2 79.080 0.136 79.413
exomePeakCalling-methods 42.924 0.044 43.051
SummarizedExomePeak-class 27.300 0.768 29.020
glmDM-methods 6.084 0.000 6.107
glmM-methods 5.148 0.004 5.162
* checking for unstated dependencies in vignettes ... OK
* checking package vignettes in ‘inst/doc’ ... OK
* checking running R code from vignettes ... SKIPPED
* checking re-building of vignette outputs ... SKIPPED
* checking PDF version of manual ... OK
* DONE
Status: 1 NOTE
See
‘/home/biocbuild/bbs-3.12-bioc/meat/exomePeak2.Rcheck/00check.log’
for details.
exomePeak2.Rcheck/00install.out
############################################################################## ############################################################################## ### ### Running command: ### ### /home/biocbuild/bbs-3.12-bioc/R/bin/R CMD INSTALL exomePeak2 ### ############################################################################## ############################################################################## * installing to library ‘/home/biocbuild/bbs-3.12-bioc/R/library’ * installing *source* package ‘exomePeak2’ ... ** using staged installation ** R ** inst ** byte-compile and prepare package for lazy loading Warning message: In .recacheSubclasses(def@className, def, env) : undefined subclass "numericVector" of class "Mnumeric"; definition not updated ** help *** installing help indices ** building package indices ** installing vignettes ** testing if installed package can be loaded from temporary location Warning in .recacheSubclasses(def@className, def, env) : undefined subclass "numericVector" of class "Mnumeric"; definition not updated ** testing if installed package can be loaded from final location Warning in .recacheSubclasses(def@className, def, env) : undefined subclass "numericVector" of class "Mnumeric"; definition not updated ** testing if installed package keeps a record of temporary installation path * DONE (exomePeak2)
exomePeak2.Rcheck/exomePeak2-Ex.timings
| name | user | system | elapsed | |
| GCsizeFactors-methods | 0.044 | 0.000 | 0.062 | |
| LibraryType-methods | 0.204 | 0.000 | 0.203 | |
| MeripBamFileList-class | 1.072 | 0.004 | 1.079 | |
| Parameter-methods | 0.112 | 0.000 | 0.113 | |
| Results-methods | 0.996 | 0.028 | 1.025 | |
| SummarizedExomePeak-class | 27.300 | 0.768 | 29.020 | |
| estimateSeqDepth-methods | 0.096 | 0.000 | 0.096 | |
| exomePeak2 | 79.080 | 0.136 | 79.413 | |
| exomePeak2Results-methods | 0.016 | 0.000 | 0.017 | |
| exomePeakCalling-methods | 42.924 | 0.044 | 43.051 | |
| exportResults-methods | 1.352 | 0.008 | 1.362 | |
| glmDM-methods | 6.084 | 0.000 | 6.107 | |
| glmM-methods | 5.148 | 0.004 | 5.162 | |
| normalizeGC-methods | 0.176 | 0.000 | 0.177 | |
| plotExonLength-methods | 1.536 | 0.000 | 1.541 | |
| plotLfcGC-methods | 0.172 | 0.000 | 0.169 | |
| plotReadsGC-methods | 1.408 | 0.008 | 1.418 | |
| plotSizeFactors-methods | 0.332 | 0.000 | 0.331 | |
| scanMeripBAM | 0.232 | 0.000 | 0.231 | |