| Back to Multiple platform build/check report for BioC 3.12 |
|
This page was generated on 2021-05-06 12:27:29 -0400 (Thu, 06 May 2021).
|
To the developers/maintainers of the epigenomix package: Please make sure to use the following settings in order to reproduce any error or warning you see on this page. |
| Package 556/1974 | Hostname | OS / Arch | INSTALL | BUILD | CHECK | BUILD BIN | ||||||||
| epigenomix 1.30.0 (landing page) Hans-Ulrich Klein
| malbec1 | Linux (Ubuntu 18.04.5 LTS) / x86_64 | OK | OK | OK | |||||||||
| tokay1 | Windows Server 2012 R2 Standard / x64 | OK | OK | OK | OK | |||||||||
| merida1 | macOS 10.14.6 Mojave / x86_64 | OK | OK | OK | OK | |||||||||
| Package: epigenomix |
| Version: 1.30.0 |
| Command: /home/biocbuild/bbs-3.12-bioc/R/bin/R CMD check --install=check:epigenomix.install-out.txt --library=/home/biocbuild/bbs-3.12-bioc/R/library --no-vignettes --timings epigenomix_1.30.0.tar.gz |
| StartedAt: 2021-05-06 01:18:47 -0400 (Thu, 06 May 2021) |
| EndedAt: 2021-05-06 01:23:50 -0400 (Thu, 06 May 2021) |
| EllapsedTime: 303.5 seconds |
| RetCode: 0 |
| Status: OK |
| CheckDir: epigenomix.Rcheck |
| Warnings: 0 |
##############################################################################
##############################################################################
###
### Running command:
###
### /home/biocbuild/bbs-3.12-bioc/R/bin/R CMD check --install=check:epigenomix.install-out.txt --library=/home/biocbuild/bbs-3.12-bioc/R/library --no-vignettes --timings epigenomix_1.30.0.tar.gz
###
##############################################################################
##############################################################################
* using log directory ‘/home/biocbuild/bbs-3.12-bioc/meat/epigenomix.Rcheck’
* using R version 4.0.5 (2021-03-31)
* using platform: x86_64-pc-linux-gnu (64-bit)
* using session charset: UTF-8
* using option ‘--no-vignettes’
* checking for file ‘epigenomix/DESCRIPTION’ ... OK
* checking extension type ... Package
* this is package ‘epigenomix’ version ‘1.30.0’
* checking package namespace information ... OK
* checking package dependencies ... OK
* checking if this is a source package ... OK
* checking if there is a namespace ... OK
* checking for hidden files and directories ... OK
* checking for portable file names ... OK
* checking for sufficient/correct file permissions ... OK
* checking whether package ‘epigenomix’ can be installed ... OK
* checking installed package size ... OK
* checking package directory ... OK
* checking ‘build’ directory ... OK
* checking DESCRIPTION meta-information ... OK
* checking top-level files ... OK
* checking for left-over files ... OK
* checking index information ... OK
* checking package subdirectories ... OK
* checking R files for non-ASCII characters ... OK
* checking R files for syntax errors ... OK
* checking whether the package can be loaded ... OK
* checking whether the package can be loaded with stated dependencies ... OK
* checking whether the package can be unloaded cleanly ... OK
* checking whether the namespace can be loaded with stated dependencies ... OK
* checking whether the namespace can be unloaded cleanly ... OK
* checking dependencies in R code ... OK
* checking S3 generic/method consistency ... OK
* checking replacement functions ... OK
* checking foreign function calls ... OK
* checking R code for possible problems ... OK
* checking Rd files ... OK
* checking Rd metadata ... OK
* checking Rd cross-references ... OK
* checking for missing documentation entries ... OK
* checking for code/documentation mismatches ... OK
* checking Rd \usage sections ... OK
* checking Rd contents ... OK
* checking for unstated dependencies in examples ... OK
* checking contents of ‘data’ directory ... OK
* checking data for non-ASCII characters ... OK
* checking data for ASCII and uncompressed saves ... OK
* checking files in ‘vignettes’ ... OK
* checking examples ... OK
Examples with CPU (user + system) or elapsed time > 5s
user system elapsed
plotChains 30.824 0.012 30.884
bayesMixModel 21.860 0.028 21.914
mlMixModel 9.660 0.020 9.693
* checking for unstated dependencies in vignettes ... OK
* checking package vignettes in ‘inst/doc’ ... OK
* checking running R code from vignettes ... SKIPPED
* checking re-building of vignette outputs ... SKIPPED
* checking PDF version of manual ... OK
* DONE
Status: OK
epigenomix.Rcheck/00install.out
############################################################################## ############################################################################## ### ### Running command: ### ### /home/biocbuild/bbs-3.12-bioc/R/bin/R CMD INSTALL epigenomix ### ############################################################################## ############################################################################## * installing to library ‘/home/biocbuild/bbs-3.12-bioc/R/library’ * installing *source* package ‘epigenomix’ ... ** using staged installation ** R ** data ** inst ** byte-compile and prepare package for lazy loading Warning in .recacheSubclasses(def@className, def, env) : undefined subclass "numericVector" of class "Mnumeric"; definition not updated ** help *** installing help indices ** building package indices ** installing vignettes ** testing if installed package can be loaded from temporary location Warning in .recacheSubclasses(def@className, def, env) : undefined subclass "numericVector" of class "Mnumeric"; definition not updated ** testing if installed package can be loaded from final location Warning in .recacheSubclasses(def@className, def, env) : undefined subclass "numericVector" of class "Mnumeric"; definition not updated ** testing if installed package keeps a record of temporary installation path * DONE (epigenomix)
epigenomix.Rcheck/epigenomix-Ex.timings
| name | user | system | elapsed | |
| ChIPseqSet-class | 0.004 | 0.000 | 0.002 | |
| MixModel-class | 0 | 0 | 0 | |
| MixModelBayes-class | 0.000 | 0.000 | 0.001 | |
| MixModelML-class | 0 | 0 | 0 | |
| MixtureComponent-class | 0 | 0 | 0 | |
| bayesMixModel | 21.860 | 0.028 | 21.914 | |
| calculateCrossCorrelation | 0.804 | 0.048 | 0.853 | |
| eSet | 0.012 | 0.000 | 0.014 | |
| fpkm | 0.032 | 0.000 | 0.032 | |
| getAlignmentQuality | 0 | 0 | 0 | |
| integrateData | 0.172 | 0.000 | 0.174 | |
| mappedReads | 0.032 | 0.004 | 0.036 | |
| matchProbeToPromoter | 0.312 | 0.000 | 0.310 | |
| mlMixModel | 9.660 | 0.020 | 9.693 | |
| normalize | 0.268 | 0.000 | 0.271 | |
| normalizeChIP | 0.132 | 0.000 | 0.130 | |
| plotChains | 30.824 | 0.012 | 30.884 | |
| plotClassification | 0.032 | 0.000 | 0.032 | |
| plotComponents | 0.040 | 0.004 | 0.046 | |
| summarizeReads | 0.372 | 0.004 | 0.375 | |
| transToTSS | 0.004 | 0.000 | 0.003 | |