| Back to Multiple platform build/check report for BioC 3.12 |
|
This page was generated on 2021-05-06 12:34:46 -0400 (Thu, 06 May 2021).
|
To the developers/maintainers of the decompTumor2Sig package: Please make sure to use the following settings in order to reproduce any error or warning you see on this page. |
| Package 439/1974 | Hostname | OS / Arch | INSTALL | BUILD | CHECK | BUILD BIN | ||||||||
| decompTumor2Sig 2.6.0 (landing page) Rosario M. Piro
| malbec1 | Linux (Ubuntu 18.04.5 LTS) / x86_64 | OK | OK | OK | |||||||||
| tokay1 | Windows Server 2012 R2 Standard / x64 | OK | OK | OK | OK | |||||||||
| merida1 | macOS 10.14.6 Mojave / x86_64 | OK | OK | OK | OK | |||||||||
| Package: decompTumor2Sig |
| Version: 2.6.0 |
| Command: /Library/Frameworks/R.framework/Versions/Current/Resources/bin/R CMD check --install=check:decompTumor2Sig.install-out.txt --library=/Library/Frameworks/R.framework/Versions/Current/Resources/library --no-vignettes --timings decompTumor2Sig_2.6.0.tar.gz |
| StartedAt: 2021-05-06 00:56:17 -0400 (Thu, 06 May 2021) |
| EndedAt: 2021-05-06 01:04:29 -0400 (Thu, 06 May 2021) |
| EllapsedTime: 492.0 seconds |
| RetCode: 0 |
| Status: OK |
| CheckDir: decompTumor2Sig.Rcheck |
| Warnings: 0 |
##############################################################################
##############################################################################
###
### Running command:
###
### /Library/Frameworks/R.framework/Versions/Current/Resources/bin/R CMD check --install=check:decompTumor2Sig.install-out.txt --library=/Library/Frameworks/R.framework/Versions/Current/Resources/library --no-vignettes --timings decompTumor2Sig_2.6.0.tar.gz
###
##############################################################################
##############################################################################
* using log directory ‘/Users/biocbuild/bbs-3.12-bioc/meat/decompTumor2Sig.Rcheck’
* using R version 4.0.5 (2021-03-31)
* using platform: x86_64-apple-darwin17.0 (64-bit)
* using session charset: UTF-8
* using option ‘--no-vignettes’
* checking for file ‘decompTumor2Sig/DESCRIPTION’ ... OK
* checking extension type ... Package
* this is package ‘decompTumor2Sig’ version ‘2.6.0’
* package encoding: UTF-8
* checking package namespace information ... OK
* checking package dependencies ... OK
* checking if this is a source package ... OK
* checking if there is a namespace ... OK
* checking for hidden files and directories ... OK
* checking for portable file names ... OK
* checking for sufficient/correct file permissions ... OK
* checking whether package ‘decompTumor2Sig’ can be installed ... OK
* checking installed package size ... OK
* checking package directory ... OK
* checking ‘build’ directory ... OK
* checking DESCRIPTION meta-information ... OK
* checking top-level files ... NOTE
File
inst/LICENSE
will install at top-level and is not mentioned in the DESCRIPTION file.
* checking for left-over files ... OK
* checking index information ... OK
* checking package subdirectories ... OK
* checking R files for non-ASCII characters ... OK
* checking R files for syntax errors ... OK
* checking whether the package can be loaded ... OK
* checking whether the package can be loaded with stated dependencies ... OK
* checking whether the package can be unloaded cleanly ... OK
* checking whether the namespace can be loaded with stated dependencies ... OK
* checking whether the namespace can be unloaded cleanly ... OK
* checking dependencies in R code ... OK
* checking S3 generic/method consistency ... OK
* checking replacement functions ... OK
* checking foreign function calls ... OK
* checking R code for possible problems ... OK
* checking Rd files ... OK
* checking Rd metadata ... OK
* checking Rd cross-references ... OK
* checking for missing documentation entries ... OK
* checking for code/documentation mismatches ... OK
* checking Rd \usage sections ... OK
* checking Rd contents ... OK
* checking for unstated dependencies in examples ... OK
* checking files in ‘vignettes’ ... OK
* checking examples ... OK
Examples with CPU (user + system) or elapsed time > 5s
user system elapsed
plotExplainedVariance 116.645 0.297 117.080
convertGenomesFromVRanges 8.411 0.466 8.888
readGenomesFromVCF 4.816 0.267 5.090
decomposeTumorGenomes 4.634 0.248 5.516
isExposureSet 4.391 0.235 5.384
* checking for unstated dependencies in vignettes ... OK
* checking package vignettes in ‘inst/doc’ ... OK
* checking running R code from vignettes ... SKIPPED
* checking re-building of vignette outputs ... SKIPPED
* checking PDF version of manual ... OK
* DONE
Status: 1 NOTE
See
‘/Users/biocbuild/bbs-3.12-bioc/meat/decompTumor2Sig.Rcheck/00check.log’
for details.
decompTumor2Sig.Rcheck/00install.out
############################################################################## ############################################################################## ### ### Running command: ### ### /Library/Frameworks/R.framework/Versions/Current/Resources/bin/R CMD INSTALL decompTumor2Sig ### ############################################################################## ############################################################################## * installing to library ‘/Library/Frameworks/R.framework/Versions/4.0/Resources/library’ * installing *source* package ‘decompTumor2Sig’ ... ** using staged installation ** R ** inst ** byte-compile and prepare package for lazy loading ** help *** installing help indices ** building package indices ** installing vignettes ** testing if installed package can be loaded from temporary location ** testing if installed package can be loaded from final location ** testing if installed package keeps a record of temporary installation path * DONE (decompTumor2Sig)
decompTumor2Sig.Rcheck/decompTumor2Sig-Ex.timings
| name | user | system | elapsed | |
| composeGenomesFromExposures | 0.309 | 0.014 | 0.950 | |
| computeExplainedVariance | 0.948 | 0.013 | 1.630 | |
| convertAlexandrov2Shiraishi | 0.080 | 0.002 | 0.707 | |
| convertGenomesFromVRanges | 8.411 | 0.466 | 8.888 | |
| decomposeTumorGenomes | 4.634 | 0.248 | 5.516 | |
| determineSignatureDistances | 0.080 | 0.003 | 0.710 | |
| downgradeShiraishiSignatures | 0.011 | 0.005 | 0.016 | |
| evaluateDecompositionQuality | 0.231 | 0.009 | 1.010 | |
| getGenomesFromMutFeatData | 0.603 | 0.007 | 0.611 | |
| getSignaturesFromEstParam | 0.169 | 0.003 | 0.171 | |
| isAlexandrovSet | 0.042 | 0.003 | 0.721 | |
| isExposureSet | 4.391 | 0.235 | 5.384 | |
| isShiraishiSet | 0.082 | 0.002 | 0.713 | |
| isSignatureSet | 0.043 | 0.002 | 0.674 | |
| mapSignatureSets | 0.175 | 0.026 | 1.073 | |
| plotDecomposedContribution | 0.476 | 0.016 | 1.192 | |
| plotExplainedVariance | 116.645 | 0.297 | 117.080 | |
| plotMutationDistribution | 2.082 | 0.011 | 2.722 | |
| readAlexandrovSignatures | 0.053 | 0.002 | 0.682 | |
| readGenomesFromMPF | 3.945 | 0.272 | 4.222 | |
| readGenomesFromVCF | 4.816 | 0.267 | 5.090 | |
| readShiraishiSignatures | 0.007 | 0.001 | 0.008 | |
| sameSignatureFormat | 0.095 | 0.003 | 0.748 | |