| Back to Multiple platform build/check report for BioC 3.12 |
|
This page was generated on 2021-05-06 12:27:19 -0400 (Thu, 06 May 2021).
|
To the developers/maintainers of the decompTumor2Sig package: Please make sure to use the following settings in order to reproduce any error or warning you see on this page. |
| Package 439/1974 | Hostname | OS / Arch | INSTALL | BUILD | CHECK | BUILD BIN | ||||||||
| decompTumor2Sig 2.6.0 (landing page) Rosario M. Piro
| malbec1 | Linux (Ubuntu 18.04.5 LTS) / x86_64 | OK | OK | OK | |||||||||
| tokay1 | Windows Server 2012 R2 Standard / x64 | OK | OK | OK | OK | |||||||||
| merida1 | macOS 10.14.6 Mojave / x86_64 | OK | OK | OK | OK | |||||||||
| Package: decompTumor2Sig |
| Version: 2.6.0 |
| Command: /home/biocbuild/bbs-3.12-bioc/R/bin/R CMD check --install=check:decompTumor2Sig.install-out.txt --library=/home/biocbuild/bbs-3.12-bioc/R/library --no-vignettes --timings decompTumor2Sig_2.6.0.tar.gz |
| StartedAt: 2021-05-06 00:44:11 -0400 (Thu, 06 May 2021) |
| EndedAt: 2021-05-06 00:51:56 -0400 (Thu, 06 May 2021) |
| EllapsedTime: 465.5 seconds |
| RetCode: 0 |
| Status: OK |
| CheckDir: decompTumor2Sig.Rcheck |
| Warnings: 0 |
##############################################################################
##############################################################################
###
### Running command:
###
### /home/biocbuild/bbs-3.12-bioc/R/bin/R CMD check --install=check:decompTumor2Sig.install-out.txt --library=/home/biocbuild/bbs-3.12-bioc/R/library --no-vignettes --timings decompTumor2Sig_2.6.0.tar.gz
###
##############################################################################
##############################################################################
* using log directory ‘/home/biocbuild/bbs-3.12-bioc/meat/decompTumor2Sig.Rcheck’
* using R version 4.0.5 (2021-03-31)
* using platform: x86_64-pc-linux-gnu (64-bit)
* using session charset: UTF-8
* using option ‘--no-vignettes’
* checking for file ‘decompTumor2Sig/DESCRIPTION’ ... OK
* checking extension type ... Package
* this is package ‘decompTumor2Sig’ version ‘2.6.0’
* package encoding: UTF-8
* checking package namespace information ... OK
* checking package dependencies ... OK
* checking if this is a source package ... OK
* checking if there is a namespace ... OK
* checking for hidden files and directories ... OK
* checking for portable file names ... OK
* checking for sufficient/correct file permissions ... OK
* checking whether package ‘decompTumor2Sig’ can be installed ... OK
* checking installed package size ... OK
* checking package directory ... OK
* checking ‘build’ directory ... OK
* checking DESCRIPTION meta-information ... OK
* checking top-level files ... OK
* checking for left-over files ... OK
* checking index information ... OK
* checking package subdirectories ... OK
* checking R files for non-ASCII characters ... OK
* checking R files for syntax errors ... OK
* checking whether the package can be loaded ... OK
* checking whether the package can be loaded with stated dependencies ... OK
* checking whether the package can be unloaded cleanly ... OK
* checking whether the namespace can be loaded with stated dependencies ... OK
* checking whether the namespace can be unloaded cleanly ... OK
* checking dependencies in R code ... OK
* checking S3 generic/method consistency ... OK
* checking replacement functions ... OK
* checking foreign function calls ... OK
* checking R code for possible problems ... OK
* checking Rd files ... OK
* checking Rd metadata ... OK
* checking Rd cross-references ... OK
* checking for missing documentation entries ... OK
* checking for code/documentation mismatches ... OK
* checking Rd \usage sections ... OK
* checking Rd contents ... OK
* checking for unstated dependencies in examples ... OK
* checking files in ‘vignettes’ ... OK
* checking examples ... OK
Examples with CPU (user + system) or elapsed time > 5s
user system elapsed
plotExplainedVariance 97.404 0.004 97.581
convertGenomesFromVRanges 9.224 0.248 9.501
* checking for unstated dependencies in vignettes ... OK
* checking package vignettes in ‘inst/doc’ ... OK
* checking running R code from vignettes ... SKIPPED
* checking re-building of vignette outputs ... SKIPPED
* checking PDF version of manual ... OK
* DONE
Status: OK
decompTumor2Sig.Rcheck/00install.out
############################################################################## ############################################################################## ### ### Running command: ### ### /home/biocbuild/bbs-3.12-bioc/R/bin/R CMD INSTALL decompTumor2Sig ### ############################################################################## ############################################################################## * installing to library ‘/home/biocbuild/bbs-3.12-bioc/R/library’ * installing *source* package ‘decompTumor2Sig’ ... ** using staged installation ** R ** inst ** byte-compile and prepare package for lazy loading ** help *** installing help indices ** building package indices ** installing vignettes ** testing if installed package can be loaded from temporary location ** testing if installed package can be loaded from final location ** testing if installed package keeps a record of temporary installation path * DONE (decompTumor2Sig)
decompTumor2Sig.Rcheck/decompTumor2Sig-Ex.timings
| name | user | system | elapsed | |
| composeGenomesFromExposures | 0.420 | 0.004 | 1.224 | |
| computeExplainedVariance | 1.320 | 0.008 | 2.137 | |
| convertAlexandrov2Shiraishi | 0.156 | 0.000 | 0.938 | |
| convertGenomesFromVRanges | 9.224 | 0.248 | 9.501 | |
| decomposeTumorGenomes | 3.964 | 0.184 | 4.858 | |
| determineSignatureDistances | 0.160 | 0.004 | 0.792 | |
| downgradeShiraishiSignatures | 0.012 | 0.000 | 0.023 | |
| evaluateDecompositionQuality | 0.352 | 0.008 | 1.157 | |
| getGenomesFromMutFeatData | 0.796 | 0.000 | 0.811 | |
| getSignaturesFromEstParam | 0.256 | 0.004 | 0.269 | |
| isAlexandrovSet | 0.112 | 0.008 | 0.906 | |
| isExposureSet | 3.812 | 0.124 | 4.673 | |
| isShiraishiSet | 0.160 | 0.004 | 0.848 | |
| isSignatureSet | 0.116 | 0.008 | 0.806 | |
| mapSignatureSets | 0.204 | 0.008 | 0.898 | |
| plotDecomposedContribution | 0.556 | 0.020 | 1.363 | |
| plotExplainedVariance | 97.404 | 0.004 | 97.581 | |
| plotMutationDistribution | 2.052 | 0.004 | 2.800 | |
| readAlexandrovSignatures | 0.112 | 0.008 | 0.807 | |
| readGenomesFromMPF | 3.448 | 0.144 | 3.604 | |
| readGenomesFromVCF | 4.548 | 0.168 | 4.721 | |
| readShiraishiSignatures | 0.004 | 0.000 | 0.006 | |
| sameSignatureFormat | 0.132 | 0.000 | 0.926 | |