| Back to Multiple platform build/check report for BioC 3.12 |
|
This page was generated on 2021-05-06 12:27:17 -0400 (Thu, 06 May 2021).
|
To the developers/maintainers of the customCMPdb package: Please make sure to use the following settings in order to reproduce any error or warning you see on this page. |
| Package 410/1974 | Hostname | OS / Arch | INSTALL | BUILD | CHECK | BUILD BIN | ||||||||
| customCMPdb 1.0.0 (landing page) Yuzhu Duan
| malbec1 | Linux (Ubuntu 18.04.5 LTS) / x86_64 | OK | OK | OK | |||||||||
| tokay1 | Windows Server 2012 R2 Standard / x64 | OK | OK | OK | OK | |||||||||
| merida1 | macOS 10.14.6 Mojave / x86_64 | OK | OK | OK | OK | |||||||||
| Package: customCMPdb |
| Version: 1.0.0 |
| Command: /home/biocbuild/bbs-3.12-bioc/R/bin/R CMD check --install=check:customCMPdb.install-out.txt --library=/home/biocbuild/bbs-3.12-bioc/R/library --no-vignettes --timings customCMPdb_1.0.0.tar.gz |
| StartedAt: 2021-05-06 00:34:46 -0400 (Thu, 06 May 2021) |
| EndedAt: 2021-05-06 00:37:24 -0400 (Thu, 06 May 2021) |
| EllapsedTime: 157.8 seconds |
| RetCode: 0 |
| Status: OK |
| CheckDir: customCMPdb.Rcheck |
| Warnings: 0 |
##############################################################################
##############################################################################
###
### Running command:
###
### /home/biocbuild/bbs-3.12-bioc/R/bin/R CMD check --install=check:customCMPdb.install-out.txt --library=/home/biocbuild/bbs-3.12-bioc/R/library --no-vignettes --timings customCMPdb_1.0.0.tar.gz
###
##############################################################################
##############################################################################
* using log directory ‘/home/biocbuild/bbs-3.12-bioc/meat/customCMPdb.Rcheck’
* using R version 4.0.5 (2021-03-31)
* using platform: x86_64-pc-linux-gnu (64-bit)
* using session charset: UTF-8
* using option ‘--no-vignettes’
* checking for file ‘customCMPdb/DESCRIPTION’ ... OK
* this is package ‘customCMPdb’ version ‘1.0.0’
* package encoding: UTF-8
* checking package namespace information ... OK
* checking package dependencies ... OK
* checking if this is a source package ... OK
* checking if there is a namespace ... OK
* checking for hidden files and directories ... OK
* checking for portable file names ... OK
* checking for sufficient/correct file permissions ... OK
* checking whether package ‘customCMPdb’ can be installed ... OK
* checking installed package size ... OK
* checking package directory ... OK
* checking ‘build’ directory ... OK
* checking DESCRIPTION meta-information ... OK
* checking top-level files ... OK
* checking for left-over files ... OK
* checking index information ... OK
* checking package subdirectories ... OK
* checking R files for non-ASCII characters ... OK
* checking R files for syntax errors ... OK
* checking whether the package can be loaded ... OK
* checking whether the package can be loaded with stated dependencies ... OK
* checking whether the package can be unloaded cleanly ... OK
* checking whether the namespace can be loaded with stated dependencies ... OK
* checking whether the namespace can be unloaded cleanly ... OK
* checking dependencies in R code ... OK
* checking S3 generic/method consistency ... OK
* checking replacement functions ... OK
* checking foreign function calls ... OK
* checking R code for possible problems ... OK
* checking Rd files ... OK
* checking Rd metadata ... OK
* checking Rd cross-references ... OK
* checking for missing documentation entries ... OK
* checking for code/documentation mismatches ... OK
* checking Rd \usage sections ... OK
* checking Rd contents ... OK
* checking for unstated dependencies in examples ... OK
* checking files in ‘vignettes’ ... OK
* checking examples ... OK
Examples with CPU (user + system) or elapsed time > 5s
user system elapsed
queryAnnotDB 19.572 0.668 24.898
customAnnot 15.544 0.496 18.398
* checking for unstated dependencies in vignettes ... OK
* checking package vignettes in ‘inst/doc’ ... OK
* checking running R code from vignettes ... SKIPPED
* checking re-building of vignette outputs ... SKIPPED
* checking PDF version of manual ... OK
* DONE
Status: OK
customCMPdb.Rcheck/00install.out
############################################################################## ############################################################################## ### ### Running command: ### ### /home/biocbuild/bbs-3.12-bioc/R/bin/R CMD INSTALL customCMPdb ### ############################################################################## ############################################################################## * installing to library ‘/home/biocbuild/bbs-3.12-bioc/R/library’ * installing *source* package ‘customCMPdb’ ... ** using staged installation ** R ** inst ** byte-compile and prepare package for lazy loading ** help *** installing help indices ** building package indices ** installing vignettes ** testing if installed package can be loaded from temporary location ** testing if installed package can be loaded from final location ** testing if installed package keeps a record of temporary installation path * DONE (customCMPdb)
customCMPdb.Rcheck/customCMPdb-Ex.timings
| name | user | system | elapsed | |
| buildCMAPdb | 0.016 | 0.000 | 0.016 | |
| buildDrugAgeDB | 0.184 | 0.000 | 0.381 | |
| customAnnot | 15.544 | 0.496 | 18.398 | |
| customCMPdb-package | 0.048 | 0.000 | 0.046 | |
| dbxml2df | 0.008 | 0.000 | 0.010 | |
| df2SQLite | 0.012 | 0.000 | 0.009 | |
| processDrugage | 0.008 | 0.000 | 0.008 | |
| queryAnnotDB | 19.572 | 0.668 | 24.898 | |