| Back to Multiple platform build/check report for BioC 3.12 | 
 | 
This page was generated on 2021-05-06 12:27:17 -0400 (Thu, 06 May 2021).
| To the developers/maintainers of the customCMPdb package: Please make sure to use the following settings in order to reproduce any error or warning you see on this page. | 
| Package 410/1974 | Hostname | OS / Arch | INSTALL | BUILD | CHECK | BUILD BIN | ||||||||
| customCMPdb 1.0.0  (landing page) Yuzhu Duan 
 | malbec1 | Linux (Ubuntu 18.04.5 LTS) / x86_64 | OK | OK | OK |  | ||||||||
| tokay1 | Windows Server 2012 R2 Standard / x64 | OK | OK | OK | OK |  | ||||||||
| merida1 | macOS 10.14.6 Mojave / x86_64 | OK | OK | OK | OK |  | ||||||||
| Package: customCMPdb | 
| Version: 1.0.0 | 
| Command: /home/biocbuild/bbs-3.12-bioc/R/bin/R CMD build --keep-empty-dirs --no-resave-data customCMPdb | 
| StartedAt: 2021-05-05 18:30:31 -0400 (Wed, 05 May 2021) | 
| EndedAt: 2021-05-05 18:33:07 -0400 (Wed, 05 May 2021) | 
| EllapsedTime: 156.6 seconds | 
| RetCode: 0 | 
| Status: OK | 
| PackageFile: customCMPdb_1.0.0.tar.gz | 
| PackageFileSize: 666.2 KiB | 
############################################################################## ############################################################################## ### ### Running command: ### ### /home/biocbuild/bbs-3.12-bioc/R/bin/R CMD build --keep-empty-dirs --no-resave-data customCMPdb ### ############################################################################## ############################################################################## * checking for file ‘customCMPdb/DESCRIPTION’ ... OK * preparing ‘customCMPdb’: * checking DESCRIPTION meta-information ... OK * installing the package to build vignettes * creating vignettes ... OK * checking for LF line-endings in source and make files and shell scripts * checking for empty or unneeded directories * building ‘customCMPdb_1.0.0.tar.gz’