| Back to Multiple platform build/check report for BioC 3.12 |
|
This page was generated on 2021-05-06 12:34:36 -0400 (Thu, 06 May 2021).
|
To the developers/maintainers of the compEpiTools package: Please make sure to use the following settings in order to reproduce any error or warning you see on this page. |
| Package 360/1974 | Hostname | OS / Arch | INSTALL | BUILD | CHECK | BUILD BIN | ||||||||
| compEpiTools 1.24.0 (landing page) Kamal Kishore
| malbec1 | Linux (Ubuntu 18.04.5 LTS) / x86_64 | OK | OK | OK | |||||||||
| tokay1 | Windows Server 2012 R2 Standard / x64 | OK | OK | OK | OK | |||||||||
| merida1 | macOS 10.14.6 Mojave / x86_64 | OK | OK | OK | OK | |||||||||
| Package: compEpiTools |
| Version: 1.24.0 |
| Command: /Library/Frameworks/R.framework/Versions/Current/Resources/bin/R CMD check --install=check:compEpiTools.install-out.txt --library=/Library/Frameworks/R.framework/Versions/Current/Resources/library --no-vignettes --timings compEpiTools_1.24.0.tar.gz |
| StartedAt: 2021-05-06 00:33:05 -0400 (Thu, 06 May 2021) |
| EndedAt: 2021-05-06 00:41:43 -0400 (Thu, 06 May 2021) |
| EllapsedTime: 519.0 seconds |
| RetCode: 0 |
| Status: OK |
| CheckDir: compEpiTools.Rcheck |
| Warnings: 0 |
##############################################################################
##############################################################################
###
### Running command:
###
### /Library/Frameworks/R.framework/Versions/Current/Resources/bin/R CMD check --install=check:compEpiTools.install-out.txt --library=/Library/Frameworks/R.framework/Versions/Current/Resources/library --no-vignettes --timings compEpiTools_1.24.0.tar.gz
###
##############################################################################
##############################################################################
* using log directory ‘/Users/biocbuild/bbs-3.12-bioc/meat/compEpiTools.Rcheck’
* using R version 4.0.5 (2021-03-31)
* using platform: x86_64-apple-darwin17.0 (64-bit)
* using session charset: UTF-8
* using option ‘--no-vignettes’
* checking for file ‘compEpiTools/DESCRIPTION’ ... OK
* checking extension type ... Package
* this is package ‘compEpiTools’ version ‘1.24.0’
* checking package namespace information ... OK
* checking package dependencies ... OK
* checking if this is a source package ... OK
* checking if there is a namespace ... OK
* checking for hidden files and directories ... OK
* checking for portable file names ... OK
* checking for sufficient/correct file permissions ... OK
* checking whether package ‘compEpiTools’ can be installed ... OK
* checking installed package size ... OK
* checking package directory ... OK
* checking ‘build’ directory ... OK
* checking DESCRIPTION meta-information ... OK
* checking top-level files ... OK
* checking for left-over files ... OK
* checking index information ... OK
* checking package subdirectories ... OK
* checking R files for non-ASCII characters ... OK
* checking R files for syntax errors ... OK
* checking whether the package can be loaded ... OK
* checking whether the package can be loaded with stated dependencies ... OK
* checking whether the package can be unloaded cleanly ... OK
* checking whether the namespace can be loaded with stated dependencies ... OK
* checking whether the namespace can be unloaded cleanly ... OK
* checking dependencies in R code ... OK
* checking S3 generic/method consistency ... OK
* checking replacement functions ... OK
* checking foreign function calls ... OK
* checking R code for possible problems ... NOTE
TSS: no visible global function definition for 'end<-'
TSS: no visible global function definition for 'start<-'
findLncRNA: no visible global function definition for 'start<-'
findLncRNA: no visible global function definition for 'end<-'
findLncRNA: no visible global function definition for 'IRanges'
stallingIndex : getBound: no visible global function definition for
'start<-'
stallingIndex : getBound: no visible global function definition for
'end<-'
stallingIndex: no visible global function definition for 'IRanges'
topGOres : <anonymous>: no visible global function definition for
'ggplot'
topGOres : <anonymous>: no visible global function definition for 'aes'
topGOres : <anonymous>: no visible binding for global variable
'Significant'
topGOres : <anonymous>: no visible binding for global variable 'P_val'
topGOres : <anonymous>: no visible global function definition for
'geom_bar'
topGOres : <anonymous>: no visible global function definition for
'coord_flip'
topGOres : <anonymous>: no visible global function definition for
'ylab'
ucsc2GRanges: no visible global function definition for 'IRanges'
GR2fasta,GRanges: no visible global function definition for
'seqlengths'
GR2fasta,GRanges: no visible global function definition for
'seqlengths<-'
GR2fasta,GRanges: no visible global function definition for 'trim'
GRangesInPromoters,GRanges: no visible global function definition for
'start<-'
GRannotate,GRanges: no visible global function definition for 'start<-'
GRannotate,GRanges: no visible global function definition for 'end<-'
GRcoverageSummit,GRanges: no visible global function definition for
'start<-'
GRcoverageSummit,GRanges: no visible global function definition for
'end<-'
GRmidpoint,GRanges: no visible global function definition for 'start<-'
GRmidpoint,GRanges: no visible global function definition for 'end<-'
GRsetwidth,GRanges: no visible global function definition for 'start<-'
GRsetwidth,GRanges: no visible global function definition for 'end<-'
countOverlapsInBins,GRanges: no visible global function definition for
'IRanges'
featuresLength,TxDb: no visible global function definition for 'reduce'
getPromoterClass,TxDb: no visible binding for global variable 'txdb'
getPromoterClass,TxDb: no visible global function definition for
'start<-'
getPromoterClass,TxDb: no visible global function definition for
'stopCluster'
makeGtfFromDb,TxDb: no visible global function definition for 'reduce'
matchEnhancers,GRanges: no visible global function definition for
'distanceToNearest'
matchEnhancers,GRanges: no visible global function definition for
'IRanges'
Undefined global functions or variables:
IRanges P_val Significant aes coord_flip distanceToNearest end<-
geom_bar ggplot reduce seqlengths seqlengths<- start<- stopCluster
trim txdb ylab
* checking Rd files ... OK
* checking Rd metadata ... OK
* checking Rd cross-references ... OK
* checking for missing documentation entries ... OK
* checking for code/documentation mismatches ... OK
* checking Rd \usage sections ... OK
* checking Rd contents ... OK
* checking for unstated dependencies in examples ... OK
* checking sizes of PDF files under ‘inst/doc’ ... OK
* checking files in ‘vignettes’ ... OK
* checking examples ... OK
Examples with CPU (user + system) or elapsed time > 5s
user system elapsed
topGOres 37.424 1.355 38.925
GRannotate-methods 5.163 0.067 5.236
makeGtfFromDb 4.724 0.319 5.466
getPromoterClass-methods 1.951 0.029 23.344
* checking for unstated dependencies in vignettes ... OK
* checking package vignettes in ‘inst/doc’ ... OK
* checking running R code from vignettes ... SKIPPED
* checking re-building of vignette outputs ... SKIPPED
* checking PDF version of manual ... OK
* DONE
Status: 1 NOTE
See
‘/Users/biocbuild/bbs-3.12-bioc/meat/compEpiTools.Rcheck/00check.log’
for details.
compEpiTools.Rcheck/00install.out
############################################################################## ############################################################################## ### ### Running command: ### ### /Library/Frameworks/R.framework/Versions/Current/Resources/bin/R CMD INSTALL compEpiTools ### ############################################################################## ############################################################################## * installing to library ‘/Library/Frameworks/R.framework/Versions/4.0/Resources/library’ * installing *source* package ‘compEpiTools’ ... ** using staged installation ** R ** inst ** byte-compile and prepare package for lazy loading groupGOTerms: GOBPTerm, GOMFTerm, GOCCTerm environments built. ** help *** installing help indices ** building package indices ** installing vignettes ** testing if installed package can be loaded from temporary location groupGOTerms: GOBPTerm, GOMFTerm, GOCCTerm environments built. ** testing if installed package can be loaded from final location groupGOTerms: GOBPTerm, GOMFTerm, GOCCTerm environments built. ** testing if installed package keeps a record of temporary installation path * DONE (compEpiTools)
compEpiTools.Rcheck/compEpiTools-Ex.timings
| name | user | system | elapsed | |
| GR2fasta-methods | 0.673 | 0.017 | 0.693 | |
| GRanges2ucsc-methods | 0.014 | 0.000 | 0.015 | |
| GRangesInPromoters-methods | 3.582 | 0.069 | 3.654 | |
| GRannotate-methods | 5.163 | 0.067 | 5.236 | |
| GRannotateSimple | 0.910 | 0.012 | 0.924 | |
| GRbaseCoverage-methods | 0.151 | 0.002 | 0.154 | |
| GRcoverage-methods | 0.164 | 0.002 | 0.167 | |
| GRcoverageSummit-methods | 0.091 | 0.001 | 0.092 | |
| GRenrichment-methods | 0.101 | 0.002 | 0.104 | |
| GRmidpoint-methods | 0.033 | 0.000 | 0.033 | |
| GRsetwidth | 0.051 | 0.001 | 0.051 | |
| TSS | 1.703 | 0.045 | 1.750 | |
| countOverlapsInBins-methods | 0.152 | 0.001 | 0.153 | |
| distanceFromTSS-methods | 2.558 | 0.025 | 2.585 | |
| enhancers | 0.392 | 0.005 | 0.398 | |
| findLncRNA | 0.926 | 0.016 | 0.946 | |
| getPromoterClass-methods | 1.951 | 0.029 | 23.344 | |
| heatmapData | 1.667 | 0.019 | 1.688 | |
| heatmapPlot | 3.794 | 0.199 | 4.046 | |
| makeGtfFromDb | 4.724 | 0.319 | 5.466 | |
| matchEnhancers | 2.464 | 0.034 | 2.501 | |
| overlapOfGRanges-methods | 0.058 | 0.001 | 0.059 | |
| palette2d | 0.058 | 0.003 | 0.061 | |
| plotStallingIndex | 3.372 | 0.043 | 3.423 | |
| simplifyGOterms | 0.623 | 0.057 | 0.708 | |
| stallingIndex | 3.306 | 0.055 | 3.365 | |
| topGOres | 37.424 | 1.355 | 38.925 | |
| ucsc2GRanges | 0.015 | 0.001 | 0.016 | |
| unionMaxScore-methods | 0.156 | 0.001 | 0.157 | |