| Back to Multiple platform build/check report for BioC 3.12 |
|
This page was generated on 2021-05-06 12:34:36 -0400 (Thu, 06 May 2021).
|
To the developers/maintainers of the compEpiTools package: Please make sure to use the following settings in order to reproduce any error or warning you see on this page. |
| Package 360/1974 | Hostname | OS / Arch | INSTALL | BUILD | CHECK | BUILD BIN | ||||||||
| compEpiTools 1.24.0 (landing page) Kamal Kishore
| malbec1 | Linux (Ubuntu 18.04.5 LTS) / x86_64 | OK | OK | OK | |||||||||
| tokay1 | Windows Server 2012 R2 Standard / x64 | OK | OK | OK | OK | |||||||||
| merida1 | macOS 10.14.6 Mojave / x86_64 | OK | OK | OK | OK | |||||||||
| Package: compEpiTools |
| Version: 1.24.0 |
| Command: rm -rf compEpiTools.buildbin-libdir && mkdir compEpiTools.buildbin-libdir && /Users/biocbuild/BBS/utils/build-universal.sh compEpiTools_1.24.0.tar.gz /Library/Frameworks/R.framework/Versions/Current/Resources/bin/R compEpiTools.buildbin-libdir |
| StartedAt: 2021-05-06 08:16:55 -0400 (Thu, 06 May 2021) |
| EndedAt: 2021-05-06 08:18:17 -0400 (Thu, 06 May 2021) |
| EllapsedTime: 82.4 seconds |
| RetCode: 0 |
| Status: OK |
| PackageFile: compEpiTools_1.24.0.tgz |
| PackageFileSize: 2.371 MiB |
############################################################################## ############################################################################## ### ### Running command: ### ### rm -rf compEpiTools.buildbin-libdir && mkdir compEpiTools.buildbin-libdir && /Users/biocbuild/BBS/utils/build-universal.sh compEpiTools_1.24.0.tar.gz /Library/Frameworks/R.framework/Versions/Current/Resources/bin/R compEpiTools.buildbin-libdir ### ############################################################################## ############################################################################## >>>>>>> >>>>>>> INSTALLATION WITH 'R CMD INSTALL --preclean --no-multiarch --library=compEpiTools.buildbin-libdir compEpiTools_1.24.0.tar.gz' >>>>>>> * installing *source* package ‘compEpiTools’ ... ** using staged installation ** R ** inst ** byte-compile and prepare package for lazy loading groupGOTerms: GOBPTerm, GOMFTerm, GOCCTerm environments built. ** help *** installing help indices ** building package indices ** installing vignettes ** testing if installed package can be loaded from temporary location groupGOTerms: GOBPTerm, GOMFTerm, GOCCTerm environments built. ** testing if installed package can be loaded from final location groupGOTerms: GOBPTerm, GOMFTerm, GOCCTerm environments built. ** testing if installed package keeps a record of temporary installation path * DONE (compEpiTools)