| Back to Multiple platform build/check report for BioC 3.12 |
|
This page was generated on 2021-05-06 12:30:22 -0400 (Thu, 06 May 2021).
|
To the developers/maintainers of the clustifyr package: Please make sure to use the following settings in order to reproduce any error or warning you see on this page. |
| Package 327/1974 | Hostname | OS / Arch | INSTALL | BUILD | CHECK | BUILD BIN | ||||||||
| clustifyr 1.2.0 (landing page) Rui Fu
| malbec1 | Linux (Ubuntu 18.04.5 LTS) / x86_64 | OK | OK | OK | |||||||||
| tokay1 | Windows Server 2012 R2 Standard / x64 | OK | OK | OK | OK | |||||||||
| merida1 | macOS 10.14.6 Mojave / x86_64 | OK | OK | OK | OK | |||||||||
| Package: clustifyr |
| Version: 1.2.0 |
| Command: C:\Users\biocbuild\bbs-3.12-bioc\R\bin\R.exe CMD check --force-multiarch --install=check:clustifyr.install-out.txt --library=C:\Users\biocbuild\bbs-3.12-bioc\R\library --no-vignettes --timings clustifyr_1.2.0.tar.gz |
| StartedAt: 2021-05-06 01:33:33 -0400 (Thu, 06 May 2021) |
| EndedAt: 2021-05-06 01:44:52 -0400 (Thu, 06 May 2021) |
| EllapsedTime: 679.0 seconds |
| RetCode: 0 |
| Status: OK |
| CheckDir: clustifyr.Rcheck |
| Warnings: 0 |
##############################################################################
##############################################################################
###
### Running command:
###
### C:\Users\biocbuild\bbs-3.12-bioc\R\bin\R.exe CMD check --force-multiarch --install=check:clustifyr.install-out.txt --library=C:\Users\biocbuild\bbs-3.12-bioc\R\library --no-vignettes --timings clustifyr_1.2.0.tar.gz
###
##############################################################################
##############################################################################
* using log directory 'C:/Users/biocbuild/bbs-3.12-bioc/meat/clustifyr.Rcheck'
* using R version 4.0.5 (2021-03-31)
* using platform: x86_64-w64-mingw32 (64-bit)
* using session charset: ISO8859-1
* using option '--no-vignettes'
* checking for file 'clustifyr/DESCRIPTION' ... OK
* this is package 'clustifyr' version '1.2.0'
* package encoding: UTF-8
* checking package namespace information ... OK
* checking package dependencies ... OK
* checking if this is a source package ... OK
* checking if there is a namespace ... OK
* checking for hidden files and directories ... OK
* checking for portable file names ... OK
* checking whether package 'clustifyr' can be installed ... OK
* checking installed package size ... OK
* checking package directory ... OK
* checking 'build' directory ... OK
* checking DESCRIPTION meta-information ... OK
* checking top-level files ... OK
* checking for left-over files ... OK
* checking index information ... OK
* checking package subdirectories ... OK
* checking R files for non-ASCII characters ... OK
* checking R files for syntax errors ... OK
* loading checks for arch 'i386'
** checking whether the package can be loaded ... OK
** checking whether the package can be loaded with stated dependencies ... OK
** checking whether the package can be unloaded cleanly ... OK
** checking whether the namespace can be loaded with stated dependencies ... OK
** checking whether the namespace can be unloaded cleanly ... OK
* loading checks for arch 'x64'
** checking whether the package can be loaded ... OK
** checking whether the package can be loaded with stated dependencies ... OK
** checking whether the package can be unloaded cleanly ... OK
** checking whether the namespace can be loaded with stated dependencies ... OK
** checking whether the namespace can be unloaded cleanly ... OK
* checking dependencies in R code ... OK
* checking S3 generic/method consistency ... OK
* checking replacement functions ... OK
* checking foreign function calls ... OK
* checking R code for possible problems ... OK
* checking Rd files ... OK
* checking Rd metadata ... OK
* checking Rd cross-references ... OK
* checking for missing documentation entries ... OK
* checking for code/documentation mismatches ... OK
* checking Rd \usage sections ... OK
* checking Rd contents ... OK
* checking for unstated dependencies in examples ... OK
* checking contents of 'data' directory ... OK
* checking data for non-ASCII characters ... OK
* checking data for ASCII and uncompressed saves ... OK
* checking files in 'vignettes' ... OK
* checking examples ...
** running examples for arch 'i386' ... OK
Examples with CPU (user + system) or elapsed time > 5s
user system elapsed
plot_pathway_gsea 5.45 0.03 5.49
** running examples for arch 'x64' ... OK
Examples with CPU (user + system) or elapsed time > 5s
user system elapsed
plot_pathway_gsea 6.26 0 6.27
* checking for unstated dependencies in 'tests' ... OK
* checking tests ...
** running tests for arch 'i386' ...
Running 'testthat.R'
OK
** running tests for arch 'x64' ...
Running 'testthat.R'
OK
* checking for unstated dependencies in vignettes ... OK
* checking package vignettes in 'inst/doc' ... OK
* checking running R code from vignettes ... SKIPPED
* checking re-building of vignette outputs ... SKIPPED
* checking PDF version of manual ... OK
* DONE
Status: OK
clustifyr.Rcheck/00install.out
##############################################################################
##############################################################################
###
### Running command:
###
### C:\cygwin\bin\curl.exe -O http://172.29.0.3/BBS/3.12/bioc/src/contrib/clustifyr_1.2.0.tar.gz && rm -rf clustifyr.buildbin-libdir && mkdir clustifyr.buildbin-libdir && C:\Users\biocbuild\bbs-3.12-bioc\R\bin\R.exe CMD INSTALL --merge-multiarch --build --library=clustifyr.buildbin-libdir clustifyr_1.2.0.tar.gz && C:\Users\biocbuild\bbs-3.12-bioc\R\bin\R.exe CMD INSTALL clustifyr_1.2.0.zip && rm clustifyr_1.2.0.tar.gz clustifyr_1.2.0.zip
###
##############################################################################
##############################################################################
% Total % Received % Xferd Average Speed Time Time Time Current
Dload Upload Total Spent Left Speed
0 0 0 0 0 0 0 0 --:--:-- --:--:-- --:--:-- 0
100 2333k 100 2333k 0 0 26.8M 0 --:--:-- --:--:-- --:--:-- 27.1M
install for i386
* installing *source* package 'clustifyr' ...
** using staged installation
** R
** data
*** moving datasets to lazyload DB
** inst
** byte-compile and prepare package for lazy loading
** help
*** installing help indices
converting help for package 'clustifyr'
finding HTML links ... done
append_genes html
assign_ident html
average_clusters html
binarize_expr html
build_atlas html
calc_similarity html
calculate_pathway_gsea html
call_consensus html
call_to_metadata html
cbmc_m html
cbmc_ref html
check_raw_counts html
clustify html
clustify_lists html
clustify_nudge html
clustifyr-package html
clustifyr_methods html
collapse_to_cluster html
compare_lists html
cor_to_call html
cor_to_call_rank html
cor_to_call_topn html
cosine html
downrefs html
downsample_matrix html
feature_select_PCA html
file_marker_parse html
find_rank_bias html
gene_pct html
gene_pct_markerm html
get_best_match_matrix html
get_best_str html
get_common_elements html
get_similarity html
get_ucsc_reference html
get_unique_column html
get_vargenes html
gmt_to_list html
human_genes_10x html
insert_meta_object html
kl_divergence html
marker_select html
matrixize_markers html
mouse_genes_10x html
not_pretty_palette html
object_data html
object_loc_lookup html
object_ref html
overcluster html
overcluster_test html
parse_loc_object html
pbmc_markers html
pbmc_markers_M3Drop html
pbmc_matrix_small html
pbmc_meta html
pbmc_vargenes html
percent_clusters html
permute_similarity html
plot_best_call html
plot_call html
plot_cor html
plot_cor_heatmap html
plot_dims html
plot_gene html
plot_pathway_gsea html
pos_neg_marker html
pos_neg_select html
pretty_palette html
pretty_palette2 html
pretty_palette_ramp_d html
ref_feature_select html
ref_marker_select html
reverse_marker_matrix html
run_gsea html
s_small html
s_small3 html
sce_small html
seurat_meta html
seurat_ref html
vector_similarity html
write_meta html
*** copying figures
** building package indices
** installing vignettes
** testing if installed package can be loaded from temporary location
** testing if installed package can be loaded from final location
** testing if installed package keeps a record of temporary installation path
install for x64
* installing *source* package 'clustifyr' ...
** testing if installed package can be loaded
* MD5 sums
packaged installation of 'clustifyr' as clustifyr_1.2.0.zip
* DONE (clustifyr)
* installing to library 'C:/Users/biocbuild/bbs-3.12-bioc/R/library'
package 'clustifyr' successfully unpacked and MD5 sums checked
|
clustifyr.Rcheck/tests_i386/testthat.Rout
R version 4.0.5 (2021-03-31) -- "Shake and Throw"
Copyright (C) 2021 The R Foundation for Statistical Computing
Platform: i386-w64-mingw32/i386 (32-bit)
R is free software and comes with ABSOLUTELY NO WARRANTY.
You are welcome to redistribute it under certain conditions.
Type 'license()' or 'licence()' for distribution details.
R is a collaborative project with many contributors.
Type 'contributors()' for more information and
'citation()' on how to cite R or R packages in publications.
Type 'demo()' for some demos, 'help()' for on-line help, or
'help.start()' for an HTML browser interface to help.
Type 'q()' to quit R.
> library(testthat)
> library(clustifyr)
>
> test_check("clustifyr")
[ FAIL 0 | WARN 0 | SKIP 0 | PASS 172 ]
>
> proc.time()
user system elapsed
135.85 5.40 148.31
|
clustifyr.Rcheck/tests_x64/testthat.Rout
R version 4.0.5 (2021-03-31) -- "Shake and Throw"
Copyright (C) 2021 The R Foundation for Statistical Computing
Platform: x86_64-w64-mingw32/x64 (64-bit)
R is free software and comes with ABSOLUTELY NO WARRANTY.
You are welcome to redistribute it under certain conditions.
Type 'license()' or 'licence()' for distribution details.
R is a collaborative project with many contributors.
Type 'contributors()' for more information and
'citation()' on how to cite R or R packages in publications.
Type 'demo()' for some demos, 'help()' for on-line help, or
'help.start()' for an HTML browser interface to help.
Type 'q()' to quit R.
> library(testthat)
> library(clustifyr)
>
> test_check("clustifyr")
[ FAIL 0 | WARN 0 | SKIP 0 | PASS 172 ]
>
> proc.time()
user system elapsed
188.57 4.56 193.50
|
|
clustifyr.Rcheck/examples_i386/clustifyr-Ex.timings
|
clustifyr.Rcheck/examples_x64/clustifyr-Ex.timings
|