| Back to Multiple platform build/check report for BioC 3.12 |
|
This page was generated on 2021-05-06 12:34:34 -0400 (Thu, 06 May 2021).
|
To the developers/maintainers of the clustifyr package: Please make sure to use the following settings in order to reproduce any error or warning you see on this page. |
| Package 327/1974 | Hostname | OS / Arch | INSTALL | BUILD | CHECK | BUILD BIN | ||||||||
| clustifyr 1.2.0 (landing page) Rui Fu
| malbec1 | Linux (Ubuntu 18.04.5 LTS) / x86_64 | OK | OK | OK | |||||||||
| tokay1 | Windows Server 2012 R2 Standard / x64 | OK | OK | OK | OK | |||||||||
| merida1 | macOS 10.14.6 Mojave / x86_64 | OK | OK | OK | OK | |||||||||
| Package: clustifyr |
| Version: 1.2.0 |
| Command: /Library/Frameworks/R.framework/Versions/Current/Resources/bin/R CMD check --install=check:clustifyr.install-out.txt --library=/Library/Frameworks/R.framework/Versions/Current/Resources/library --no-vignettes --timings clustifyr_1.2.0.tar.gz |
| StartedAt: 2021-05-06 00:24:40 -0400 (Thu, 06 May 2021) |
| EndedAt: 2021-05-06 00:31:58 -0400 (Thu, 06 May 2021) |
| EllapsedTime: 438.1 seconds |
| RetCode: 0 |
| Status: OK |
| CheckDir: clustifyr.Rcheck |
| Warnings: 0 |
##############################################################################
##############################################################################
###
### Running command:
###
### /Library/Frameworks/R.framework/Versions/Current/Resources/bin/R CMD check --install=check:clustifyr.install-out.txt --library=/Library/Frameworks/R.framework/Versions/Current/Resources/library --no-vignettes --timings clustifyr_1.2.0.tar.gz
###
##############################################################################
##############################################################################
* using log directory ‘/Users/biocbuild/bbs-3.12-bioc/meat/clustifyr.Rcheck’
* using R version 4.0.5 (2021-03-31)
* using platform: x86_64-apple-darwin17.0 (64-bit)
* using session charset: UTF-8
* using option ‘--no-vignettes’
* checking for file ‘clustifyr/DESCRIPTION’ ... OK
* this is package ‘clustifyr’ version ‘1.2.0’
* package encoding: UTF-8
* checking package namespace information ... OK
* checking package dependencies ... OK
* checking if this is a source package ... OK
* checking if there is a namespace ... OK
* checking for hidden files and directories ... OK
* checking for portable file names ... OK
* checking for sufficient/correct file permissions ... OK
* checking whether package ‘clustifyr’ can be installed ... OK
* checking installed package size ... OK
* checking package directory ... OK
* checking ‘build’ directory ... OK
* checking DESCRIPTION meta-information ... OK
* checking top-level files ... OK
* checking for left-over files ... OK
* checking index information ... OK
* checking package subdirectories ... OK
* checking R files for non-ASCII characters ... OK
* checking R files for syntax errors ... OK
* checking whether the package can be loaded ... OK
* checking whether the package can be loaded with stated dependencies ... OK
* checking whether the package can be unloaded cleanly ... OK
* checking whether the namespace can be loaded with stated dependencies ... OK
* checking whether the namespace can be unloaded cleanly ... OK
* checking dependencies in R code ... OK
* checking S3 generic/method consistency ... OK
* checking replacement functions ... OK
* checking foreign function calls ... OK
* checking R code for possible problems ... OK
* checking Rd files ... OK
* checking Rd metadata ... OK
* checking Rd cross-references ... OK
* checking for missing documentation entries ... OK
* checking for code/documentation mismatches ... OK
* checking Rd \usage sections ... OK
* checking Rd contents ... OK
* checking for unstated dependencies in examples ... OK
* checking contents of ‘data’ directory ... OK
* checking data for non-ASCII characters ... OK
* checking data for ASCII and uncompressed saves ... OK
* checking files in ‘vignettes’ ... OK
* checking examples ... OK
Examples with CPU (user + system) or elapsed time > 5s
user system elapsed
plot_pathway_gsea 6.454 0.06 6.52
* checking for unstated dependencies in ‘tests’ ... OK
* checking tests ...
Running ‘testthat.R’
OK
* checking for unstated dependencies in vignettes ... OK
* checking package vignettes in ‘inst/doc’ ... OK
* checking running R code from vignettes ... SKIPPED
* checking re-building of vignette outputs ... SKIPPED
* checking PDF version of manual ... OK
* DONE
Status: OK
clustifyr.Rcheck/00install.out
############################################################################## ############################################################################## ### ### Running command: ### ### /Library/Frameworks/R.framework/Versions/Current/Resources/bin/R CMD INSTALL clustifyr ### ############################################################################## ############################################################################## * installing to library ‘/Library/Frameworks/R.framework/Versions/4.0/Resources/library’ * installing *source* package ‘clustifyr’ ... ** using staged installation ** R ** data *** moving datasets to lazyload DB ** inst ** byte-compile and prepare package for lazy loading ** help *** installing help indices *** copying figures ** building package indices ** installing vignettes ** testing if installed package can be loaded from temporary location ** testing if installed package can be loaded from final location ** testing if installed package keeps a record of temporary installation path * DONE (clustifyr)
clustifyr.Rcheck/tests/testthat.Rout
R version 4.0.5 (2021-03-31) -- "Shake and Throw"
Copyright (C) 2021 The R Foundation for Statistical Computing
Platform: x86_64-apple-darwin17.0 (64-bit)
R is free software and comes with ABSOLUTELY NO WARRANTY.
You are welcome to redistribute it under certain conditions.
Type 'license()' or 'licence()' for distribution details.
R is a collaborative project with many contributors.
Type 'contributors()' for more information and
'citation()' on how to cite R or R packages in publications.
Type 'demo()' for some demos, 'help()' for on-line help, or
'help.start()' for an HTML browser interface to help.
Type 'q()' to quit R.
> library(testthat)
> library(clustifyr)
>
> test_check("clustifyr")
[ FAIL 0 | WARN 0 | SKIP 0 | PASS 172 ]
>
> proc.time()
user system elapsed
167.658 4.253 172.137
clustifyr.Rcheck/clustifyr-Ex.timings
| name | user | system | elapsed | |
| append_genes | 0.565 | 0.012 | 0.577 | |
| average_clusters | 0.10 | 0.01 | 0.11 | |
| binarize_expr | 0.062 | 0.009 | 0.071 | |
| calculate_pathway_gsea | 4.926 | 0.069 | 5.000 | |
| call_consensus | 0.275 | 0.010 | 0.285 | |
| call_to_metadata | 0.000 | 0.001 | 0.000 | |
| check_raw_counts | 1.201 | 0.049 | 1.250 | |
| clustify | 0.250 | 0.021 | 0.271 | |
| clustify_lists | 0.176 | 0.020 | 0.197 | |
| clustify_nudge | 1.144 | 0.039 | 1.184 | |
| collapse_to_cluster | 1.627 | 0.085 | 1.712 | |
| compare_lists | 0.179 | 0.005 | 0.184 | |
| cor_to_call | 0.101 | 0.002 | 0.103 | |
| cor_to_call_rank | 0.083 | 0.001 | 0.084 | |
| cor_to_call_topn | 0.098 | 0.003 | 0.101 | |
| downsample_matrix | 0.132 | 0.002 | 0.134 | |
| feature_select_PCA | 0.012 | 0.002 | 0.015 | |
| file_marker_parse | 0.003 | 0.001 | 0.004 | |
| find_rank_bias | 0.143 | 0.021 | 0.165 | |
| gene_pct_markerm | 0.621 | 0.003 | 0.625 | |
| get_ucsc_reference | 0.000 | 0.000 | 0.001 | |
| get_vargenes | 0.000 | 0.001 | 0.002 | |
| gmt_to_list | 0.244 | 0.022 | 0.266 | |
| insert_meta_object | 0.000 | 0.000 | 0.001 | |
| marker_select | 0.028 | 0.001 | 0.029 | |
| matrixize_markers | 0.051 | 0.008 | 0.059 | |
| object_data | 0.083 | 0.002 | 0.086 | |
| object_ref | 0.007 | 0.005 | 0.011 | |
| overcluster | 2.375 | 0.100 | 2.478 | |
| overcluster_test | 1.472 | 0.058 | 1.531 | |
| parse_loc_object | 0.000 | 0.000 | 0.001 | |
| plot_best_call | 0.733 | 0.032 | 0.767 | |
| plot_cor | 0.634 | 0.018 | 0.652 | |
| plot_cor_heatmap | 1.426 | 0.028 | 1.455 | |
| plot_dims | 0.388 | 0.009 | 0.397 | |
| plot_gene | 0.657 | 0.026 | 0.723 | |
| plot_pathway_gsea | 6.454 | 0.060 | 6.520 | |
| pos_neg_marker | 0.015 | 0.000 | 0.014 | |
| pos_neg_select | 0.142 | 0.002 | 0.145 | |
| ref_feature_select | 0.046 | 0.001 | 0.047 | |
| ref_marker_select | 0.392 | 0.002 | 0.394 | |
| reverse_marker_matrix | 0.007 | 0.007 | 0.013 | |
| run_gsea | 0.466 | 0.008 | 0.474 | |
| seurat_meta | 0.001 | 0.001 | 0.001 | |
| seurat_ref | 0.010 | 0.001 | 0.010 | |
| write_meta | 0.164 | 0.003 | 0.167 | |