| Back to Multiple platform build/check report for BioC 3.12 |
|
This page was generated on 2021-05-06 12:30:20 -0400 (Thu, 06 May 2021).
|
To the developers/maintainers of the clusterProfiler package: Please make sure to use the following settings in order to reproduce any error or warning you see on this page. |
| Package 323/1974 | Hostname | OS / Arch | INSTALL | BUILD | CHECK | BUILD BIN | ||||||||
| clusterProfiler 3.18.1 (landing page) Guangchuang Yu
| malbec1 | Linux (Ubuntu 18.04.5 LTS) / x86_64 | OK | OK | OK | |||||||||
| tokay1 | Windows Server 2012 R2 Standard / x64 | OK | OK | OK | OK | |||||||||
| merida1 | macOS 10.14.6 Mojave / x86_64 | OK | OK | OK | OK | |||||||||
| Package: clusterProfiler |
| Version: 3.18.1 |
| Command: C:\Users\biocbuild\bbs-3.12-bioc\R\bin\R.exe CMD check --force-multiarch --install=check:clusterProfiler.install-out.txt --library=C:\Users\biocbuild\bbs-3.12-bioc\R\library --no-vignettes --timings clusterProfiler_3.18.1.tar.gz |
| StartedAt: 2021-05-06 01:32:03 -0400 (Thu, 06 May 2021) |
| EndedAt: 2021-05-06 01:38:26 -0400 (Thu, 06 May 2021) |
| EllapsedTime: 383.2 seconds |
| RetCode: 0 |
| Status: OK |
| CheckDir: clusterProfiler.Rcheck |
| Warnings: 0 |
##############################################################################
##############################################################################
###
### Running command:
###
### C:\Users\biocbuild\bbs-3.12-bioc\R\bin\R.exe CMD check --force-multiarch --install=check:clusterProfiler.install-out.txt --library=C:\Users\biocbuild\bbs-3.12-bioc\R\library --no-vignettes --timings clusterProfiler_3.18.1.tar.gz
###
##############################################################################
##############################################################################
* using log directory 'C:/Users/biocbuild/bbs-3.12-bioc/meat/clusterProfiler.Rcheck'
* using R version 4.0.5 (2021-03-31)
* using platform: x86_64-w64-mingw32 (64-bit)
* using session charset: ISO8859-1
* using option '--no-vignettes'
* checking for file 'clusterProfiler/DESCRIPTION' ... OK
* checking extension type ... Package
* this is package 'clusterProfiler' version '3.18.1'
* checking package namespace information ... OK
* checking package dependencies ... OK
* checking if this is a source package ... OK
* checking if there is a namespace ... OK
* checking for hidden files and directories ... OK
* checking for portable file names ... OK
* checking whether package 'clusterProfiler' can be installed ... OK
* checking installed package size ... OK
* checking package directory ... OK
* checking 'build' directory ... OK
* checking DESCRIPTION meta-information ... OK
* checking top-level files ... OK
* checking for left-over files ... OK
* checking index information ... OK
* checking package subdirectories ... OK
* checking R files for non-ASCII characters ... OK
* checking R files for syntax errors ... OK
* loading checks for arch 'i386'
** checking whether the package can be loaded ... OK
** checking whether the package can be loaded with stated dependencies ... OK
** checking whether the package can be unloaded cleanly ... OK
** checking whether the namespace can be loaded with stated dependencies ... OK
** checking whether the namespace can be unloaded cleanly ... OK
* loading checks for arch 'x64'
** checking whether the package can be loaded ... OK
** checking whether the package can be loaded with stated dependencies ... OK
** checking whether the package can be unloaded cleanly ... OK
** checking whether the namespace can be loaded with stated dependencies ... OK
** checking whether the namespace can be unloaded cleanly ... OK
* checking dependencies in R code ... OK
* checking S3 generic/method consistency ... OK
* checking replacement functions ... OK
* checking foreign function calls ... OK
* checking R code for possible problems ... OK
* checking Rd files ... OK
* checking Rd metadata ... OK
* checking Rd cross-references ... OK
* checking for missing documentation entries ... OK
* checking for code/documentation mismatches ... OK
* checking Rd \usage sections ... OK
* checking Rd contents ... OK
* checking for unstated dependencies in examples ... OK
* checking contents of 'data' directory ... OK
* checking data for non-ASCII characters ... OK
* checking data for ASCII and uncompressed saves ... OK
* checking files in 'vignettes' ... OK
* checking examples ...
** running examples for arch 'i386' ... OK
Examples with CPU (user + system) or elapsed time > 5s
user system elapsed
groupGO 68.15 8.42 77.49
enrichKEGG 0.66 0.08 5.53
** running examples for arch 'x64' ... OK
Examples with CPU (user + system) or elapsed time > 5s
user system elapsed
groupGO 62.36 2.66 65.02
* checking for unstated dependencies in 'tests' ... OK
* checking tests ...
** running tests for arch 'i386' ...
Running 'testthat.R'
OK
** running tests for arch 'x64' ...
Running 'testthat.R'
OK
* checking for unstated dependencies in vignettes ... OK
* checking package vignettes in 'inst/doc' ... OK
* checking running R code from vignettes ... SKIPPED
* checking re-building of vignette outputs ... SKIPPED
* checking PDF version of manual ... OK
* DONE
Status: OK
clusterProfiler.Rcheck/00install.out
##############################################################################
##############################################################################
###
### Running command:
###
### C:\cygwin\bin\curl.exe -O http://172.29.0.3/BBS/3.12/bioc/src/contrib/clusterProfiler_3.18.1.tar.gz && rm -rf clusterProfiler.buildbin-libdir && mkdir clusterProfiler.buildbin-libdir && C:\Users\biocbuild\bbs-3.12-bioc\R\bin\R.exe CMD INSTALL --merge-multiarch --build --library=clusterProfiler.buildbin-libdir clusterProfiler_3.18.1.tar.gz && C:\Users\biocbuild\bbs-3.12-bioc\R\bin\R.exe CMD INSTALL clusterProfiler_3.18.1.zip && rm clusterProfiler_3.18.1.tar.gz clusterProfiler_3.18.1.zip
###
##############################################################################
##############################################################################
% Total % Received % Xferd Average Speed Time Time Time Current
Dload Upload Total Spent Left Speed
0 0 0 0 0 0 0 0 --:--:-- --:--:-- --:--:-- 0
100 2535k 100 2535k 0 0 41.2M 0 --:--:-- --:--:-- --:--:-- 41.9M
install for i386
* installing *source* package 'clusterProfiler' ...
** using staged installation
** R
** data
** inst
** byte-compile and prepare package for lazy loading
** help
*** installing help indices
converting help for package 'clusterProfiler'
finding HTML links ... done
DataSet html
GSEA html
Gff2GeneTable html
KEGG_path2extid html
bitr html
bitr_kegg html
browseKEGG html
buildGOmap html
clusterProfiler-package html
compareCluster html
finding level-2 HTML links ... done
download_KEGG html
dropGO html
enrichDAVID html
enrichGO html
enrichKEGG html
enrichMKEGG html
enrichWP html
enricher html
get_wp_organisms html
go2ont html
go2term html
gofilter html
groupGO html
groupGOResult-class html
gseGO html
gseKEGG html
gseMKEGG html
gseWP html
idType html
ko2name html
merge_result html
plotGOgraph html
read-gmt html
reexports html
search_kegg_organism html
simplify-methods html
uniprot_get html
viewKEGG html
** building package indices
** installing vignettes
** testing if installed package can be loaded from temporary location
** testing if installed package can be loaded from final location
** testing if installed package keeps a record of temporary installation path
install for x64
* installing *source* package 'clusterProfiler' ...
** testing if installed package can be loaded
* MD5 sums
packaged installation of 'clusterProfiler' as clusterProfiler_3.18.1.zip
* DONE (clusterProfiler)
* installing to library 'C:/Users/biocbuild/bbs-3.12-bioc/R/library'
package 'clusterProfiler' successfully unpacked and MD5 sums checked
|
clusterProfiler.Rcheck/tests_i386/testthat.Rout
R version 4.0.5 (2021-03-31) -- "Shake and Throw"
Copyright (C) 2021 The R Foundation for Statistical Computing
Platform: i386-w64-mingw32/i386 (32-bit)
R is free software and comes with ABSOLUTELY NO WARRANTY.
You are welcome to redistribute it under certain conditions.
Type 'license()' or 'licence()' for distribution details.
R is a collaborative project with many contributors.
Type 'contributors()' for more information and
'citation()' on how to cite R or R packages in publications.
Type 'demo()' for some demos, 'help()' for on-line help, or
'help.start()' for an HTML browser interface to help.
Type 'q()' to quit R.
> library(testthat)
> library(clusterProfiler)
clusterProfiler v3.18.1 For help: https://guangchuangyu.github.io/software/clusterProfiler
If you use clusterProfiler in published research, please cite:
Guangchuang Yu, Li-Gen Wang, Yanyan Han, Qing-Yu He. clusterProfiler: an R package for comparing biological themes among gene clusters. OMICS: A Journal of Integrative Biology. 2012, 16(5):284-287.
Attaching package: 'clusterProfiler'
The following object is masked from 'package:stats':
filter
>
> test_check("clusterProfiler")
[ FAIL 0 | WARN 0 | SKIP 0 | PASS 2 ]
>
> proc.time()
user system elapsed
7.25 0.67 12.53
|
clusterProfiler.Rcheck/tests_x64/testthat.Rout
R version 4.0.5 (2021-03-31) -- "Shake and Throw"
Copyright (C) 2021 The R Foundation for Statistical Computing
Platform: x86_64-w64-mingw32/x64 (64-bit)
R is free software and comes with ABSOLUTELY NO WARRANTY.
You are welcome to redistribute it under certain conditions.
Type 'license()' or 'licence()' for distribution details.
R is a collaborative project with many contributors.
Type 'contributors()' for more information and
'citation()' on how to cite R or R packages in publications.
Type 'demo()' for some demos, 'help()' for on-line help, or
'help.start()' for an HTML browser interface to help.
Type 'q()' to quit R.
> library(testthat)
> library(clusterProfiler)
clusterProfiler v3.18.1 For help: https://guangchuangyu.github.io/software/clusterProfiler
If you use clusterProfiler in published research, please cite:
Guangchuang Yu, Li-Gen Wang, Yanyan Han, Qing-Yu He. clusterProfiler: an R package for comparing biological themes among gene clusters. OMICS: A Journal of Integrative Biology. 2012, 16(5):284-287.
Attaching package: 'clusterProfiler'
The following object is masked from 'package:stats':
filter
>
> test_check("clusterProfiler")
[ FAIL 0 | WARN 0 | SKIP 0 | PASS 2 ]
>
> proc.time()
user system elapsed
6.40 0.46 11.50
|
|
clusterProfiler.Rcheck/examples_i386/clusterProfiler-Ex.timings
|
clusterProfiler.Rcheck/examples_x64/clusterProfiler-Ex.timings
|