| Back to Multiple platform build/check report for BioC 3.12 | 
 | 
This page was generated on 2021-05-06 12:30:21 -0400 (Thu, 06 May 2021).
| To the developers/maintainers of the clusterProfiler package: Please make sure to use the following settings in order to reproduce any error or warning you see on this page. | 
| Package 323/1974 | Hostname | OS / Arch | INSTALL | BUILD | CHECK | BUILD BIN | ||||||||
| clusterProfiler 3.18.1  (landing page) Guangchuang Yu 
 | malbec1 | Linux (Ubuntu 18.04.5 LTS) / x86_64 | OK | OK | OK |  | ||||||||
| tokay1 | Windows Server 2012 R2 Standard / x64 | OK | OK | OK | OK |  | ||||||||
| merida1 | macOS 10.14.6 Mojave / x86_64 | OK | OK | OK | OK |  | ||||||||
| Package: clusterProfiler | 
| Version: 3.18.1 | 
| Command: rm -rf clusterProfiler.buildbin-libdir && mkdir clusterProfiler.buildbin-libdir && C:\Users\biocbuild\bbs-3.12-bioc\R\bin\R.exe CMD INSTALL --merge-multiarch --build --library=clusterProfiler.buildbin-libdir clusterProfiler_3.18.1.tar.gz | 
| StartedAt: 2021-05-06 08:44:25 -0400 (Thu, 06 May 2021) | 
| EndedAt: 2021-05-06 08:45:19 -0400 (Thu, 06 May 2021) | 
| EllapsedTime: 53.2 seconds | 
| RetCode: 0 | 
| Status: OK | 
| PackageFile: clusterProfiler_3.18.1.zip | 
| PackageFileSize: 690.7 KiB | 
##############################################################################
##############################################################################
###
### Running command:
###
###   rm -rf clusterProfiler.buildbin-libdir && mkdir clusterProfiler.buildbin-libdir && C:\Users\biocbuild\bbs-3.12-bioc\R\bin\R.exe CMD INSTALL --merge-multiarch --build --library=clusterProfiler.buildbin-libdir clusterProfiler_3.18.1.tar.gz
###
##############################################################################
##############################################################################
install for i386
* installing *source* package 'clusterProfiler' ...
** using staged installation
** R
** data
** inst
** byte-compile and prepare package for lazy loading
** help
*** installing help indices
  converting help for package 'clusterProfiler'
    finding HTML links ... done
    DataSet                                 html  
    GSEA                                    html  
    Gff2GeneTable                           html  
    KEGG_path2extid                         html  
    bitr                                    html  
    bitr_kegg                               html  
    browseKEGG                              html  
    buildGOmap                              html  
    clusterProfiler-package                 html  
    compareCluster                          html  
    finding level-2 HTML links ... done
    download_KEGG                           html  
    dropGO                                  html  
    enrichDAVID                             html  
    enrichGO                                html  
    enrichKEGG                              html  
    enrichMKEGG                             html  
    enrichWP                                html  
    enricher                                html  
    get_wp_organisms                        html  
    go2ont                                  html  
    go2term                                 html  
    gofilter                                html  
    groupGO                                 html  
    groupGOResult-class                     html  
    gseGO                                   html  
    gseKEGG                                 html  
    gseMKEGG                                html  
    gseWP                                   html  
    idType                                  html  
    ko2name                                 html  
    merge_result                            html  
    plotGOgraph                             html  
    read-gmt                                html  
    reexports                               html  
    search_kegg_organism                    html  
    simplify-methods                        html  
    uniprot_get                             html  
    viewKEGG                                html  
** building package indices
** installing vignettes
** testing if installed package can be loaded from temporary location
** testing if installed package can be loaded from final location
** testing if installed package keeps a record of temporary installation path
install for x64
* installing *source* package 'clusterProfiler' ...
** testing if installed package can be loaded
* MD5 sums
packaged installation of 'clusterProfiler' as clusterProfiler_3.18.1.zip
* DONE (clusterProfiler)