| Back to Multiple platform build/check report for BioC 3.12 | 
 | 
This page was generated on 2021-05-06 12:30:19 -0400 (Thu, 06 May 2021).
| To the developers/maintainers of the clustComp package: Please make sure to use the following settings in order to reproduce any error or warning you see on this page. | 
| Package 320/1974 | Hostname | OS / Arch | INSTALL | BUILD | CHECK | BUILD BIN | ||||||||
| clustComp 1.18.0  (landing page) Aurora Torrente 
 | malbec1 | Linux (Ubuntu 18.04.5 LTS) / x86_64 | OK | OK | OK |  | ||||||||
| tokay1 | Windows Server 2012 R2 Standard / x64 | OK | OK | OK | OK |  | ||||||||
| merida1 | macOS 10.14.6 Mojave / x86_64 | OK | OK | OK | OK |  | ||||||||
| Package: clustComp | 
| Version: 1.18.0 | 
| Command: C:\cygwin\bin\curl.exe -O http://172.29.0.3/BBS/3.12/bioc/src/contrib/clustComp_1.18.0.tar.gz && rm -rf clustComp.buildbin-libdir && mkdir clustComp.buildbin-libdir && C:\Users\biocbuild\bbs-3.12-bioc\R\bin\R.exe CMD INSTALL --merge-multiarch --build --library=clustComp.buildbin-libdir clustComp_1.18.0.tar.gz && C:\Users\biocbuild\bbs-3.12-bioc\R\bin\R.exe CMD INSTALL clustComp_1.18.0.zip && rm clustComp_1.18.0.tar.gz clustComp_1.18.0.zip | 
| StartedAt: 2021-05-05 16:40:19 -0400 (Wed, 05 May 2021) | 
| EndedAt: 2021-05-05 16:40:50 -0400 (Wed, 05 May 2021) | 
| EllapsedTime: 30.9 seconds | 
| RetCode: 0 | 
| Status: OK | 
##############################################################################
##############################################################################
###
### Running command:
###
###   C:\cygwin\bin\curl.exe -O http://172.29.0.3/BBS/3.12/bioc/src/contrib/clustComp_1.18.0.tar.gz && rm -rf clustComp.buildbin-libdir && mkdir clustComp.buildbin-libdir && C:\Users\biocbuild\bbs-3.12-bioc\R\bin\R.exe CMD INSTALL --merge-multiarch --build --library=clustComp.buildbin-libdir clustComp_1.18.0.tar.gz && C:\Users\biocbuild\bbs-3.12-bioc\R\bin\R.exe CMD INSTALL clustComp_1.18.0.zip && rm clustComp_1.18.0.tar.gz clustComp_1.18.0.zip
###
##############################################################################
##############################################################################
  % Total    % Received % Xferd  Average Speed   Time    Time     Time  Current
                                 Dload  Upload   Total   Spent    Left  Speed
  0     0    0     0    0     0      0      0 --:--:-- --:--:-- --:--:--     0
100 29885  100 29885    0     0   684k      0 --:--:-- --:--:-- --:--:--  694k
install for i386
* installing *source* package 'clustComp' ...
** using staged installation
** R
** inst
** byte-compile and prepare package for lazy loading
** help
*** installing help indices
  converting help for package 'clustComp'
    finding HTML links ... done
    SCmapping                               html  
    barycentre                              html  
    drawTreeGraph                           html  
    dyn.cross                               html  
    flatVSflat                              html  
    flatVShier                              html  
    insert                                  html  
    score.crossing                          html  
    score.it                                html  
** building package indices
** installing vignettes
** testing if installed package can be loaded from temporary location
** testing if installed package can be loaded from final location
** testing if installed package keeps a record of temporary installation path
install for x64
* installing *source* package 'clustComp' ...
** testing if installed package can be loaded
* MD5 sums
packaged installation of 'clustComp' as clustComp_1.18.0.zip
* DONE (clustComp)
* installing to library 'C:/Users/biocbuild/bbs-3.12-bioc/R/library'
package 'clustComp' successfully unpacked and MD5 sums checked