| Back to Multiple platform build/check report for BioC 3.12 |
|
This page was generated on 2021-05-06 12:34:33 -0400 (Thu, 06 May 2021).
|
To the developers/maintainers of the clustComp package: Please make sure to use the following settings in order to reproduce any error or warning you see on this page. |
| Package 320/1974 | Hostname | OS / Arch | INSTALL | BUILD | CHECK | BUILD BIN | ||||||||
| clustComp 1.18.0 (landing page) Aurora Torrente
| malbec1 | Linux (Ubuntu 18.04.5 LTS) / x86_64 | OK | OK | OK | |||||||||
| tokay1 | Windows Server 2012 R2 Standard / x64 | OK | OK | OK | OK | |||||||||
| merida1 | macOS 10.14.6 Mojave / x86_64 | OK | OK | OK | OK | |||||||||
| Package: clustComp |
| Version: 1.18.0 |
| Command: rm -rf clustComp.buildbin-libdir && mkdir clustComp.buildbin-libdir && /Users/biocbuild/BBS/utils/build-universal.sh clustComp_1.18.0.tar.gz /Library/Frameworks/R.framework/Versions/Current/Resources/bin/R clustComp.buildbin-libdir |
| StartedAt: 2021-05-06 08:13:46 -0400 (Thu, 06 May 2021) |
| EndedAt: 2021-05-06 08:14:43 -0400 (Thu, 06 May 2021) |
| EllapsedTime: 56.8 seconds |
| RetCode: 0 |
| Status: OK |
| PackageFile: clustComp_1.18.0.tgz |
| PackageFileSize: 924 KiB |
############################################################################## ############################################################################## ### ### Running command: ### ### rm -rf clustComp.buildbin-libdir && mkdir clustComp.buildbin-libdir && /Users/biocbuild/BBS/utils/build-universal.sh clustComp_1.18.0.tar.gz /Library/Frameworks/R.framework/Versions/Current/Resources/bin/R clustComp.buildbin-libdir ### ############################################################################## ############################################################################## >>>>>>> >>>>>>> INSTALLATION WITH 'R CMD INSTALL --preclean --no-multiarch --library=clustComp.buildbin-libdir clustComp_1.18.0.tar.gz' >>>>>>> * installing *source* package ‘clustComp’ ... ** using staged installation ** R ** inst ** byte-compile and prepare package for lazy loading ** help *** installing help indices ** building package indices ** installing vignettes ** testing if installed package can be loaded from temporary location ** testing if installed package can be loaded from final location ** testing if installed package keeps a record of temporary installation path * DONE (clustComp)