| Back to Multiple platform build/check report for BioC 3.12 |
|
This page was generated on 2021-05-06 12:30:03 -0400 (Thu, 06 May 2021).
|
To the developers/maintainers of the biosigner package: Please make sure to use the following settings in order to reproduce any error or warning you see on this page. |
| Package 186/1974 | Hostname | OS / Arch | INSTALL | BUILD | CHECK | BUILD BIN | ||||||||
| biosigner 1.18.2 (landing page) Philippe Rinaudo
| malbec1 | Linux (Ubuntu 18.04.5 LTS) / x86_64 | OK | OK | OK | |||||||||
| tokay1 | Windows Server 2012 R2 Standard / x64 | OK | OK | OK | OK | |||||||||
| merida1 | macOS 10.14.6 Mojave / x86_64 | OK | OK | OK | OK | |||||||||
| Package: biosigner |
| Version: 1.18.2 |
| Command: rm -rf biosigner.buildbin-libdir && mkdir biosigner.buildbin-libdir && C:\Users\biocbuild\bbs-3.12-bioc\R\bin\R.exe CMD INSTALL --merge-multiarch --build --library=biosigner.buildbin-libdir biosigner_1.18.2.tar.gz |
| StartedAt: 2021-05-06 08:34:11 -0400 (Thu, 06 May 2021) |
| EndedAt: 2021-05-06 08:35:10 -0400 (Thu, 06 May 2021) |
| EllapsedTime: 58.3 seconds |
| RetCode: 0 |
| Status: OK |
| PackageFile: biosigner_1.18.2.zip |
| PackageFileSize: 3.909 MiB |
##############################################################################
##############################################################################
###
### Running command:
###
### rm -rf biosigner.buildbin-libdir && mkdir biosigner.buildbin-libdir && C:\Users\biocbuild\bbs-3.12-bioc\R\bin\R.exe CMD INSTALL --merge-multiarch --build --library=biosigner.buildbin-libdir biosigner_1.18.2.tar.gz
###
##############################################################################
##############################################################################
install for i386
* installing *source* package 'biosigner' ...
** using staged installation
** R
** data
** inst
** byte-compile and prepare package for lazy loading
in method for 'biosign' with signature 'x="MultiDataSet"': no definition for class "MultiDataSet"
** help
*** installing help indices
converting help for package 'biosigner'
finding HTML links ... done
biosign-class html
biosign html
biosignMultiDataSet-class html
biosigner-package html
diaplasma html
getAccuracyMN html
getEset html
getMset html
getSignatureLs html
plot html
predict html
show html
** building package indices
** installing vignettes
** testing if installed package can be loaded from temporary location
** testing if installed package can be loaded from final location
** testing if installed package keeps a record of temporary installation path
install for x64
* installing *source* package 'biosigner' ...
** testing if installed package can be loaded
* MD5 sums
packaged installation of 'biosigner' as biosigner_1.18.2.zip
* DONE (biosigner)