| Back to Multiple platform build/check report for BioC 3.12 |
|
This page was generated on 2021-05-06 12:27:00 -0400 (Thu, 06 May 2021).
|
To the developers/maintainers of the biosigner package: Please make sure to use the following settings in order to reproduce any error or warning you see on this page. |
| Package 186/1974 | Hostname | OS / Arch | INSTALL | BUILD | CHECK | BUILD BIN | ||||||||
| biosigner 1.18.2 (landing page) Philippe Rinaudo
| malbec1 | Linux (Ubuntu 18.04.5 LTS) / x86_64 | OK | OK | OK | |||||||||
| tokay1 | Windows Server 2012 R2 Standard / x64 | OK | OK | OK | OK | |||||||||
| merida1 | macOS 10.14.6 Mojave / x86_64 | OK | OK | OK | OK | |||||||||
| Package: biosigner |
| Version: 1.18.2 |
| Command: /home/biocbuild/bbs-3.12-bioc/R/bin/R CMD check --install=check:biosigner.install-out.txt --library=/home/biocbuild/bbs-3.12-bioc/R/library --no-vignettes --timings biosigner_1.18.2.tar.gz |
| StartedAt: 2021-05-05 23:30:20 -0400 (Wed, 05 May 2021) |
| EndedAt: 2021-05-05 23:34:04 -0400 (Wed, 05 May 2021) |
| EllapsedTime: 224.3 seconds |
| RetCode: 0 |
| Status: OK |
| CheckDir: biosigner.Rcheck |
| Warnings: 0 |
##############################################################################
##############################################################################
###
### Running command:
###
### /home/biocbuild/bbs-3.12-bioc/R/bin/R CMD check --install=check:biosigner.install-out.txt --library=/home/biocbuild/bbs-3.12-bioc/R/library --no-vignettes --timings biosigner_1.18.2.tar.gz
###
##############################################################################
##############################################################################
* using log directory ‘/home/biocbuild/bbs-3.12-bioc/meat/biosigner.Rcheck’
* using R version 4.0.5 (2021-03-31)
* using platform: x86_64-pc-linux-gnu (64-bit)
* using session charset: UTF-8
* using option ‘--no-vignettes’
* checking for file ‘biosigner/DESCRIPTION’ ... OK
* checking extension type ... Package
* this is package ‘biosigner’ version ‘1.18.2’
* checking package namespace information ... OK
* checking package dependencies ... OK
* checking if this is a source package ... OK
* checking if there is a namespace ... OK
* checking for hidden files and directories ... OK
* checking for portable file names ... OK
* checking for sufficient/correct file permissions ... OK
* checking whether package ‘biosigner’ can be installed ... OK
* checking installed package size ... OK
* checking package directory ... OK
* checking ‘build’ directory ... OK
* checking DESCRIPTION meta-information ... OK
* checking top-level files ... OK
* checking for left-over files ... OK
* checking index information ... OK
* checking package subdirectories ... OK
* checking R files for non-ASCII characters ... OK
* checking R files for syntax errors ... OK
* checking whether the package can be loaded ... OK
* checking whether the package can be loaded with stated dependencies ... OK
* checking whether the package can be unloaded cleanly ... OK
* checking whether the namespace can be loaded with stated dependencies ... OK
* checking whether the namespace can be unloaded cleanly ... OK
* checking dependencies in R code ... NOTE
Namespace in Imports field not imported from: ‘MultiDataSet’
All declared Imports should be used.
* checking S3 generic/method consistency ... OK
* checking replacement functions ... OK
* checking foreign function calls ... OK
* checking R code for possible problems ... OK
* checking Rd files ... OK
* checking Rd metadata ... OK
* checking Rd cross-references ... OK
* checking for missing documentation entries ... OK
* checking for code/documentation mismatches ... OK
* checking Rd \usage sections ... OK
* checking Rd contents ... OK
* checking for unstated dependencies in examples ... OK
* checking contents of ‘data’ directory ... OK
* checking data for non-ASCII characters ... OK
* checking data for ASCII and uncompressed saves ... OK
* checking files in ‘vignettes’ ... OK
* checking examples ... OK
Examples with CPU (user + system) or elapsed time > 5s
user system elapsed
biosign 66.264 0.352 73.980
plot 49.272 0.020 49.370
getMset 38.292 0.028 38.366
* checking for unstated dependencies in vignettes ... OK
* checking package vignettes in ‘inst/doc’ ... OK
* checking running R code from vignettes ... SKIPPED
* checking re-building of vignette outputs ... SKIPPED
* checking PDF version of manual ... OK
* DONE
Status: 1 NOTE
See
‘/home/biocbuild/bbs-3.12-bioc/meat/biosigner.Rcheck/00check.log’
for details.
biosigner.Rcheck/00install.out
############################################################################## ############################################################################## ### ### Running command: ### ### /home/biocbuild/bbs-3.12-bioc/R/bin/R CMD INSTALL biosigner ### ############################################################################## ############################################################################## * installing to library ‘/home/biocbuild/bbs-3.12-bioc/R/library’ * installing *source* package ‘biosigner’ ... ** using staged installation ** R ** data ** inst ** byte-compile and prepare package for lazy loading in method for ‘biosign’ with signature ‘x="MultiDataSet"’: no definition for class “MultiDataSet” ** help *** installing help indices ** building package indices ** installing vignettes ** testing if installed package can be loaded from temporary location ** testing if installed package can be loaded from final location ** testing if installed package keeps a record of temporary installation path * DONE (biosigner)
biosigner.Rcheck/biosigner-Ex.timings
| name | user | system | elapsed | |
| biosign-class | 3.828 | 0.048 | 4.045 | |
| biosign | 66.264 | 0.352 | 73.980 | |
| biosignMultiDataSet-class | 0 | 0 | 0 | |
| biosigner-package | 4.400 | 0.012 | 4.425 | |
| getAccuracyMN | 3.736 | 0.004 | 4.736 | |
| getEset | 3.828 | 0.008 | 3.986 | |
| getMset | 38.292 | 0.028 | 38.366 | |
| getSignatureLs | 2.764 | 0.000 | 2.768 | |
| plot | 49.272 | 0.020 | 49.370 | |
| predict | 3.788 | 0.004 | 3.799 | |
| show | 2.708 | 0.008 | 2.717 | |