| Back to Multiple platform build/check report for BioC 3.12 |
|
This page was generated on 2021-05-06 12:30:03 -0400 (Thu, 06 May 2021).
|
To the developers/maintainers of the biomformat package: Please make sure to use the following settings in order to reproduce any error or warning you see on this page. |
| Package 178/1974 | Hostname | OS / Arch | INSTALL | BUILD | CHECK | BUILD BIN | ||||||||
| biomformat 1.18.0 (landing page) Paul J. McMurdie
| malbec1 | Linux (Ubuntu 18.04.5 LTS) / x86_64 | OK | OK | WARNINGS | |||||||||
| tokay1 | Windows Server 2012 R2 Standard / x64 | OK | OK | WARNINGS | OK | |||||||||
| merida1 | macOS 10.14.6 Mojave / x86_64 | OK | OK | WARNINGS | OK | |||||||||
| Package: biomformat |
| Version: 1.18.0 |
| Command: chmod a+r biomformat -R && C:\Users\biocbuild\bbs-3.12-bioc\R\bin\R.exe CMD build --keep-empty-dirs --no-resave-data biomformat |
| StartedAt: 2021-05-05 19:54:07 -0400 (Wed, 05 May 2021) |
| EndedAt: 2021-05-05 19:54:29 -0400 (Wed, 05 May 2021) |
| EllapsedTime: 21.5 seconds |
| RetCode: 0 |
| Status: OK |
| PackageFile: biomformat_1.18.0.tar.gz |
| PackageFileSize: 268.1 KiB |
############################################################################## ############################################################################## ### ### Running command: ### ### chmod a+r biomformat -R && C:\Users\biocbuild\bbs-3.12-bioc\R\bin\R.exe CMD build --keep-empty-dirs --no-resave-data biomformat ### ############################################################################## ############################################################################## * checking for file 'biomformat/DESCRIPTION' ... OK * preparing 'biomformat': * checking DESCRIPTION meta-information ... OK * installing the package to build vignettes * creating vignettes ... OK * checking for LF line-endings in source and make files and shell scripts * checking for empty or unneeded directories * building 'biomformat_1.18.0.tar.gz'