| Back to Multiple platform build/check report for BioC 3.12 |
|
This page was generated on 2021-05-06 12:30:00 -0400 (Thu, 06 May 2021).
|
To the developers/maintainers of the bigPint package: Please make sure to use the following settings in order to reproduce any error or warning you see on this page. |
| Package 150/1974 | Hostname | OS / Arch | INSTALL | BUILD | CHECK | BUILD BIN | ||||||||
| bigPint 1.6.0 (landing page) Lindsay Rutter
| malbec1 | Linux (Ubuntu 18.04.5 LTS) / x86_64 | OK | OK | OK | |||||||||
| tokay1 | Windows Server 2012 R2 Standard / x64 | OK | OK | OK | OK | |||||||||
| merida1 | macOS 10.14.6 Mojave / x86_64 | OK | OK | OK | OK | |||||||||
| Package: bigPint |
| Version: 1.6.0 |
| Command: rm -rf bigPint.buildbin-libdir && mkdir bigPint.buildbin-libdir && C:\Users\biocbuild\bbs-3.12-bioc\R\bin\R.exe CMD INSTALL --merge-multiarch --build --library=bigPint.buildbin-libdir bigPint_1.6.0.tar.gz |
| StartedAt: 2021-05-06 08:31:49 -0400 (Thu, 06 May 2021) |
| EndedAt: 2021-05-06 08:32:44 -0400 (Thu, 06 May 2021) |
| EllapsedTime: 55.5 seconds |
| RetCode: 0 |
| Status: OK |
| PackageFile: bigPint_1.6.0.zip |
| PackageFileSize: 5.64 MiB |
##############################################################################
##############################################################################
###
### Running command:
###
### rm -rf bigPint.buildbin-libdir && mkdir bigPint.buildbin-libdir && C:\Users\biocbuild\bbs-3.12-bioc\R\bin\R.exe CMD INSTALL --merge-multiarch --build --library=bigPint.buildbin-libdir bigPint_1.6.0.tar.gz
###
##############################################################################
##############################################################################
install for i386
* installing *source* package 'bigPint' ...
** using staged installation
** R
** data
*** moving datasets to lazyload DB
** inst
** byte-compile and prepare package for lazy loading
** help
*** installing help indices
converting help for package 'bigPint'
finding HTML links ... done
bigPint html
convertSEPair html
convertSESubsetGenes html
plotClusters html
plotLitre html
plotLitreApp html
plotPCP html
plotPCPApp html
plotSM html
plotSMApp html
plotVolcano html
plotVolcanoApp html
se_soybean_cn_sub html
se_soybean_ir_sub html
soybean_cn html
soybean_cn_metrics html
soybean_cn_sub html
soybean_cn_sub_metrics html
soybean_ir html
soybean_ir_metrics html
soybean_ir_sub html
soybean_ir_sub_metrics html
** building package indices
** installing vignettes
** testing if installed package can be loaded from temporary location
** testing if installed package can be loaded from final location
** testing if installed package keeps a record of temporary installation path
install for x64
* installing *source* package 'bigPint' ...
** testing if installed package can be loaded
* MD5 sums
packaged installation of 'bigPint' as bigPint_1.6.0.zip
* DONE (bigPint)