| Back to Multiple platform build/check report for BioC 3.12 |
|
This page was generated on 2021-05-06 12:34:12 -0400 (Thu, 06 May 2021).
|
To the developers/maintainers of the XCIR package: Please make sure to use the following settings in order to reproduce any error or warning you see on this page. |
| Package 1959/1974 | Hostname | OS / Arch | INSTALL | BUILD | CHECK | BUILD BIN | ||||||||
| XCIR 1.4.0 (landing page) Renan Sauteraud
| malbec1 | Linux (Ubuntu 18.04.5 LTS) / x86_64 | OK | OK | OK | |||||||||
| tokay1 | Windows Server 2012 R2 Standard / x64 | OK | OK | OK | OK | |||||||||
| merida1 | macOS 10.14.6 Mojave / x86_64 | OK | OK | OK | OK | |||||||||
| Package: XCIR |
| Version: 1.4.0 |
| Command: rm -rf XCIR.buildbin-libdir && mkdir XCIR.buildbin-libdir && C:\Users\biocbuild\bbs-3.12-bioc\R\bin\R.exe CMD INSTALL --merge-multiarch --build --library=XCIR.buildbin-libdir XCIR_1.4.0.tar.gz |
| StartedAt: 2021-05-06 10:21:50 -0400 (Thu, 06 May 2021) |
| EndedAt: 2021-05-06 10:23:08 -0400 (Thu, 06 May 2021) |
| EllapsedTime: 77.4 seconds |
| RetCode: 0 |
| Status: OK |
| PackageFile: XCIR_1.4.0.zip |
| PackageFileSize: 583.3 KiB |
##############################################################################
##############################################################################
###
### Running command:
###
### rm -rf XCIR.buildbin-libdir && mkdir XCIR.buildbin-libdir && C:\Users\biocbuild\bbs-3.12-bioc\R\bin\R.exe CMD INSTALL --merge-multiarch --build --library=XCIR.buildbin-libdir XCIR_1.4.0.tar.gz
###
##############################################################################
##############################################################################
install for i386
* installing *source* package 'XCIR' ...
** using staged installation
** R
** inst
** byte-compile and prepare package for lazy loading
** help
*** installing help indices
converting help for package 'XCIR'
finding HTML links ... done
BetaConversion html
XCIR-package html
addAnno html
annotateX html
betaBinomXI html
consensusXCI html
getGenicDP html
getXCIstate html
mart_genes html
plotBBCellFrac html
plotQC html
readRNASNPs html
readVCF4 html
readXCI html
sample_clean html
** building package indices
** installing vignettes
** testing if installed package can be loaded from temporary location
** testing if installed package can be loaded from final location
** testing if installed package keeps a record of temporary installation path
install for x64
* installing *source* package 'XCIR' ...
** testing if installed package can be loaded
* MD5 sums
packaged installation of 'XCIR' as XCIR_1.4.0.zip
* DONE (XCIR)