| Back to Multiple platform build/check report for BioC 3.12 |
|
This page was generated on 2021-05-06 12:29:40 -0400 (Thu, 06 May 2021).
|
To the developers/maintainers of the XCIR package: Please make sure to use the following settings in order to reproduce any error or warning you see on this page. |
| Package 1959/1974 | Hostname | OS / Arch | INSTALL | BUILD | CHECK | BUILD BIN | ||||||||
| XCIR 1.4.0 (landing page) Renan Sauteraud
| malbec1 | Linux (Ubuntu 18.04.5 LTS) / x86_64 | OK | OK | OK | |||||||||
| tokay1 | Windows Server 2012 R2 Standard / x64 | OK | OK | OK | OK | |||||||||
| merida1 | macOS 10.14.6 Mojave / x86_64 | OK | OK | OK | OK | |||||||||
| Package: XCIR |
| Version: 1.4.0 |
| Command: /home/biocbuild/bbs-3.12-bioc/R/bin/R CMD check --install=check:XCIR.install-out.txt --library=/home/biocbuild/bbs-3.12-bioc/R/library --no-vignettes --timings XCIR_1.4.0.tar.gz |
| StartedAt: 2021-05-06 07:06:58 -0400 (Thu, 06 May 2021) |
| EndedAt: 2021-05-06 07:13:28 -0400 (Thu, 06 May 2021) |
| EllapsedTime: 389.8 seconds |
| RetCode: 0 |
| Status: OK |
| CheckDir: XCIR.Rcheck |
| Warnings: 0 |
##############################################################################
##############################################################################
###
### Running command:
###
### /home/biocbuild/bbs-3.12-bioc/R/bin/R CMD check --install=check:XCIR.install-out.txt --library=/home/biocbuild/bbs-3.12-bioc/R/library --no-vignettes --timings XCIR_1.4.0.tar.gz
###
##############################################################################
##############################################################################
* using log directory ‘/home/biocbuild/bbs-3.12-bioc/meat/XCIR.Rcheck’
* using R version 4.0.5 (2021-03-31)
* using platform: x86_64-pc-linux-gnu (64-bit)
* using session charset: UTF-8
* using option ‘--no-vignettes’
* checking for file ‘XCIR/DESCRIPTION’ ... OK
* checking extension type ... Package
* this is package ‘XCIR’ version ‘1.4.0’
* checking package namespace information ... OK
* checking package dependencies ... OK
* checking if this is a source package ... OK
* checking if there is a namespace ... OK
* checking for hidden files and directories ... OK
* checking for portable file names ... OK
* checking for sufficient/correct file permissions ... OK
* checking whether package ‘XCIR’ can be installed ... OK
* checking installed package size ... OK
* checking package directory ... OK
* checking ‘build’ directory ... OK
* checking DESCRIPTION meta-information ... OK
* checking top-level files ... OK
* checking for left-over files ... OK
* checking index information ... OK
* checking package subdirectories ... OK
* checking R files for non-ASCII characters ... OK
* checking R files for syntax errors ... OK
* checking whether the package can be loaded ... OK
* checking whether the package can be loaded with stated dependencies ... OK
* checking whether the package can be unloaded cleanly ... OK
* checking whether the namespace can be loaded with stated dependencies ... OK
* checking whether the namespace can be unloaded cleanly ... OK
* checking dependencies in R code ... OK
* checking S3 generic/method consistency ... OK
* checking replacement functions ... OK
* checking foreign function calls ... OK
* checking R code for possible problems ... OK
* checking Rd files ... OK
* checking Rd metadata ... OK
* checking Rd cross-references ... OK
* checking for missing documentation entries ... OK
* checking for code/documentation mismatches ... OK
* checking Rd \usage sections ... OK
* checking Rd contents ... OK
* checking for unstated dependencies in examples ... OK
* checking files in ‘vignettes’ ... OK
* checking examples ... OK
Examples with CPU (user + system) or elapsed time > 5s
user system elapsed
betaBinomXI 9.464 0.032 9.477
sample_clean 8.096 0.004 8.070
plotQC 7.928 0.044 7.944
getXCIstate 7.196 0.080 7.247
addAnno 4.892 0.064 8.698
annotateX 3.936 0.024 7.657
getGenicDP 3.540 0.092 7.928
mart_genes 3.448 0.032 12.022
readRNASNPs 3.376 0.016 7.594
readVCF4 3.188 0.008 7.045
* checking for unstated dependencies in vignettes ... OK
* checking package vignettes in ‘inst/doc’ ... OK
* checking running R code from vignettes ... SKIPPED
* checking re-building of vignette outputs ... SKIPPED
* checking PDF version of manual ... OK
* DONE
Status: OK
XCIR.Rcheck/00install.out
############################################################################## ############################################################################## ### ### Running command: ### ### /home/biocbuild/bbs-3.12-bioc/R/bin/R CMD INSTALL XCIR ### ############################################################################## ############################################################################## * installing to library ‘/home/biocbuild/bbs-3.12-bioc/R/library’ * installing *source* package ‘XCIR’ ... ** using staged installation ** R ** inst ** byte-compile and prepare package for lazy loading ** help *** installing help indices ** building package indices ** installing vignettes ** testing if installed package can be loaded from temporary location ** testing if installed package can be loaded from final location ** testing if installed package keeps a record of temporary installation path * DONE (XCIR)
XCIR.Rcheck/XCIR-Ex.timings
| name | user | system | elapsed | |
| BetaConversion | 0.004 | 0.000 | 0.001 | |
| addAnno | 4.892 | 0.064 | 8.698 | |
| annotateX | 3.936 | 0.024 | 7.657 | |
| betaBinomXI | 9.464 | 0.032 | 9.477 | |
| consensusXCI | 0.064 | 0.004 | 0.107 | |
| getGenicDP | 3.540 | 0.092 | 7.928 | |
| getXCIstate | 7.196 | 0.080 | 7.247 | |
| mart_genes | 3.448 | 0.032 | 12.022 | |
| plotQC | 7.928 | 0.044 | 7.944 | |
| readRNASNPs | 3.376 | 0.016 | 7.594 | |
| readVCF4 | 3.188 | 0.008 | 7.045 | |
| readXCI | 0.004 | 0.000 | 0.018 | |
| sample_clean | 8.096 | 0.004 | 8.070 | |