| Back to Multiple platform build/check report for BioC 3.12 |
|
This page was generated on 2021-05-06 12:34:03 -0400 (Thu, 06 May 2021).
|
To the developers/maintainers of the TTMap package: Please make sure to use the following settings in order to reproduce any error or warning you see on this page. |
| Package 1909/1974 | Hostname | OS / Arch | INSTALL | BUILD | CHECK | BUILD BIN | ||||||||
| TTMap 1.12.0 (landing page) Rachel Jeitziner
| malbec1 | Linux (Ubuntu 18.04.5 LTS) / x86_64 | OK | OK | OK | |||||||||
| tokay1 | Windows Server 2012 R2 Standard / x64 | OK | OK | OK | OK | |||||||||
| merida1 | macOS 10.14.6 Mojave / x86_64 | ERROR | ERROR | skipped | skipped | |||||||||
| Package: TTMap |
| Version: 1.12.0 |
| Command: C:\cygwin\bin\curl.exe -O http://172.29.0.3/BBS/3.12/bioc/src/contrib/TTMap_1.12.0.tar.gz && rm -rf TTMap.buildbin-libdir && mkdir TTMap.buildbin-libdir && C:\Users\biocbuild\bbs-3.12-bioc\R\bin\R.exe CMD INSTALL --merge-multiarch --build --library=TTMap.buildbin-libdir TTMap_1.12.0.tar.gz && C:\Users\biocbuild\bbs-3.12-bioc\R\bin\R.exe CMD INSTALL TTMap_1.12.0.zip && rm TTMap_1.12.0.tar.gz TTMap_1.12.0.zip |
| StartedAt: 2021-05-05 17:43:12 -0400 (Wed, 05 May 2021) |
| EndedAt: 2021-05-05 17:44:04 -0400 (Wed, 05 May 2021) |
| EllapsedTime: 52.3 seconds |
| RetCode: 0 |
| Status: OK |
##############################################################################
##############################################################################
###
### Running command:
###
### C:\cygwin\bin\curl.exe -O http://172.29.0.3/BBS/3.12/bioc/src/contrib/TTMap_1.12.0.tar.gz && rm -rf TTMap.buildbin-libdir && mkdir TTMap.buildbin-libdir && C:\Users\biocbuild\bbs-3.12-bioc\R\bin\R.exe CMD INSTALL --merge-multiarch --build --library=TTMap.buildbin-libdir TTMap_1.12.0.tar.gz && C:\Users\biocbuild\bbs-3.12-bioc\R\bin\R.exe CMD INSTALL TTMap_1.12.0.zip && rm TTMap_1.12.0.tar.gz TTMap_1.12.0.zip
###
##############################################################################
##############################################################################
% Total % Received % Xferd Average Speed Time Time Time Current
Dload Upload Total Spent Left Speed
0 0 0 0 0 0 0 0 --:--:-- --:--:-- --:--:-- 0
100 361k 100 361k 0 0 7953k 0 --:--:-- --:--:-- --:--:-- 8220k
install for i386
* installing *source* package 'TTMap' ...
** using staged installation
** R
** byte-compile and prepare package for lazy loading
** help
*** installing help indices
converting help for package 'TTMap'
finding HTML links ... done
TTMap-package html
calcul_e html
control_adjustment html
generate_correlation html
hyperrectangle_deviation_assessment html
make_matrices-methods html
make_matrices html
finding level-2 HTML links ... done
ttmap html
ttmap_sgn_genes html
write_pcl html
** building package indices
** installing vignettes
** testing if installed package can be loaded from temporary location
** testing if installed package can be loaded from final location
** testing if installed package keeps a record of temporary installation path
install for x64
* installing *source* package 'TTMap' ...
** testing if installed package can be loaded
* MD5 sums
packaged installation of 'TTMap' as TTMap_1.12.0.zip
* DONE (TTMap)
* installing to library 'C:/Users/biocbuild/bbs-3.12-bioc/R/library'
package 'TTMap' successfully unpacked and MD5 sums checked