| Back to Multiple platform build/check report for BioC 3.12 |
|
This page was generated on 2021-05-06 12:34:04 -0400 (Thu, 06 May 2021).
|
To the developers/maintainers of the TTMap package: Please make sure to use the following settings in order to reproduce any error or warning you see on this page. |
| Package 1909/1974 | Hostname | OS / Arch | INSTALL | BUILD | CHECK | BUILD BIN | ||||||||
| TTMap 1.12.0 (landing page) Rachel Jeitziner
| malbec1 | Linux (Ubuntu 18.04.5 LTS) / x86_64 | OK | OK | OK | |||||||||
| tokay1 | Windows Server 2012 R2 Standard / x64 | OK | OK | OK | OK | |||||||||
| merida1 | macOS 10.14.6 Mojave / x86_64 | ERROR | ERROR | skipped | skipped | |||||||||
| Package: TTMap |
| Version: 1.12.0 |
| Command: rm -rf TTMap.buildbin-libdir && mkdir TTMap.buildbin-libdir && C:\Users\biocbuild\bbs-3.12-bioc\R\bin\R.exe CMD INSTALL --merge-multiarch --build --library=TTMap.buildbin-libdir TTMap_1.12.0.tar.gz |
| StartedAt: 2021-05-06 10:19:06 -0400 (Thu, 06 May 2021) |
| EndedAt: 2021-05-06 10:19:54 -0400 (Thu, 06 May 2021) |
| EllapsedTime: 48.3 seconds |
| RetCode: 0 |
| Status: OK |
| PackageFile: TTMap_1.12.0.zip |
| PackageFileSize: 1.403 MiB |
##############################################################################
##############################################################################
###
### Running command:
###
### rm -rf TTMap.buildbin-libdir && mkdir TTMap.buildbin-libdir && C:\Users\biocbuild\bbs-3.12-bioc\R\bin\R.exe CMD INSTALL --merge-multiarch --build --library=TTMap.buildbin-libdir TTMap_1.12.0.tar.gz
###
##############################################################################
##############################################################################
install for i386
* installing *source* package 'TTMap' ...
** using staged installation
** R
** inst
** byte-compile and prepare package for lazy loading
** help
*** installing help indices
converting help for package 'TTMap'
finding HTML links ... done
TTMap-package html
calcul_e html
control_adjustment html
generate_correlation html
hyperrectangle_deviation_assessment html
make_matrices-methods html
make_matrices html
finding level-2 HTML links ... done
ttmap html
ttmap_sgn_genes html
write_pcl html
** building package indices
** installing vignettes
** testing if installed package can be loaded from temporary location
** testing if installed package can be loaded from final location
** testing if installed package keeps a record of temporary installation path
install for x64
* installing *source* package 'TTMap' ...
** testing if installed package can be loaded
* MD5 sums
packaged installation of 'TTMap' as TTMap_1.12.0.zip
* DONE (TTMap)