| Back to Multiple platform build/check report for BioC 3.12 |
|
This page was generated on 2021-05-06 12:29:24 -0400 (Thu, 06 May 2021).
|
To the developers/maintainers of the TCC package: Please make sure to use the following settings in order to reproduce any error or warning you see on this page. |
| Package 1841/1974 | Hostname | OS / Arch | INSTALL | BUILD | CHECK | BUILD BIN | ||||||||
| TCC 1.30.0 (landing page) Jianqiang Sun
| malbec1 | Linux (Ubuntu 18.04.5 LTS) / x86_64 | OK | OK | OK | |||||||||
| tokay1 | Windows Server 2012 R2 Standard / x64 | OK | OK | WARNINGS | OK | |||||||||
| merida1 | macOS 10.14.6 Mojave / x86_64 | OK | OK | OK | OK | |||||||||
| Package: TCC |
| Version: 1.30.0 |
| Command: /home/biocbuild/bbs-3.12-bioc/R/bin/R CMD build --keep-empty-dirs --no-resave-data TCC |
| StartedAt: 2021-05-05 22:19:41 -0400 (Wed, 05 May 2021) |
| EndedAt: 2021-05-05 22:22:24 -0400 (Wed, 05 May 2021) |
| EllapsedTime: 162.9 seconds |
| RetCode: 0 |
| Status: OK |
| PackageFile: TCC_1.30.0.tar.gz |
| PackageFileSize: 3.099 MiB |
############################################################################## ############################################################################## ### ### Running command: ### ### /home/biocbuild/bbs-3.12-bioc/R/bin/R CMD build --keep-empty-dirs --no-resave-data TCC ### ############################################################################## ############################################################################## * checking for file ‘TCC/DESCRIPTION’ ... OK * preparing ‘TCC’: * checking DESCRIPTION meta-information ... OK * installing the package to build vignettes * creating vignettes ... OK * checking for LF line-endings in source and make files and shell scripts * checking for empty or unneeded directories * looking to see if a ‘data/datalist’ file should be added * building ‘TCC_1.30.0.tar.gz’