| Back to Multiple platform build/check report for BioC 3.12 |
|
This page was generated on 2021-05-06 12:29:06 -0400 (Thu, 06 May 2021).
|
To the developers/maintainers of the SharedObject package: Please make sure to use the following settings in order to reproduce any error or warning you see on this page. |
| Package 1694/1974 | Hostname | OS / Arch | INSTALL | BUILD | CHECK | BUILD BIN | ||||||||
| SharedObject 1.4.0 (landing page) Jiefei Wang
| malbec1 | Linux (Ubuntu 18.04.5 LTS) / x86_64 | OK | OK | ERROR | |||||||||
| tokay1 | Windows Server 2012 R2 Standard / x64 | OK | OK | OK | OK | |||||||||
| merida1 | macOS 10.14.6 Mojave / x86_64 | OK | OK | OK | OK | |||||||||
| Package: SharedObject |
| Version: 1.4.0 |
| Command: /home/biocbuild/bbs-3.12-bioc/R/bin/R CMD check --install=check:SharedObject.install-out.txt --library=/home/biocbuild/bbs-3.12-bioc/R/library --no-vignettes --timings SharedObject_1.4.0.tar.gz |
| StartedAt: 2021-05-06 05:59:41 -0400 (Thu, 06 May 2021) |
| EndedAt: 2021-05-06 06:02:23 -0400 (Thu, 06 May 2021) |
| EllapsedTime: 162.4 seconds |
| RetCode: 1 |
| Status: ERROR |
| CheckDir: SharedObject.Rcheck |
| Warnings: NA |
##############################################################################
##############################################################################
###
### Running command:
###
### /home/biocbuild/bbs-3.12-bioc/R/bin/R CMD check --install=check:SharedObject.install-out.txt --library=/home/biocbuild/bbs-3.12-bioc/R/library --no-vignettes --timings SharedObject_1.4.0.tar.gz
###
##############################################################################
##############################################################################
* using log directory ‘/home/biocbuild/bbs-3.12-bioc/meat/SharedObject.Rcheck’
* using R version 4.0.5 (2021-03-31)
* using platform: x86_64-pc-linux-gnu (64-bit)
* using session charset: UTF-8
* using option ‘--no-vignettes’
* checking for file ‘SharedObject/DESCRIPTION’ ... OK
* checking extension type ... Package
* this is package ‘SharedObject’ version ‘1.4.0’
* package encoding: UTF-8
* checking package namespace information ... OK
* checking package dependencies ... OK
* checking if this is a source package ... OK
* checking if there is a namespace ... OK
* checking for hidden files and directories ... OK
* checking for portable file names ... OK
* checking for sufficient/correct file permissions ... OK
* checking whether package ‘SharedObject’ can be installed ... OK
* checking installed package size ... NOTE
installed size is 9.4Mb
sub-directories of 1Mb or more:
libs 2.7Mb
usrlib 6.5Mb
* checking package directory ... OK
* checking ‘build’ directory ... OK
* checking DESCRIPTION meta-information ... OK
* checking top-level files ... OK
* checking for left-over files ... OK
* checking index information ... OK
* checking package subdirectories ... OK
* checking R files for non-ASCII characters ... OK
* checking R files for syntax errors ... OK
* checking whether the package can be loaded ... OK
* checking whether the package can be loaded with stated dependencies ... OK
* checking whether the package can be unloaded cleanly ... OK
* checking whether the namespace can be loaded with stated dependencies ... OK
* checking whether the namespace can be unloaded cleanly ... OK
* checking dependencies in R code ... OK
* checking S3 generic/method consistency ... OK
* checking replacement functions ... OK
* checking foreign function calls ... OK
* checking R code for possible problems ... OK
* checking Rd files ... OK
* checking Rd metadata ... OK
* checking Rd cross-references ... OK
* checking for missing documentation entries ... OK
* checking for code/documentation mismatches ... OK
* checking Rd \usage sections ... OK
* checking Rd contents ... OK
* checking for unstated dependencies in examples ... OK
* checking line endings in shell scripts ... OK
* checking line endings in C/C++/Fortran sources/headers ... OK
* checking line endings in Makefiles ... OK
* checking compilation flags in Makevars ... NOTE
Package has both ‘src/Makevars.in’ and ‘src/Makevars’.
Installation with --no-configure' is unlikely to work. If you intended
‘src/Makevars’ to be used on Windows, rename it to ‘src/Makevars.win’
otherwise remove it. If ‘configure’ created ‘src/Makevars’, you need a
‘cleanup’ script.
* checking for GNU extensions in Makefiles ... OK
* checking for portable use of $(BLAS_LIBS) and $(LAPACK_LIBS) ... OK
* checking use of PKG_*FLAGS in Makefiles ... OK
* checking compiled code ... NOTE
Note: information on .o files is not available
* checking files in ‘vignettes’ ... OK
* checking examples ... OK
* checking for unstated dependencies in ‘tests’ ... OK
* checking tests ...
Running ‘testthat.R’
ERROR
Running the tests in ‘tests/testthat.R’ failed.
Complete output:
> library(testthat)
> library(SharedObject)
>
> test_check("SharedObject")
══ Failed tests ════════════════════════════════════════════════════════════════
── Failure (test_memory.R:22:19): Testing small memory alloc/free: 1 ───────────
mydata[1:10] not equal to res[[1]][1:10].
Types not compatible: double is not NULL
[ FAIL 1 | WARN 4 | SKIP 0 | PASS 272 ]
Error: Test failures
Execution halted
* checking for unstated dependencies in vignettes ... OK
* checking package vignettes in ‘inst/doc’ ... OK
* checking running R code from vignettes ... SKIPPED
* checking re-building of vignette outputs ... SKIPPED
* checking PDF version of manual ... OK
* DONE
Status: 1 ERROR, 3 NOTEs
See
‘/home/biocbuild/bbs-3.12-bioc/meat/SharedObject.Rcheck/00check.log’
for details.
SharedObject.Rcheck/00install.out
############################################################################## ############################################################################## ### ### Running command: ### ### /home/biocbuild/bbs-3.12-bioc/R/bin/R CMD INSTALL SharedObject ### ############################################################################## ############################################################################## * installing to library ‘/home/biocbuild/bbs-3.12-bioc/R/library’ * installing *source* package ‘SharedObject’ ... ** using staged installation checking for gcc... gcc checking whether the C compiler works... yes checking for C compiler default output file name... a.out checking for suffix of executables... checking whether we are cross compiling... no checking for suffix of object files... o checking whether we are using the GNU C compiler... yes checking whether gcc accepts -g... yes checking for gcc option to accept ISO C89... none needed checking for shm_open in -lrt... yes configure: creating ./config.status config.status: creating src/Makevars ** libs rm -f "../inst/include/SharedObject/sharedMemory.h" &&\ rm -f "../inst/usrlib/SharedObject.a" &&\ mkdir -p ../inst/include&&\ mkdir -p ../inst/include/SharedObject&&\ mkdir -p ../inst/usrlib g++ -std=gnu++11 -I"/home/biocbuild/bbs-3.12-bioc/R/include" -DNDEBUG -DRCPP_USE_UNWIND_PROTECT -I'/home/biocbuild/bbs-3.12-bioc/R/library/BH/include' -I'/home/biocbuild/bbs-3.12-bioc/R/library/Rcpp/include' -I/usr/local/include -fpic -g -O2 -Wall -c C_interface.cpp -o C_interface.o g++ -std=gnu++11 -I"/home/biocbuild/bbs-3.12-bioc/R/include" -DNDEBUG -DRCPP_USE_UNWIND_PROTECT -I'/home/biocbuild/bbs-3.12-bioc/R/library/BH/include' -I'/home/biocbuild/bbs-3.12-bioc/R/library/Rcpp/include' -I/usr/local/include -fpic -g -O2 -Wall -c RcppExports.cpp -o RcppExports.o g++ -std=gnu++11 -I"/home/biocbuild/bbs-3.12-bioc/R/include" -DNDEBUG -DRCPP_USE_UNWIND_PROTECT -I'/home/biocbuild/bbs-3.12-bioc/R/library/BH/include' -I'/home/biocbuild/bbs-3.12-bioc/R/library/Rcpp/include' -I/usr/local/include -fpic -g -O2 -Wall -c altrepRegistration.cpp -o altrepRegistration.o g++ -std=gnu++11 -I"/home/biocbuild/bbs-3.12-bioc/R/include" -DNDEBUG -DRCPP_USE_UNWIND_PROTECT -I'/home/biocbuild/bbs-3.12-bioc/R/library/BH/include' -I'/home/biocbuild/bbs-3.12-bioc/R/library/Rcpp/include' -I/usr/local/include -fpic -g -O2 -Wall -c sharedMemory.cpp -o sharedMemory.o g++ -std=gnu++11 -I"/home/biocbuild/bbs-3.12-bioc/R/include" -DNDEBUG -DRCPP_USE_UNWIND_PROTECT -I'/home/biocbuild/bbs-3.12-bioc/R/library/BH/include' -I'/home/biocbuild/bbs-3.12-bioc/R/library/Rcpp/include' -I/usr/local/include -fpic -g -O2 -Wall -c tools.cpp -o tools.o g++ -std=gnu++11 -shared -L/home/biocbuild/bbs-3.12-bioc/R/lib -L/usr/local/lib -o SharedObject.so C_interface.o RcppExports.o altrepRegistration.o sharedMemory.o tools.o -lrt -L/home/biocbuild/bbs-3.12-bioc/R/lib -lR ar -crv SharedObject.a *.o a - C_interface.o a - RcppExports.o a - altrepRegistration.o a - sharedMemory.o a - tools.o cp "sharedMemory.h" "../inst/include/SharedObject/"&&\ cp "SharedObject.a" "../inst/usrlib/" rm -f ../config.* installing to /home/biocbuild/bbs-3.12-bioc/R/library/00LOCK-SharedObject/00new/SharedObject/libs ** R ** inst ** byte-compile and prepare package for lazy loading ** help *** installing help indices ** building package indices ** installing vignettes ** testing if installed package can be loaded from temporary location ** checking absolute paths in shared objects and dynamic libraries ** testing if installed package can be loaded from final location ** testing if installed package keeps a record of temporary installation path * DONE (SharedObject)
SharedObject.Rcheck/tests/testthat.Rout.fail
R version 4.0.5 (2021-03-31) -- "Shake and Throw"
Copyright (C) 2021 The R Foundation for Statistical Computing
Platform: x86_64-pc-linux-gnu (64-bit)
R is free software and comes with ABSOLUTELY NO WARRANTY.
You are welcome to redistribute it under certain conditions.
Type 'license()' or 'licence()' for distribution details.
R is a collaborative project with many contributors.
Type 'contributors()' for more information and
'citation()' on how to cite R or R packages in publications.
Type 'demo()' for some demos, 'help()' for on-line help, or
'help.start()' for an HTML browser interface to help.
Type 'q()' to quit R.
> library(testthat)
> library(SharedObject)
>
> test_check("SharedObject")
══ Failed tests ════════════════════════════════════════════════════════════════
── Failure (test_memory.R:22:19): Testing small memory alloc/free: 1 ───────────
mydata[1:10] not equal to res[[1]][1:10].
Types not compatible: double is not NULL
[ FAIL 1 | WARN 4 | SKIP 0 | PASS 272 ]
Error: Test failures
Execution halted
SharedObject.Rcheck/SharedObject-Ex.timings
| name | user | system | elapsed | |
| developer-API | 0.004 | 0.000 | 0.006 | |
| is.altrep | 0.004 | 0.000 | 0.004 | |
| is.shared | 0.06 | 0.00 | 0.06 | |
| listSharedObject | 0.012 | 0.000 | 0.010 | |
| pkgconfig | 0.000 | 0.000 | 0.002 | |
| share | 0.044 | 0.004 | 0.883 | |
| sharedObjectOptions | 0.000 | 0.004 | 0.001 | |
| sharedObjectProperty | 0.004 | 0.000 | 0.006 | |
| unshare | 0.000 | 0.000 | 0.001 | |