| Back to Multiple platform build/check report for BioC 3.12 |
|
This page was generated on 2021-05-06 12:33:26 -0400 (Thu, 06 May 2021).
|
To the developers/maintainers of the Scale4C package: Please make sure to use the following settings in order to reproduce any error or warning you see on this page. |
| Package 1624/1974 | Hostname | OS / Arch | INSTALL | BUILD | CHECK | BUILD BIN | ||||||||
| Scale4C 1.12.0 (landing page) Carolin Walter
| malbec1 | Linux (Ubuntu 18.04.5 LTS) / x86_64 | OK | OK | OK | |||||||||
| tokay1 | Windows Server 2012 R2 Standard / x64 | OK | OK | OK | OK | |||||||||
| merida1 | macOS 10.14.6 Mojave / x86_64 | OK | OK | OK | OK | |||||||||
| Package: Scale4C |
| Version: 1.12.0 |
| Command: C:\cygwin\bin\curl.exe -O http://172.29.0.3/BBS/3.12/bioc/src/contrib/Scale4C_1.12.0.tar.gz && rm -rf Scale4C.buildbin-libdir && mkdir Scale4C.buildbin-libdir && C:\Users\biocbuild\bbs-3.12-bioc\R\bin\R.exe CMD INSTALL --merge-multiarch --build --library=Scale4C.buildbin-libdir Scale4C_1.12.0.tar.gz && C:\Users\biocbuild\bbs-3.12-bioc\R\bin\R.exe CMD INSTALL Scale4C_1.12.0.zip && rm Scale4C_1.12.0.tar.gz Scale4C_1.12.0.zip |
| StartedAt: 2021-05-05 17:41:28 -0400 (Wed, 05 May 2021) |
| EndedAt: 2021-05-05 17:42:19 -0400 (Wed, 05 May 2021) |
| EllapsedTime: 51.1 seconds |
| RetCode: 0 |
| Status: OK |
##############################################################################
##############################################################################
###
### Running command:
###
### C:\cygwin\bin\curl.exe -O http://172.29.0.3/BBS/3.12/bioc/src/contrib/Scale4C_1.12.0.tar.gz && rm -rf Scale4C.buildbin-libdir && mkdir Scale4C.buildbin-libdir && C:\Users\biocbuild\bbs-3.12-bioc\R\bin\R.exe CMD INSTALL --merge-multiarch --build --library=Scale4C.buildbin-libdir Scale4C_1.12.0.tar.gz && C:\Users\biocbuild\bbs-3.12-bioc\R\bin\R.exe CMD INSTALL Scale4C_1.12.0.zip && rm Scale4C_1.12.0.tar.gz Scale4C_1.12.0.zip
###
##############################################################################
##############################################################################
% Total % Received % Xferd Average Speed Time Time Time Current
Dload Upload Total Spent Left Speed
0 0 0 0 0 0 0 0 --:--:-- --:--:-- --:--:-- 0
100 3301k 100 3301k 0 0 36.2M 0 --:--:-- --:--:-- --:--:-- 36.6M
install for i386
* installing *source* package 'Scale4C' ...
** using staged installation
** R
** data
** inst
** byte-compile and prepare package for lazy loading
** help
*** installing help indices
converting help for package 'Scale4C'
finding HTML links ... done
Scale4C-class html
Scale4C html
addPointsOfInterest html
calculateFingerprintMap html
calculateScaleSpace html
findSingularities html
importBasic4CseqData html
liverData html
liverDataVP html
outputScaleSpaceTree html
plotInflectionPoints html
plotTesselation html
plotTraceback html
** building package indices
** installing vignettes
** testing if installed package can be loaded from temporary location
** testing if installed package can be loaded from final location
** testing if installed package keeps a record of temporary installation path
install for x64
* installing *source* package 'Scale4C' ...
** testing if installed package can be loaded
* MD5 sums
packaged installation of 'Scale4C' as Scale4C_1.12.0.zip
* DONE (Scale4C)
* installing to library 'C:/Users/biocbuild/bbs-3.12-bioc/R/library'
package 'Scale4C' successfully unpacked and MD5 sums checked