| Back to Multiple platform build/check report for BioC 3.12 |
|
This page was generated on 2021-05-06 12:36:51 -0400 (Thu, 06 May 2021).
|
To the developers/maintainers of the SLGI package: Please make sure to use the following settings in order to reproduce any error or warning you see on this page. |
| Package 1733/1974 | Hostname | OS / Arch | INSTALL | BUILD | CHECK | BUILD BIN | ||||||||
| SLGI 1.50.0 (landing page) Nolwenn Le Meur
| malbec1 | Linux (Ubuntu 18.04.5 LTS) / x86_64 | OK | OK | OK | |||||||||
| tokay1 | Windows Server 2012 R2 Standard / x64 | OK | OK | OK | OK | |||||||||
| merida1 | macOS 10.14.6 Mojave / x86_64 | OK | OK | OK | OK | |||||||||
| Package: SLGI |
| Version: 1.50.0 |
| Command: /Library/Frameworks/R.framework/Versions/Current/Resources/bin/R CMD check --install=check:SLGI.install-out.txt --library=/Library/Frameworks/R.framework/Versions/Current/Resources/library --no-vignettes --timings SLGI_1.50.0.tar.gz |
| StartedAt: 2021-05-06 06:21:38 -0400 (Thu, 06 May 2021) |
| EndedAt: 2021-05-06 06:25:31 -0400 (Thu, 06 May 2021) |
| EllapsedTime: 233.6 seconds |
| RetCode: 0 |
| Status: OK |
| CheckDir: SLGI.Rcheck |
| Warnings: 0 |
##############################################################################
##############################################################################
###
### Running command:
###
### /Library/Frameworks/R.framework/Versions/Current/Resources/bin/R CMD check --install=check:SLGI.install-out.txt --library=/Library/Frameworks/R.framework/Versions/Current/Resources/library --no-vignettes --timings SLGI_1.50.0.tar.gz
###
##############################################################################
##############################################################################
* using log directory ‘/Users/biocbuild/bbs-3.12-bioc/meat/SLGI.Rcheck’
* using R version 4.0.5 (2021-03-31)
* using platform: x86_64-apple-darwin17.0 (64-bit)
* using session charset: UTF-8
* using option ‘--no-vignettes’
* checking for file ‘SLGI/DESCRIPTION’ ... OK
* this is package ‘SLGI’ version ‘1.50.0’
* checking package namespace information ... OK
* checking package dependencies ... OK
* checking if this is a source package ... OK
* checking if there is a namespace ... OK
* checking for hidden files and directories ... OK
* checking for portable file names ... OK
* checking for sufficient/correct file permissions ... OK
* checking whether package ‘SLGI’ can be installed ... OK
* checking installed package size ... NOTE
installed size is 15.9Mb
sub-directories of 1Mb or more:
data 4.2Mb
extdata 11.3Mb
* checking package directory ... OK
* checking ‘build’ directory ... OK
* checking DESCRIPTION meta-information ... NOTE
Malformed Description field: should contain one or more complete sentences.
Packages listed in more than one of Depends, Imports, Suggests, Enhances:
‘ScISI’ ‘lattice’ ‘GO.db’
A package should be listed in only one of these fields.
* checking top-level files ... OK
* checking for left-over files ... OK
* checking index information ... OK
* checking package subdirectories ... OK
* checking R files for non-ASCII characters ... OK
* checking R files for syntax errors ... OK
* checking whether the package can be loaded ... OK
* checking whether the package can be loaded with stated dependencies ... OK
* checking whether the package can be unloaded cleanly ... OK
* checking whether the namespace can be loaded with stated dependencies ... OK
* checking whether the namespace can be unloaded cleanly ... OK
* checking dependencies in R code ... NOTE
'library' or 'require' call to ‘GO.db’ in package code.
Please use :: or requireNamespace() instead.
See section 'Suggested packages' in the 'Writing R Extensions' manual.
* checking S3 generic/method consistency ... OK
* checking replacement functions ... OK
* checking foreign function calls ... OK
* checking R code for possible problems ... OK
* checking Rd files ... OK
* checking Rd metadata ... OK
* checking Rd cross-references ... OK
* checking for missing documentation entries ... OK
* checking for code/documentation mismatches ... OK
* checking Rd \usage sections ... OK
* checking Rd contents ... OK
* checking for unstated dependencies in examples ... OK
* checking contents of ‘data’ directory ... OK
* checking data for non-ASCII characters ... OK
* checking data for ASCII and uncompressed saves ... OK
* checking sizes of PDF files under ‘inst/doc’ ... OK
* checking files in ‘vignettes’ ... OK
* checking examples ... OK
Examples with CPU (user + system) or elapsed time > 5s
user system elapsed
iSummary 17.396 0.862 18.280
plot 7.431 2.361 9.828
modelSLGI 7.714 1.980 9.705
siResult-class 7.534 1.805 9.396
compare 7.667 1.556 9.233
* checking for unstated dependencies in vignettes ... OK
* checking package vignettes in ‘inst/doc’ ... OK
* checking running R code from vignettes ... SKIPPED
* checking re-building of vignette outputs ... SKIPPED
* checking PDF version of manual ... OK
* DONE
Status: 3 NOTEs
See
‘/Users/biocbuild/bbs-3.12-bioc/meat/SLGI.Rcheck/00check.log’
for details.
SLGI.Rcheck/00install.out
############################################################################## ############################################################################## ### ### Running command: ### ### /Library/Frameworks/R.framework/Versions/Current/Resources/bin/R CMD INSTALL SLGI ### ############################################################################## ############################################################################## * installing to library ‘/Library/Frameworks/R.framework/Versions/4.0/Resources/library’ * installing *source* package ‘SLGI’ ... ** using staged installation ** R ** data ** inst ** byte-compile and prepare package for lazy loading No methods found in package ‘Biobase’ for request: ‘listlen’ when loading ‘RpsiXML’ No methods found in package ‘annotate’ for requests: ‘pubmed’, ‘buildPubMedAbst’ when loading ‘RpsiXML’ No methods found in package ‘BiocGenerics’ for request: ‘plot’ when loading ‘SLGI’ ** help *** installing help indices ** building package indices ** installing vignettes ** testing if installed package can be loaded from temporary location No methods found in package ‘Biobase’ for request: ‘listlen’ when loading ‘RpsiXML’ No methods found in package ‘annotate’ for requests: ‘pubmed’, ‘buildPubMedAbst’ when loading ‘RpsiXML’ No methods found in package ‘BiocGenerics’ for request: ‘plot’ when loading ‘SLGI’ ** testing if installed package can be loaded from final location No methods found in package ‘Biobase’ for request: ‘listlen’ when loading ‘RpsiXML’ No methods found in package ‘annotate’ for requests: ‘pubmed’, ‘buildPubMedAbst’ when loading ‘RpsiXML’ No methods found in package ‘BiocGenerics’ for request: ‘plot’ when loading ‘SLGI’ ** testing if installed package keeps a record of temporary installation path * DONE (SLGI)
SLGI.Rcheck/SLGI-Ex.timings
| name | user | system | elapsed | |
| Atong | 0.023 | 0.006 | 0.029 | |
| AtongFnDomain | 2.744 | 0.071 | 2.818 | |
| AtongPair | 0.599 | 0.016 | 0.617 | |
| SDL | 0.005 | 0.004 | 0.009 | |
| SGA | 0.005 | 0.002 | 0.007 | |
| SGD.SL | 0.143 | 0.005 | 0.149 | |
| TFmat | 0.101 | 0.006 | 0.108 | |
| byComplex | 0.282 | 0.028 | 0.310 | |
| comemberIn | 0.510 | 0.039 | 0.551 | |
| compare | 7.667 | 1.556 | 9.233 | |
| congruence | 0.003 | 0.001 | 0.004 | |
| createSquareMatrix | 0.093 | 0.009 | 0.102 | |
| domainDist | 2.817 | 0.037 | 2.857 | |
| essglist | 0.012 | 0.011 | 0.022 | |
| getInteraction | 0.003 | 0.001 | 0.003 | |
| getSharedDomains | 0.014 | 0.002 | 0.016 | |
| getSharedInteraction | 0.003 | 0.000 | 0.002 | |
| getTestedPairs | 0.010 | 0.001 | 0.012 | |
| getUniquePairs | 0.020 | 0.003 | 0.023 | |
| gi2005 | 0.046 | 0.013 | 0.059 | |
| gi2007 | 0.140 | 0.016 | 0.156 | |
| gi2Interactome | 0.001 | 0.000 | 0.001 | |
| hyperG | 0.005 | 0.001 | 0.006 | |
| iSummary | 17.396 | 0.862 | 18.280 | |
| modelSLGI | 7.714 | 1.980 | 9.705 | |
| normInteraction | 3.681 | 0.865 | 4.560 | |
| plot | 7.431 | 2.361 | 9.828 | |
| seqMatcherAlign | 0 | 0 | 0 | |
| sharedBy | 2.684 | 0.034 | 2.725 | |
| sharedInt | 0.004 | 0.001 | 0.004 | |
| siResult-class | 7.534 | 1.805 | 9.396 | |
| test2Interact | 0.004 | 0.001 | 0.005 | |
| topInteraction | 3.820 | 0.826 | 4.664 | |
| twoWayTable | 3.564 | 0.074 | 3.672 | |
| withinComplex | 0.313 | 0.028 | 0.342 | |